BEGIN:VCALENDAR
VERSION:2.0
PRODID:-//Newton Cultural Alliance - ECPv6.13.2.1//NONSGML v1.0//EN
CALSCALE:GREGORIAN
METHOD:PUBLISH
X-WR-CALNAME:Newton Cultural Alliance
X-ORIGINAL-URL:https://newtonculture.org
X-WR-CALDESC:Events for Newton Cultural Alliance
REFRESH-INTERVAL;VALUE=DURATION:PT1H
X-Robots-Tag:noindex
X-PUBLISHED-TTL:PT1H
BEGIN:VTIMEZONE
TZID:America/New_York
BEGIN:DAYLIGHT
TZOFFSETFROM:-0500
TZOFFSETTO:-0400
TZNAME:EDT
DTSTART:20210314T070000
END:DAYLIGHT
BEGIN:STANDARD
TZOFFSETFROM:-0400
TZOFFSETTO:-0500
TZNAME:EST
DTSTART:20211107T060000
END:STANDARD
END:VTIMEZONE
BEGIN:VEVENT
DTSTART;TZID=America/New_York:20210605T130000
DTEND;TZID=America/New_York:20210605T130000
DTSTAMP:20260421T121505
CREATED:20210507T141327Z
LAST-MODIFIED:20210507T141327Z
UID:10019554-1622898000-1622898000@newtonculture.org
SUMMARY:Scandinavian Cultural Center presents: Live and In Person - Oskar Stenmark
DESCRIPTION:Oskar Stenmark and Alex Pryrodny met in New York City 2014 and formed a strong bond over improvisation\, jazz and folk music. Now\, they are taking their artistic collaboration to a new level by performing live for the first time since 2019. Their focus is now on classical music\, paying homage to Scandinavian composers such as Grieg\, Stenhammar\, Sibelius and Nielsen. This is a project that Oskar originally planned for 2020 but the pandemic slowed down the process significantly\, this will be their first time playing this music together so get ready for an intimate and meaningful concert. \nThis concert will happen outside on our front lawn. Please bring chairs and/or umbrellas if needed. Proper distancing and masks required. \nSaturday\, June 5th | 1pm | $15 for a single ticket\, family tickets $45 for 2 adults and minor children; $7 for SCC members. Register here.
URL:https://newtonculture.org/event/scandinavian-cultural-center-presents-live-and-in-person-oskar-stenmark/
LOCATION:Scandinavian Cultural Center\, 206 Waltham St\, Newton\, MA\, 02465\, United States
CATEGORIES:Community Event,Culture and Education,Music
ATTACH;FMTTYPE=image/jpeg:https://newtonculture.org/wp-content/uploads/2021/05/oskar-street-600x266-1.jpeg
END:VEVENT
BEGIN:VEVENT
DTSTART;TZID=America/New_York:20210605T150000
DTEND;TZID=America/New_York:20210605T180000
DTSTAMP:20260421T121505
CREATED:20210512T154946Z
LAST-MODIFIED:20210512T154946Z
UID:10019555-1622905200-1622916000@newtonculture.org
SUMMARY:Suzuki School of Newton presents: June Solo Recitals
DESCRIPTION:Join the students of the Suzuki School of Newton on Zoom for the virtual June Solo Recitals! You can see the hard work the students put into polishing their pieces. They will be in three sessions on Saturday June 5th and Sunday June 6th — one at 3:15\, 4:15 and 5:15. The Zoom link will be given out in our Friday Upbeats\, or by request upon sending an email to email@suzukinewton.org.
URL:https://newtonculture.org/event/suzuki-school-of-newton-presents-june-solo-recitals/2021-06-05/
LOCATION:Zoom
CATEGORIES:Music
ATTACH;FMTTYPE=image/png:https://newtonculture.org/wp-content/uploads/2021/05/June-Solo-Recitals-Marketing.png
ORGANIZER;CN="Suzuki School of Newton":MAILTO:email@suzukinewton.org
END:VEVENT
BEGIN:VEVENT
DTSTART;TZID=America/New_York:20210605T173000
DTEND;TZID=America/New_York:20210605T173000
DTSTAMP:20260421T121505
CREATED:20210518T153737Z
LAST-MODIFIED:20210518T153737Z
UID:10018827-1622914200-1622914200@newtonculture.org
SUMMARY:New Rep Theatre presents: Listen to Sipu
DESCRIPTION:Listen to Sipu – A Watertown Historical Moving Play\n\nBy Morgan (Mwalim) J. Peters\nDirected by Jaime Carrillo \n\nFollowing the success of New Rep’s first Historical Moving Play\, the Charles W. Experience\, audiences were clamoring for more. Listen to Sipu answers the call with a captivating and powerful story that illuminates Watertown’s Indigenous history. Join in on a socially-distanced performance lead by a modern-day Tour Guide and meet Sipu\, a quick-witted Indigenous woman who’s more than willing to correct misinformation when she hears it.  Armed with facts\, The Tour Guide begins describing Watertown’s local history only to find that the facts are missing a lot of truths. Sipu is ready to step in and set the record straight\, as long as audiences are ready to listen. Click here to buy tickets.
URL:https://newtonculture.org/event/new-rep-theatre-presents-listen-to-sipu/2021-06-05/
LOCATION:The Commander’s Mansion\, 440 Talcott Avenue\, Watertown\, MA\, 02472\, United States
CATEGORIES:Community Event,Culture and Education,Performing Arts
ATTACH;FMTTYPE=image/jpeg:https://newtonculture.org/wp-content/uploads/2021/05/LISTEN_TO_SIPU_GRAPHIC-2.jpeg
END:VEVENT
END:VCALENDAR