BEGIN:VCALENDAR
VERSION:2.0
PRODID:-//Newton Cultural Alliance - ECPv6.13.2.1//NONSGML v1.0//EN
CALSCALE:GREGORIAN
METHOD:PUBLISH
X-WR-CALNAME:Newton Cultural Alliance
X-ORIGINAL-URL:https://newtonculture.org
X-WR-CALDESC:Events for Newton Cultural Alliance
REFRESH-INTERVAL;VALUE=DURATION:PT1H
X-Robots-Tag:noindex
X-PUBLISHED-TTL:PT1H
BEGIN:VTIMEZONE
TZID:America/New_York
BEGIN:DAYLIGHT
TZOFFSETFROM:-0500
TZOFFSETTO:-0400
TZNAME:EDT
DTSTART:20210314T070000
END:DAYLIGHT
BEGIN:STANDARD
TZOFFSETFROM:-0400
TZOFFSETTO:-0500
TZNAME:EST
DTSTART:20211107T060000
END:STANDARD
END:VTIMEZONE
BEGIN:VEVENT
DTSTART;TZID=America/New_York:20210610T173000
DTEND;TZID=America/New_York:20210610T173000
DTSTAMP:20260421T210222
CREATED:20210518T153737Z
LAST-MODIFIED:20210518T153737Z
UID:10018830-1623346200-1623346200@newtonculture.org
SUMMARY:New Rep Theatre presents: Listen to Sipu
DESCRIPTION:Listen to Sipu – A Watertown Historical Moving Play\n\nBy Morgan (Mwalim) J. Peters\nDirected by Jaime Carrillo \n\nFollowing the success of New Rep’s first Historical Moving Play\, the Charles W. Experience\, audiences were clamoring for more. Listen to Sipu answers the call with a captivating and powerful story that illuminates Watertown’s Indigenous history. Join in on a socially-distanced performance lead by a modern-day Tour Guide and meet Sipu\, a quick-witted Indigenous woman who’s more than willing to correct misinformation when she hears it.  Armed with facts\, The Tour Guide begins describing Watertown’s local history only to find that the facts are missing a lot of truths. Sipu is ready to step in and set the record straight\, as long as audiences are ready to listen. Click here to buy tickets.
URL:https://newtonculture.org/event/new-rep-theatre-presents-listen-to-sipu/2021-06-10/
LOCATION:The Commander’s Mansion\, 440 Talcott Avenue\, Watertown\, MA\, 02472\, United States
CATEGORIES:Community Event,Culture and Education,Performing Arts
ATTACH;FMTTYPE=image/jpeg:https://newtonculture.org/wp-content/uploads/2021/05/LISTEN_TO_SIPU_GRAPHIC-2.jpeg
END:VEVENT
BEGIN:VEVENT
DTSTART;TZID=America/New_York:20210610T190000
DTEND;TZID=America/New_York:20210610T200000
DTSTAMP:20260421T210222
CREATED:20210517T161911Z
LAST-MODIFIED:20210517T161914Z
UID:10018816-1623351600-1623355200@newtonculture.org
SUMMARY:Newton Free Library presents: The Cooking Gene with Michael Twitty
DESCRIPTION:This program is presented in partnership with the Groton Public Library. Please register here. \nFor African American culinary historian Michael W. Twitty there was a giant hole in the story of American cooking as big as the one in the story of most African American families. Putting the microscope on himself\, Michael decided to fully trace out his family history through the story of Southern and American food. Using genetic research\, historic interpretation\, nature study\, heirloom gardening and interviews with contemporary voices in food\, his journey led him back to his family’s origins in West and Central Africa and a front ring seat in the debate over race and food in American life. Join Michael W. Twitty for an engaging evening moderated by Chef Bill\, a Massachusetts-based chef and author. You can follow Michael Twitty on his popular blog\, Afroculinara. \nRegistration for this program will end two hours before the start time. The login information will be sent just after registration closes. Please be sure to check your spam folder in case it lands there.
URL:https://newtonculture.org/event/newton-free-library-presents-the-cooking-gene-with-michael-twitty/
LOCATION:ONLINE\, United Kingdom\, E16 2DQ
CATEGORIES:Community Event,Culture and Education
ATTACH;FMTTYPE=image/png:https://newtonculture.org/wp-content/uploads/2021/05/06-10_Program_TheCookingGeneBookCover.png
ORGANIZER;CN="Newton Free Library":MAILTO:admin@newtonfreelibrary.net
END:VEVENT
END:VCALENDAR