BEGIN:VCALENDAR
VERSION:2.0
PRODID:-//Newton Cultural Alliance - ECPv6.13.2.1//NONSGML v1.0//EN
CALSCALE:GREGORIAN
METHOD:PUBLISH
X-ORIGINAL-URL:https://newtonculture.org
X-WR-CALDESC:Events for Newton Cultural Alliance
REFRESH-INTERVAL;VALUE=DURATION:PT1H
X-Robots-Tag:noindex
X-PUBLISHED-TTL:PT1H
BEGIN:VTIMEZONE
TZID:America/New_York
BEGIN:DAYLIGHT
TZOFFSETFROM:-0500
TZOFFSETTO:-0400
TZNAME:EDT
DTSTART:20210314T070000
END:DAYLIGHT
BEGIN:STANDARD
TZOFFSETFROM:-0400
TZOFFSETTO:-0500
TZNAME:EST
DTSTART:20211107T060000
END:STANDARD
END:VTIMEZONE
BEGIN:VEVENT
DTSTART;TZID=America/New_York:20210703T140000
DTEND;TZID=America/New_York:20210703T150000
DTSTAMP:20260421T074425
CREATED:20210628T155809Z
LAST-MODIFIED:20210628T155809Z
UID:10019777-1625320800-1625324400@newtonculture.org
SUMMARY:Historic Newton presents: Reading Frederick Douglass Together
DESCRIPTION:Come and hear a public reading of the famous Frederick Douglass address\, “What to the Slave is the Fourth of July?” The museum will be open special hours that day from noon to 5 p.m. with free admission. Bring a picnic lunch to enjoy on the back lawn of the Homestead. Funded by a grant from Mass Humanities.
URL:https://newtonculture.org/event/historic-newton-presents-reading-frederick-douglass-together/
LOCATION:Jackson Homestead and Museum\, 527 Washington St\, Newton\, MA\, 02458\, United States
CATEGORIES:Community Event,Culture and Education,Performing Arts
ATTACH;FMTTYPE=image/png:https://newtonculture.org/wp-content/uploads/2021/06/637599567529300000.png
END:VEVENT
BEGIN:VEVENT
DTSTART;TZID=America/New_York:20210703T173000
DTEND;TZID=America/New_York:20210703T173000
DTSTAMP:20260421T074425
CREATED:20210518T153737Z
LAST-MODIFIED:20210518T153737Z
UID:10018842-1625333400-1625333400@newtonculture.org
SUMMARY:New Rep Theatre presents: Listen to Sipu
DESCRIPTION:Listen to Sipu – A Watertown Historical Moving Play\n\nBy Morgan (Mwalim) J. Peters\nDirected by Jaime Carrillo \n\nFollowing the success of New Rep’s first Historical Moving Play\, the Charles W. Experience\, audiences were clamoring for more. Listen to Sipu answers the call with a captivating and powerful story that illuminates Watertown’s Indigenous history. Join in on a socially-distanced performance lead by a modern-day Tour Guide and meet Sipu\, a quick-witted Indigenous woman who’s more than willing to correct misinformation when she hears it.  Armed with facts\, The Tour Guide begins describing Watertown’s local history only to find that the facts are missing a lot of truths. Sipu is ready to step in and set the record straight\, as long as audiences are ready to listen. Click here to buy tickets.
URL:https://newtonculture.org/event/new-rep-theatre-presents-listen-to-sipu/2021-07-03/
LOCATION:The Commander’s Mansion\, 440 Talcott Avenue\, Watertown\, MA\, 02472\, United States
CATEGORIES:Community Event,Culture and Education,Performing Arts
ATTACH;FMTTYPE=image/jpeg:https://newtonculture.org/wp-content/uploads/2021/05/LISTEN_TO_SIPU_GRAPHIC-2.jpeg
END:VEVENT
END:VCALENDAR