BEGIN:VCALENDAR
VERSION:2.0
PRODID:-//Newton Cultural Alliance - ECPv6.13.2.1//NONSGML v1.0//EN
CALSCALE:GREGORIAN
METHOD:PUBLISH
X-ORIGINAL-URL:https://newtonculture.org
X-WR-CALDESC:Events for Newton Cultural Alliance
REFRESH-INTERVAL;VALUE=DURATION:PT1H
X-Robots-Tag:noindex
X-PUBLISHED-TTL:PT1H
BEGIN:VTIMEZONE
TZID:America/New_York
BEGIN:DAYLIGHT
TZOFFSETFROM:-0500
TZOFFSETTO:-0400
TZNAME:EDT
DTSTART:20210314T070000
END:DAYLIGHT
BEGIN:STANDARD
TZOFFSETFROM:-0400
TZOFFSETTO:-0500
TZNAME:EST
DTSTART:20211107T060000
END:STANDARD
END:VTIMEZONE
BEGIN:VEVENT
DTSTART;VALUE=DATE:20210710
DTEND;VALUE=DATE:20210711
DTSTAMP:20260421T130536
CREATED:20210707T164534Z
LAST-MODIFIED:20210707T164534Z
UID:10018877-1625875200-1625961599@newtonculture.org
SUMMARY:6th Annual Linda Plaut Newton Festival of the Arts
DESCRIPTION:Celebrate Newton’s talented musicians\, singers\, bands\, poets\, story tellers & more!\nFree and accessible to all \nOutdoors at The Hyde Bandstand\, 90 Lincoln Street\, Newton Highlands\nOutdoors at Suzuki School of Newton\,  1615 Beacon Street\, Waban\nInside at The Allen House Center for the Arts\, 35 Webster Street\, West Newton \n\n\n\n\n\nPerformance Schedule\n\nSATURDAY\, JULY 10\, 2021   \nSuzuki School of Newton\, Waban\n11:30am Rob Siegel\, Folk Music\n1pm Isabel Stover\, Jazz Vocalist\n2:30pm Nate Aronow\, Nextet\n4pm Tal Shalom-Kobi\, World Music\n5:30pm Albino Mbie\, Afro Pop \n\n\n\n\nHyde Bandstand\, Newton Highlands\n11am Nikola Stajic\, Jazz\, Blues Guitar\n12:30pm Barracudas\, Jazz Ensemble\n2pm The Eli Cash Band\, Rock Band\n3:30pm Zaira Meneses\, Classical Guitar\n5pm Newton Nomadic Theater Story Slam\n\n\n\n\n\nSUNDAY\, JULY 11\, 2021  \n\n\n\n\n\n\n\n\n\nHyde Bandstand\, Newton Highlands\n11am Maxim Lubrarsky\, Jazz Piano\n12:30pm Olga Lisovskaya\, Opera\n2pm Cross Street\, Rock\, Blues and More\n3:30pm Nat Seelen\, Klezmer\n5pm Debo Ray\, Global Soul \n\n\n\n\n\n\nThe Allen Center for the Arts\, West Newton\n1pm Andrus Madsen\, Baroque Harpsichord\n2:30pm Newton Baroque\n4pm Pro Arte Quartet\n5:30pm Maitreyee & Taposh\,Bengali Pop Music & Dance\n7pm Sandeep Das with Suhail Yusuf Khan\, Journey in Rhythm
URL:https://newtonculture.org/event/6th-annual-linda-plaut-newton-festival-of-the-arts/2021-07-10/
LOCATION:MA
CATEGORIES:Art,Community Event,Culture and Education,Family Friendly,Music,Performing Arts
ATTACH;FMTTYPE=image/png:https://newtonculture.org/wp-content/uploads/2021/07/Linda-Plaut-Festival-of-the-Art-2019-01-e1623267658615.png
END:VEVENT
BEGIN:VEVENT
DTSTART;TZID=America/New_York:20210710T170000
DTEND;TZID=America/New_York:20210710T183000
DTSTAMP:20260421T130536
CREATED:20210707T161555Z
LAST-MODIFIED:20210707T161555Z
UID:10019795-1625936400-1625941800@newtonculture.org
SUMMARY:Festival of the Arts: Newton Nomadic Theatre's Story Slam
DESCRIPTION:As part of the 6th Annual Newton Festival of the Arts\, the Newton Nomadic Theatre presents their next Story Slam. \nNNT Story Slams have become legendary in Newton featuring everyone from celebrities\, politicians\, to next door neighbors. They provide the light\, you provide the face and the story.   The idea is simple – a community storytelling night\, based loosely on NPR’s very popular Moth Radio Hour. Come to hear the stories\, or if you’re game\, throw your name in the hat to tell a story. They should be related to the night’s theme.  They should be approximately 5 minutes long\, and have happened to you.  Beyond that\, it’s up to you – funny\, moving\, poignant\, insane\, ridiculous whatever you like.
URL:https://newtonculture.org/event/festival-of-the-arts-newton-nomadic-theatres-story-slam/
LOCATION:Hyde Bandshell\, 90 Lincoln Street\, Newton\, MA\, 02461\, United States
CATEGORIES:Community Event,Culture and Education,Performing Arts
ATTACH;FMTTYPE=image/jpeg:https://newtonculture.org/wp-content/uploads/2021/07/NNT_whrN.jpg
ORGANIZER;CN="Newton Nomadic Theater":MAILTO:jerreilly@yahoo.com
END:VEVENT
BEGIN:VEVENT
DTSTART;TZID=America/New_York:20210710T173000
DTEND;TZID=America/New_York:20210710T173000
DTSTAMP:20260421T130536
CREATED:20210518T153737Z
LAST-MODIFIED:20210518T153737Z
UID:10018846-1625938200-1625938200@newtonculture.org
SUMMARY:New Rep Theatre presents: Listen to Sipu
DESCRIPTION:Listen to Sipu – A Watertown Historical Moving Play\n\nBy Morgan (Mwalim) J. Peters\nDirected by Jaime Carrillo \n\nFollowing the success of New Rep’s first Historical Moving Play\, the Charles W. Experience\, audiences were clamoring for more. Listen to Sipu answers the call with a captivating and powerful story that illuminates Watertown’s Indigenous history. Join in on a socially-distanced performance lead by a modern-day Tour Guide and meet Sipu\, a quick-witted Indigenous woman who’s more than willing to correct misinformation when she hears it.  Armed with facts\, The Tour Guide begins describing Watertown’s local history only to find that the facts are missing a lot of truths. Sipu is ready to step in and set the record straight\, as long as audiences are ready to listen. Click here to buy tickets.
URL:https://newtonculture.org/event/new-rep-theatre-presents-listen-to-sipu/2021-07-10/
LOCATION:The Commander’s Mansion\, 440 Talcott Avenue\, Watertown\, MA\, 02472\, United States
CATEGORIES:Community Event,Culture and Education,Performing Arts
ATTACH;FMTTYPE=image/jpeg:https://newtonculture.org/wp-content/uploads/2021/05/LISTEN_TO_SIPU_GRAPHIC-2.jpeg
END:VEVENT
END:VCALENDAR