BEGIN:VCALENDAR
VERSION:2.0
PRODID:-//Newton Cultural Alliance - ECPv6.13.2.1//NONSGML v1.0//EN
CALSCALE:GREGORIAN
METHOD:PUBLISH
X-WR-CALNAME:Newton Cultural Alliance
X-ORIGINAL-URL:https://newtonculture.org
X-WR-CALDESC:Events for Newton Cultural Alliance
REFRESH-INTERVAL;VALUE=DURATION:PT1H
X-Robots-Tag:noindex
X-PUBLISHED-TTL:PT1H
BEGIN:VTIMEZONE
TZID:America/New_York
BEGIN:DAYLIGHT
TZOFFSETFROM:-0500
TZOFFSETTO:-0400
TZNAME:EDT
DTSTART:20210314T070000
END:DAYLIGHT
BEGIN:STANDARD
TZOFFSETFROM:-0400
TZOFFSETTO:-0500
TZNAME:EST
DTSTART:20211107T060000
END:STANDARD
END:VTIMEZONE
BEGIN:VEVENT
DTSTART;TZID=America/New_York:20210714T120000
DTEND;TZID=America/New_York:20210714T130000
DTSTAMP:20260421T074315
CREATED:20210604T170610Z
LAST-MODIFIED:20210604T170610Z
UID:10019680-1626264000-1626267600@newtonculture.org
SUMMARY:New Art Center presents: Art Education as Self Care
DESCRIPTION:Art education + creativity exercises + stress relief + group discussions = this workshop series! If you’re looking for intellectual stimulation that doesn’t feel hard\, if you’re hoping for a burst of creativity in the middle of your workday\, if you’re looking for the soothing effects of art — look no further. Join a small group of fellow art enthusiasts and/or new art lovers for a 2 month exploration into how a little bit of art education combined with reflection provides YOU with a refreshing and inspiring experience … all in one hour per week! Each session will consist of a facilitated discussion about a piece of art using Visual Thinking Strategies\, after which the conversation segues into writing/reflective exercises\, creativity prompts\, and group investigations into self-analysis. Furthermore\, you’ll improve your listening and communication skills as well as your ability to talk about art\, its expression and interpretation. Give yourself the self-care you need in a creative way. \nClick here to sign up.
URL:https://newtonculture.org/event/new-art-center-presents-art-education-as-self-care/2021-07-14/
LOCATION:ONLINE\, United Kingdom\, E16 2DQ
ATTACH;FMTTYPE=image/jpeg:https://newtonculture.org/wp-content/uploads/2021/06/ACS21888-1536x1122-1.jpeg
END:VEVENT
BEGIN:VEVENT
DTSTART;TZID=America/New_York:20210714T160000
DTEND;TZID=America/New_York:20210714T180000
DTSTAMP:20260421T074315
CREATED:20210525T164943Z
LAST-MODIFIED:20210525T164943Z
UID:10019568-1626278400-1626285600@newtonculture.org
SUMMARY:New Art Center presents: Media Musing
DESCRIPTION:Join us for a 6-week come as you are mixed media mashup inspired by our Women in Abstraction exhibition! Students will use mixed media to explore collage and other forms of making. Perfect for making friends with the inner critic\, connecting with inspiration\, or connecting family and friends. We will center on playful discovery to create a series of work through mark-making\, layering\, materials\, and prompts (music and readings). Students will be given a weekly (optional) assignment as well as a demonstration on how to approach the materials and surfaces suggested. Register here.
URL:https://newtonculture.org/event/new-art-center-presents-media-musing/2021-07-14/
LOCATION:ONLINE\, United Kingdom\, E16 2DQ
CATEGORIES:Art,Culture and Education
ATTACH;FMTTYPE=image/jpeg:https://newtonculture.org/wp-content/uploads/2021/05/ACS21601-1536x1122-1.jpeg
ORGANIZER;CN="New Art Center":MAILTO:info@newartcenter.org
END:VEVENT
BEGIN:VEVENT
DTSTART;TZID=America/New_York:20210714T183000
DTEND;TZID=America/New_York:20210714T193000
DTSTAMP:20260421T074315
CREATED:20210618T160923Z
LAST-MODIFIED:20210618T160923Z
UID:10019775-1626287400-1626291000@newtonculture.org
SUMMARY:Newton Free Library presents: From Dragons to Unicorns - A Fantasy Animal Writing Workshop
DESCRIPTION:Are you a fan of animal fiction? What about fantasy? Join us as we learn to combine the best of both worlds as we get our imaginations flowing in this animal fiction writing program for rising 4th and 5th graders. Create a new world for fantasy animals to inhabit or a makeup a new animal altogether! Space is limited. \nRegistration is required. A zoom link will be sent out two days before the first session. When you sign up\, you register for July 7 and 14. \n 
URL:https://newtonculture.org/event/newton-free-library-presents-from-dragons-to-unicorns-a-fantasy-animal-writing-workshop/2021-07-14/
LOCATION:Zoom
CATEGORIES:Family Friendly,Literary Arts
ATTACH;FMTTYPE=image/png:https://newtonculture.org/wp-content/uploads/2019/11/Logos-500px-10-newtonlib-e1578597870408.png
ORGANIZER;CN="Newton Free Library":MAILTO:admin@newtonfreelibrary.net
END:VEVENT
END:VCALENDAR