BEGIN:VCALENDAR
VERSION:2.0
PRODID:-//Newton Cultural Alliance - ECPv6.13.2.1//NONSGML v1.0//EN
CALSCALE:GREGORIAN
METHOD:PUBLISH
X-WR-CALNAME:Newton Cultural Alliance
X-ORIGINAL-URL:https://newtonculture.org
X-WR-CALDESC:Events for Newton Cultural Alliance
REFRESH-INTERVAL;VALUE=DURATION:PT1H
X-Robots-Tag:noindex
X-PUBLISHED-TTL:PT1H
BEGIN:VTIMEZONE
TZID:America/New_York
BEGIN:DAYLIGHT
TZOFFSETFROM:-0500
TZOFFSETTO:-0400
TZNAME:EDT
DTSTART:20210314T070000
END:DAYLIGHT
BEGIN:STANDARD
TZOFFSETFROM:-0400
TZOFFSETTO:-0500
TZNAME:EST
DTSTART:20211107T060000
END:STANDARD
END:VTIMEZONE
BEGIN:VEVENT
DTSTART;TZID=America/New_York:20210810T093000
DTEND;TZID=America/New_York:20210810T123000
DTSTAMP:20260421T161119
CREATED:20210611T145219Z
LAST-MODIFIED:20210611T145309Z
UID:10019706-1628587800-1628598600@newtonculture.org
SUMMARY:New Arts Center presents: Outdoor Landscape Painting
DESCRIPTION:This class for acrylic and/or oil painters will explore the unique challenges of landscape painting and provide students with the skills to render space two-dimensionally. We will be working outdoors\, or if the weather is bad\, working indoors using photographs and books. Students will learn composition\, light\, and shading\, and the effects of light on color to create a dynamic series of landscapes. Class demonstrations will focus on subject selection\, under-painting\, personal expression\, and creating a sense of space. One-on-one and group critiques will help students take their work to a new level. \nClick here to register.
URL:https://newtonculture.org/event/new-arts-center-presents-outdoor-landscape-painting/2021-08-10/
LOCATION:New Art Center\, 61 Washington Park\, Newton\, MA\, 02460\, United States
CATEGORIES:Art,Culture and Education,Visual Arts
ATTACH;FMTTYPE=image/jpeg:https://newtonculture.org/wp-content/uploads/2021/06/ACS21254-1536x1122-1.jpeg
ORGANIZER;CN="New Art Center":MAILTO:info@newartcenter.org
END:VEVENT
END:VCALENDAR