BEGIN:VCALENDAR
VERSION:2.0
PRODID:-//Newton Cultural Alliance - ECPv6.13.2.1//NONSGML v1.0//EN
CALSCALE:GREGORIAN
METHOD:PUBLISH
X-WR-CALNAME:Newton Cultural Alliance
X-ORIGINAL-URL:https://newtonculture.org
X-WR-CALDESC:Events for Newton Cultural Alliance
REFRESH-INTERVAL;VALUE=DURATION:PT1H
X-Robots-Tag:noindex
X-PUBLISHED-TTL:PT1H
BEGIN:VTIMEZONE
TZID:America/New_York
BEGIN:DAYLIGHT
TZOFFSETFROM:-0500
TZOFFSETTO:-0400
TZNAME:EDT
DTSTART:20210314T070000
END:DAYLIGHT
BEGIN:STANDARD
TZOFFSETFROM:-0400
TZOFFSETTO:-0500
TZNAME:EST
DTSTART:20211107T060000
END:STANDARD
END:VTIMEZONE
BEGIN:VEVENT
DTSTART;TZID=America/New_York:20210813T090000
DTEND;TZID=America/New_York:20210813T120000
DTSTAMP:20260422T003612
CREATED:20210726T170849Z
LAST-MODIFIED:20210726T170849Z
UID:10019851-1628845200-1628856000@newtonculture.org
SUMMARY:Scavenger Hunt at the Newton Free Library
DESCRIPTION:Are you ready for a Scavenger Hunt at the Library!  Come to the Children’s Desk anytime between 9am and 12pm and pick up a sheet with clues to find objects and images around the children’s area. When you are done you will get to take home a special animal sticker of your choosing. This program is part of our Tail and Tales Summer Reading program. To sign up for summer reading click here.
URL:https://newtonculture.org/event/scavenger-hunt-at-the-newton-free-library/
LOCATION:Newton Free Library\, 330 Homer St\, Newton\, MA\, 02459\, United States
CATEGORIES:Community Event,Family Friendly,Literary Arts
ATTACH;FMTTYPE=image/png:https://newtonculture.org/wp-content/uploads/2019/11/Logos-500px-10-newtonlib-e1578597870408.png
ORGANIZER;CN="Newton Free Library":MAILTO:admin@newtonfreelibrary.net
END:VEVENT
BEGIN:VEVENT
DTSTART;TZID=America/New_York:20210813T180000
DTEND;TZID=America/New_York:20210813T180000
DTSTAMP:20260422T003612
CREATED:20210802T154708Z
LAST-MODIFIED:20210802T154708Z
UID:10019857-1628877600-1628877600@newtonculture.org
SUMMARY:Hyde Community Center presents: Gringo Kings Concert
DESCRIPTION:Join the Hyde Community Center for a concert by the Gringo Kings\, as part of the Summer in the Highlands series. \nAll Movies and Concerts are free and take place outside on the Hyde Playground. Sponsors: The Village Bank\, Newton Community Pride\, Wholefoods Market\, Newton Wellesley Hospital\, O’Hara’s\, Pine Village Preschool\, Newton Cultural Council. For more information 617-201-7088 or hydehighlands@gmail.com.
URL:https://newtonculture.org/event/hyde-community-center-presents-gringo-kings-concert/
LOCATION:Hyde Bandshell\, 90 Lincoln Street\, Newton\, MA\, 02461\, United States
CATEGORIES:Community Event,Music,Performing Arts
ATTACH;FMTTYPE=image/jpeg:https://newtonculture.org/wp-content/uploads/2021/08/1416760695_3P2B1250a-scaled.jpg
ORGANIZER;CN="Hyde Community Center":MAILTO:director@hydecenter.org
END:VEVENT
END:VCALENDAR