BEGIN:VCALENDAR
VERSION:2.0
PRODID:-//Newton Cultural Alliance - ECPv6.13.2.1//NONSGML v1.0//EN
CALSCALE:GREGORIAN
METHOD:PUBLISH
X-WR-CALNAME:Newton Cultural Alliance
X-ORIGINAL-URL:https://newtonculture.org
X-WR-CALDESC:Events for Newton Cultural Alliance
REFRESH-INTERVAL;VALUE=DURATION:PT1H
X-Robots-Tag:noindex
X-PUBLISHED-TTL:PT1H
BEGIN:VTIMEZONE
TZID:America/New_York
BEGIN:DAYLIGHT
TZOFFSETFROM:-0500
TZOFFSETTO:-0400
TZNAME:EDT
DTSTART:20210314T070000
END:DAYLIGHT
BEGIN:STANDARD
TZOFFSETFROM:-0400
TZOFFSETTO:-0500
TZNAME:EST
DTSTART:20211107T060000
END:STANDARD
END:VTIMEZONE
BEGIN:VEVENT
DTSTART;VALUE=DATE:20210827
DTEND;VALUE=DATE:20210828
DTSTAMP:20260421T133426
CREATED:20210819T172147Z
LAST-MODIFIED:20210819T172147Z
UID:10019883-1630022400-1630108799@newtonculture.org
SUMMARY:NewTV's Summer Photo Contest
DESCRIPTION:Join in on the fun by voting in NewTV’s Summer Photo Contest. Amazing entries from all over Newton have been submitted and are waiting for your verdict. Voting ends Friday\, September 3\, and winners will be announced on Tuesday\, September 7. Choose the best overall image and the “in and around Newton” favorite by casting your ballot here.
URL:https://newtonculture.org/event/newtvs-summer-photo-contest/2021-08-27/
LOCATION:ONLINE\, United Kingdom\, E16 2DQ
CATEGORIES:Community Event,Film and Media,Free Event
ATTACH;FMTTYPE=image/png:https://newtonculture.org/wp-content/uploads/2021/08/unnamed-1.png
ORGANIZER;CN="NewTV":MAILTO:newtv@newtv.org
END:VEVENT
BEGIN:VEVENT
DTSTART;TZID=America/New_York:20210827T150000
DTEND;TZID=America/New_York:20210827T160000
DTSTAMP:20260421T133426
CREATED:20210816T144336Z
LAST-MODIFIED:20210816T144336Z
UID:10019869-1630076400-1630080000@newtonculture.org
SUMMARY:Newton Free Library presents: Coral Reef Canvas Painting
DESCRIPTION:Paint a coral reef and sea life on a canvas! Looking up from the bottom of the sea we will create a painting using dramatic silhouettes of coral reef and sea life in black paint. Using different tones of blue mixed with white\, your eye will be drawn to the starburst of sunlight above.  This is a virtual event. Materials will be available for pick up a week prior to the event. For rising 6th-12th graders. Register here.
URL:https://newtonculture.org/event/newton-free-library-presents-coral-reef-canvas-painting/
LOCATION:ONLINE\, United Kingdom\, E16 2DQ
CATEGORIES:Art,Community Event,Culture and Education,Visual Arts
ATTACH;FMTTYPE=image/jpeg:https://newtonculture.org/wp-content/uploads/2021/08/1628265628.jpg
ORGANIZER;CN="Newton Free Library":MAILTO:admin@newtonfreelibrary.net
END:VEVENT
BEGIN:VEVENT
DTSTART;TZID=America/New_York:20210827T180000
DTEND;TZID=America/New_York:20210827T200000
DTSTAMP:20260421T133426
CREATED:20210813T161009Z
LAST-MODIFIED:20210813T161009Z
UID:10019868-1630087200-1630094400@newtonculture.org
SUMMARY:Black Velvet Band at the Hyde Community Center
DESCRIPTION:During the summer\, the Hyde Community Center hosts an outdoor summer family concert and movie series on Friday nights\, featuring local bands and family-friendly films. A few times throughout the summer\, the bandstand is used to stage live theater productions\, and story-telling. These free events held in the Hyde Playground on the Hyde Community Center bandstand draw hundreds of local families. \nOn August 27th\, come see the Black Velvet Band\, followed by a showing of Mrs. Doubtfire.
URL:https://newtonculture.org/event/black-velvet-band-at-the-hyde-community-center/
LOCATION:Hyde Bandshell\, 90 Lincoln Street\, Newton\, MA\, 02461\, United States
CATEGORIES:Community Event,Music
ORGANIZER;CN="Hyde Community Center":MAILTO:director@hydecenter.org
END:VEVENT
END:VCALENDAR