BEGIN:VCALENDAR
VERSION:2.0
PRODID:-//Newton Cultural Alliance - ECPv6.13.2.1//NONSGML v1.0//EN
CALSCALE:GREGORIAN
METHOD:PUBLISH
X-WR-CALNAME:Newton Cultural Alliance
X-ORIGINAL-URL:https://newtonculture.org
X-WR-CALDESC:Events for Newton Cultural Alliance
REFRESH-INTERVAL;VALUE=DURATION:PT1H
X-Robots-Tag:noindex
X-PUBLISHED-TTL:PT1H
BEGIN:VTIMEZONE
TZID:America/New_York
BEGIN:DAYLIGHT
TZOFFSETFROM:-0500
TZOFFSETTO:-0400
TZNAME:EDT
DTSTART:20210314T070000
END:DAYLIGHT
BEGIN:STANDARD
TZOFFSETFROM:-0400
TZOFFSETTO:-0500
TZNAME:EST
DTSTART:20211107T060000
END:STANDARD
END:VTIMEZONE
BEGIN:VEVENT
DTSTART;TZID=America/New_York:20210917T190000
DTEND;TZID=America/New_York:20210917T190000
DTSTAMP:20260421T093135
CREATED:20210902T163312Z
LAST-MODIFIED:20210902T163312Z
UID:10019893-1631905200-1631905200@newtonculture.org
SUMMARY:Newton Art Association's Annual Awards Show
DESCRIPTION:Welcome to the 2021 NAA Annual Awards Show at the Newton Free Library and Online\nBecause the Newton Free Library is not yet allowing public receptions\, the reception and awards ceremony for the Annual Awards Show will be offered online via Zoom on Friday\, September 17 at 7 p.m. The link for the event is here. We will also send an email as a reminder\, with the link by September 15. \nThe Awards Judge for the Annual Awards Show will be Andrea Foggle Plotkin\, AFP Art Consulting\, a Boston-based firm specializing in fine art consulting and advising\, personal property appraisal\, research\, writing\, collections management\, and exhibition curation/organization. \nTo access the Zoom link and view the online exhibition\, click here.
URL:https://newtonculture.org/event/newton-art-associations-annual-awards-show/
LOCATION:ONLINE\, United Kingdom\, E16 2DQ
CATEGORIES:Art,Community Event,Visual Arts
END:VEVENT
BEGIN:VEVENT
DTSTART;TZID=America/New_York:20210917T200000
DTEND;TZID=America/New_York:20210917T200000
DTSTAMP:20260421T093135
CREATED:20210824T155236Z
LAST-MODIFIED:20210824T155439Z
UID:10018952-1631908800-1631908800@newtonculture.org
SUMMARY:Newton Theatre Company presents "Twilight: Los Angeles\, 1992"
DESCRIPTION:NTC’s announcement of our ninth season will be out soon\, but we couldn’t wait to tell you about the first production in our lineup\, taking place outside at the Hyde Bandstand. \n\nTwilight: Los Angeles\, 1992 is a dissection of the 1992 Los Angeles protests after the trial regarding the beating of Rodney King by the police. This stunning work of documentary theatre uses the verbatim words of those who experienced the event as well as those who reflected on how the moment scarred Los Angeles and captured the nation’s attention. A piece more relevant now than ever\, Twilight: Los Angeles\, 1992​ speaks directly to the heart of the issues of race\, class\, and access still roiling our country. \nClick here to purchase your pay-what-you-can ticket. \n\n\nCOVID Protocols– What to Expect at Our Outdoor Performances \nAll performers are vaccinated and will not be wearing masks. They will be wearing microphones and their voices will be amplified. Seating starts 25 feet away from the bandshell. The field where the audience will be seated is large\, so we encourage our attendees to spread out when seating themselves.
URL:https://newtonculture.org/event/newton-theatre-company-presents-twilight-los-angeles-1992/2021-09-17/
LOCATION:Hyde Bandshell\, 90 Lincoln Street\, Newton\, MA\, 02461\, United States
CATEGORIES:Community Event,Performing Arts
ATTACH;FMTTYPE=image/png:https://newtonculture.org/wp-content/uploads/2021/08/Twilight_-Los-Angeles-1992.png
ORGANIZER;CN="Newton Theatre Company":MAILTO:info@newtontheatrecompany.com
END:VEVENT
END:VCALENDAR