BEGIN:VCALENDAR
VERSION:2.0
PRODID:-//Newton Cultural Alliance - ECPv6.13.2.1//NONSGML v1.0//EN
CALSCALE:GREGORIAN
METHOD:PUBLISH
X-WR-CALNAME:Newton Cultural Alliance
X-ORIGINAL-URL:https://newtonculture.org
X-WR-CALDESC:Events for Newton Cultural Alliance
REFRESH-INTERVAL;VALUE=DURATION:PT1H
X-Robots-Tag:noindex
X-PUBLISHED-TTL:PT1H
BEGIN:VTIMEZONE
TZID:America/New_York
BEGIN:DAYLIGHT
TZOFFSETFROM:-0500
TZOFFSETTO:-0400
TZNAME:EDT
DTSTART:20210314T070000
END:DAYLIGHT
BEGIN:STANDARD
TZOFFSETFROM:-0400
TZOFFSETTO:-0500
TZNAME:EST
DTSTART:20211107T060000
END:STANDARD
END:VTIMEZONE
BEGIN:VEVENT
DTSTART;TZID=America/New_York:20210918T110000
DTEND;TZID=America/New_York:20210918T170000
DTSTAMP:20260421T093157
CREATED:20210824T153856Z
LAST-MODIFIED:20210824T153856Z
UID:10018947-1631962800-1631984400@newtonculture.org
SUMMARY:Smithsonian Magazine's Museum Day with Historic Newton
DESCRIPTION:Visit Historic Newton at the Jackson Homestead or the Durant-Kenrick House and Grounds for Smithsonian Magazine’s Museum Day\, a one-day event in which participating museums and cultural institutions across the country provide free entry to anyone presenting a Museum Day ticket. Participants are allowed to download one ticket per email address. The ticket provides free general admission on Saturday\, September 18\, 2021\, for two people. Type in the Jackson Homestead or the Durant-Kenrick House and Grounds and download your ticket here.
URL:https://newtonculture.org/event/smithsonian-magazines-museum-day-with-historic-newton/
LOCATION:Jackson Homestead and Museum\, 527 Washington St\, Newton\, MA\, 02458\, United States
CATEGORIES:Community Event,Culture and Education,Family Friendly
ATTACH;FMTTYPE=image/png:https://newtonculture.org/wp-content/uploads/2019/11/9.png
END:VEVENT
BEGIN:VEVENT
DTSTART;TZID=America/New_York:20210918T130000
DTEND;TZID=America/New_York:20210918T130000
DTSTAMP:20260421T093157
CREATED:20210805T154226Z
LAST-MODIFIED:20210805T154226Z
UID:10019859-1631970000-1631970000@newtonculture.org
SUMMARY:Scandinavian Cultural Center presents: Karin Larsson - Consummate Needle Craft Artist
DESCRIPTION:Please join us for a virtual lecture with needlecraft expert Pat Olski.\n\nKarin Larsson was a co creator of the home décor and lifestyle movement that we have come to know as “Swedish Style”.  Often eclipsed by her famous artist husband\, Carl\, her imaginative tapestries and textiles are now as revered as his paintings which depicted their their home and family life. Come discover Karin’s world of knitting\, sewing\, weaving\, spinning\, embroidery \, and design in this engaging lecture . \nSaturday\, September 18th | 1pm via zoom (link will be sent to all registrants) \nABOUT PAT: Pat Olski is a professional needlecraft designer\, lecturer\, and instructor. Her designs and articles\, which span an array of topics from traditional needlework techniques to current knitwear trends\, have appeared in many books and magazines including Piecework\, Vogue Knitting\, Knit Simple\, and Australia’s Inspirations.
URL:https://newtonculture.org/event/scandinavian-cultural-center-presents-karin-larsson-consummate-needle-craft-artist/
LOCATION:ONLINE\, United Kingdom\, E16 2DQ
CATEGORIES:Community Event,Culture and Education
ATTACH;FMTTYPE=image/jpeg:https://newtonculture.org/wp-content/uploads/2021/08/syende_web-600x266-1.jpg
END:VEVENT
BEGIN:VEVENT
DTSTART;TZID=America/New_York:20210918T200000
DTEND;TZID=America/New_York:20210918T200000
DTSTAMP:20260421T093157
CREATED:20210824T155236Z
LAST-MODIFIED:20210824T155439Z
UID:10018953-1631995200-1631995200@newtonculture.org
SUMMARY:Newton Theatre Company presents "Twilight: Los Angeles\, 1992"
DESCRIPTION:NTC’s announcement of our ninth season will be out soon\, but we couldn’t wait to tell you about the first production in our lineup\, taking place outside at the Hyde Bandstand. \n\nTwilight: Los Angeles\, 1992 is a dissection of the 1992 Los Angeles protests after the trial regarding the beating of Rodney King by the police. This stunning work of documentary theatre uses the verbatim words of those who experienced the event as well as those who reflected on how the moment scarred Los Angeles and captured the nation’s attention. A piece more relevant now than ever\, Twilight: Los Angeles\, 1992​ speaks directly to the heart of the issues of race\, class\, and access still roiling our country. \nClick here to purchase your pay-what-you-can ticket. \n\n\nCOVID Protocols– What to Expect at Our Outdoor Performances \nAll performers are vaccinated and will not be wearing masks. They will be wearing microphones and their voices will be amplified. Seating starts 25 feet away from the bandshell. The field where the audience will be seated is large\, so we encourage our attendees to spread out when seating themselves.
URL:https://newtonculture.org/event/newton-theatre-company-presents-twilight-los-angeles-1992/2021-09-18/
LOCATION:Hyde Bandshell\, 90 Lincoln Street\, Newton\, MA\, 02461\, United States
CATEGORIES:Community Event,Performing Arts
ATTACH;FMTTYPE=image/png:https://newtonculture.org/wp-content/uploads/2021/08/Twilight_-Los-Angeles-1992.png
ORGANIZER;CN="Newton Theatre Company":MAILTO:info@newtontheatrecompany.com
END:VEVENT
END:VCALENDAR