BEGIN:VCALENDAR
VERSION:2.0
PRODID:-//Newton Cultural Alliance - ECPv6.13.2.1//NONSGML v1.0//EN
CALSCALE:GREGORIAN
METHOD:PUBLISH
X-WR-CALNAME:Newton Cultural Alliance
X-ORIGINAL-URL:https://newtonculture.org
X-WR-CALDESC:Events for Newton Cultural Alliance
REFRESH-INTERVAL;VALUE=DURATION:PT1H
X-Robots-Tag:noindex
X-PUBLISHED-TTL:PT1H
BEGIN:VTIMEZONE
TZID:America/New_York
BEGIN:DAYLIGHT
TZOFFSETFROM:-0500
TZOFFSETTO:-0400
TZNAME:EDT
DTSTART:20210314T070000
END:DAYLIGHT
BEGIN:STANDARD
TZOFFSETFROM:-0400
TZOFFSETTO:-0500
TZNAME:EST
DTSTART:20211107T060000
END:STANDARD
END:VTIMEZONE
BEGIN:VEVENT
DTSTART;TZID=America/New_York:20210925T123000
DTEND;TZID=America/New_York:20210925T140000
DTSTAMP:20260421T093157
CREATED:20210629T164354Z
LAST-MODIFIED:20210629T164354Z
UID:10019790-1632573000-1632578400@newtonculture.org
SUMMARY:New Art Center presents: Xscape Into Comix
DESCRIPTION:Craft your reality in the world of comics and sequential storytelling with cartoonist LJ-Baptiste! Learn the tools of the trade for making your own cast of characters\, stories\, and gags! In this workshop for grades 3-5\, we focus on the art of crafting original character-driven comics and cartoons\, while also studying the work of pros in graphic novels\, newspaper comics\, and manga!! Click here to register. \nDates: 9/25 – 10/16\nDetails: Saturday\nTimes: 12:30 PM – 2:00 PM
URL:https://newtonculture.org/event/new-art-center-presents-xscape-into-comix/2021-09-25/
LOCATION:ONLINE\, United Kingdom\, E16 2DQ
CATEGORIES:Art,Culture and Education
ATTACH;FMTTYPE=image/jpeg:https://newtonculture.org/wp-content/uploads/2021/06/CWF21101-scaled-1.jpg
ORGANIZER;CN="New Art Center":MAILTO:info@newartcenter.org
END:VEVENT
BEGIN:VEVENT
DTSTART;TZID=America/New_York:20210925T190000
DTEND;TZID=America/New_York:20210925T190000
DTSTAMP:20260421T093157
CREATED:20210715T150451Z
LAST-MODIFIED:20210715T150511Z
UID:10018885-1632596400-1632596400@newtonculture.org
SUMMARY:Scandinavian Cultural Center presents: Snapshots - Traveling with the Poet Hans Christian Andersen
DESCRIPTION:“To travel is to live\,” said Danish fairytale author\, H.C. Andersen. See his words come to life in “Snapshots\,” an art exhibition by Danish artist\, Susanne Thea. H.C. Andersen is known for his world-famous fairytales from “The Little Mermaid” to “The Ugly Duckling\,” “The Emperor’s New Clothes\,” and many more.\nExhibit will be on display in the Nordic Hall\, September – October 2021 \nOpening Night Reception: Saturday\, September 25th | 7pm  | please register here \nSusanne Thea will be introduced by Bruce Bro\, President of the National Foundation for Danish America. Live performance by guitarist Peter Griggs. \nMany thanks  to the National Foundation for Danish America for providing support to bring this exhibit to the Scandinavian Cultural Center.
URL:https://newtonculture.org/event/scandinavian-cultural-center-presents-snapshots-traveling-with-the-poet-hans-christian-andersen/
LOCATION:Scandinavian Cultural Center\, 206 Waltham St\, Newton\, MA\, 02465\, United States
CATEGORIES:Art,Culture and Education
ATTACH;FMTTYPE=image/jpeg:https://newtonculture.org/wp-content/uploads/2021/07/333ldyOQ-600x266-1.jpeg
END:VEVENT
END:VCALENDAR