BEGIN:VCALENDAR
VERSION:2.0
PRODID:-//Newton Cultural Alliance - ECPv6.13.2.1//NONSGML v1.0//EN
CALSCALE:GREGORIAN
METHOD:PUBLISH
X-ORIGINAL-URL:https://newtonculture.org
X-WR-CALDESC:Events for Newton Cultural Alliance
REFRESH-INTERVAL;VALUE=DURATION:PT1H
X-Robots-Tag:noindex
X-PUBLISHED-TTL:PT1H
BEGIN:VTIMEZONE
TZID:America/New_York
BEGIN:DAYLIGHT
TZOFFSETFROM:-0500
TZOFFSETTO:-0400
TZNAME:EDT
DTSTART:20210314T070000
END:DAYLIGHT
BEGIN:STANDARD
TZOFFSETFROM:-0400
TZOFFSETTO:-0500
TZNAME:EST
DTSTART:20211107T060000
END:STANDARD
END:VTIMEZONE
BEGIN:VEVENT
DTSTART;TZID=America/New_York:20211001T180000
DTEND;TZID=America/New_York:20211001T200000
DTSTAMP:20260421T080544
CREATED:20210927T153540Z
LAST-MODIFIED:20210927T153540Z
UID:10019915-1633111200-1633118400@newtonculture.org
SUMMARY:New Art Center's "Creative Process" Closing Reception
DESCRIPTION:Please join the New Art Center and our community of faculty and students as we celebrate the closing of Creative Process The Andrew & Jean Dibner Annual Student and Faculty Show 2020. This long-delayed exhibition will be ending October 1. Enjoy a drink and light hors d’oeuvres while exploring our in-person exhibition and virtual display of over 220 works. Chat with artists\, watch the virtual exhibition and learn more about the New Art Center and our classes on October 1 from 6 – 8 PM at the New Art Corridor (245 Walnut Street in Newton). RSVP today.
URL:https://newtonculture.org/event/new-art-centers-creative-process-closing-reception/
LOCATION:New Art Center\, 61 Washington Park\, Newton\, MA\, 02460\, United States
CATEGORIES:Art,Community Event,Visual Arts
ATTACH;FMTTYPE=image/jpeg:https://newtonculture.org/wp-content/uploads/2021/09/Website-Header-scaled-2.jpg
ORGANIZER;CN="New Art Center":MAILTO:info@newartcenter.org
END:VEVENT
END:VCALENDAR