BEGIN:VCALENDAR
VERSION:2.0
PRODID:-//Newton Cultural Alliance - ECPv6.13.2.1//NONSGML v1.0//EN
CALSCALE:GREGORIAN
METHOD:PUBLISH
X-ORIGINAL-URL:https://newtonculture.org
X-WR-CALDESC:Events for Newton Cultural Alliance
REFRESH-INTERVAL;VALUE=DURATION:PT1H
X-Robots-Tag:noindex
X-PUBLISHED-TTL:PT1H
BEGIN:VTIMEZONE
TZID:America/New_York
BEGIN:DAYLIGHT
TZOFFSETFROM:-0500
TZOFFSETTO:-0400
TZNAME:EDT
DTSTART:20210314T070000
END:DAYLIGHT
BEGIN:STANDARD
TZOFFSETFROM:-0400
TZOFFSETTO:-0500
TZNAME:EST
DTSTART:20211107T060000
END:STANDARD
END:VTIMEZONE
BEGIN:VEVENT
DTSTART;TZID=America/New_York:20211008T180000
DTEND;TZID=America/New_York:20211008T190000
DTSTAMP:20260421T080545
CREATED:20210901T163455Z
LAST-MODIFIED:20210901T163615Z
UID:10018998-1633716000-1633719600@newtonculture.org
SUMMARY:New Art Center presents: Madhubani Folk Painting
DESCRIPTION:Learn about the origin\, history\, and significance of Madhubani folk art\, a style of painting from the Mithila region of Bihar state in India. This beautiful and highly intricate painting is known for its geometric patterns and features figures\, nature scenes\, deities\, and special events. \nAnjana Bhargava is a Madhubani painter\, folk artist\, and Ayurvedic Wellness Practitioner. She has taught at the Art and Innovation Center\, Weston\, The Weston Council on Aging\, and a number of local community centers. \nRegister here.
URL:https://newtonculture.org/event/new-art-center-presents-madhubani-folk-painting/
LOCATION:New Art Center\, 61 Washington Park\, Newton\, MA\, 02460\, United States
CATEGORIES:Art,Culture and Education,Visual Arts
ATTACH;FMTTYPE=image/png:https://newtonculture.org/wp-content/uploads/2020/06/newart-logo_2020_PNG_color_med-res.png
ORGANIZER;CN="New Art Center":MAILTO:info@newartcenter.org
END:VEVENT
END:VCALENDAR