BEGIN:VCALENDAR
VERSION:2.0
PRODID:-//Newton Cultural Alliance - ECPv6.13.2.1//NONSGML v1.0//EN
CALSCALE:GREGORIAN
METHOD:PUBLISH
X-WR-CALNAME:Newton Cultural Alliance
X-ORIGINAL-URL:https://newtonculture.org
X-WR-CALDESC:Events for Newton Cultural Alliance
REFRESH-INTERVAL;VALUE=DURATION:PT1H
X-Robots-Tag:noindex
X-PUBLISHED-TTL:PT1H
BEGIN:VTIMEZONE
TZID:America/New_York
BEGIN:DAYLIGHT
TZOFFSETFROM:-0500
TZOFFSETTO:-0400
TZNAME:EDT
DTSTART:20210314T070000
END:DAYLIGHT
BEGIN:STANDARD
TZOFFSETFROM:-0400
TZOFFSETTO:-0500
TZNAME:EST
DTSTART:20211107T060000
END:STANDARD
END:VTIMEZONE
BEGIN:VEVENT
DTSTART;TZID=America/New_York:20211009T090000
DTEND;TZID=America/New_York:20211009T170000
DTSTAMP:20260421T081653
CREATED:20210809T163246Z
LAST-MODIFIED:20210809T163246Z
UID:10019861-1633770000-1633798800@newtonculture.org
SUMMARY:Scandinavian Cultural Center presents: Rosemaling Workshop
DESCRIPTION:The Scandinavian Cultural Center welcomes back master artist Linda Miller for a two-day workshop dedicated to rosemaling. \n\nThis 2-day class will focus on centuries old art of Rosemaling; flora rose painting and acanthus ornament. Linda will have projects for sale however special projects are welcome provided by students and approved by instructor. \nAll projects will be in the period colors using a vast array of motifs and techniques which have evolved down through the ages. Oil paint is highly advised. \nTo register a $50.00 deposit is required to hold a place for you. Please contact Kerry for details. \n*Please note that due to the COVID-19 Delta variant\, and the at risk population that shares the space at the SCC\, we will be requiring all registrants  to provide proof of vaccination in order to attend* \n*please bring a lunch and water* \nABOUT LINDA: Linda Miller has taught rosemaling at Fletcher Farm in Vermont\, John Campbell School in North Carolina\, Vesterheim Museum in Iowa and several different Sons of Norway lodges on the east coast\, and adult education classes in her area.
URL:https://newtonculture.org/event/scandinavian-cultural-center-presents-rosemaling-workshop/2021-10-09/
LOCATION:Scandinavian Cultural Center\, 206 Waltham St\, Newton\, MA\, 02465\, United States
CATEGORIES:Art,Community Event,Culture and Education
ATTACH;FMTTYPE=image/jpeg:https://newtonculture.org/wp-content/uploads/2021/08/plate-600x266-1.jpg
END:VEVENT
BEGIN:VEVENT
DTSTART;TZID=America/New_York:20211009T090000
DTEND;TZID=America/New_York:20211009T170000
DTSTAMP:20260421T081653
CREATED:20210810T153716Z
LAST-MODIFIED:20210810T160830Z
UID:10019864-1633770000-1633798800@newtonculture.org
SUMMARY:Scandinavian Cultural Center presents: Spoon Making Workshop
DESCRIPTION:Al Miller will teach first time beginner students how to carve and decorate wooden spoons that can be used as an eating or cooking utensil. The class instruction will focus on the safe way to use hand and machine tools. The decorating and finishing of the spoons will be included. \nTeaching methods include; showing samples of different types of spoons and butter/jam spreaders (wood knives)\, group instruction\, individual help and how to sharpen tools. \nAll tools and equipment are provided for student use by the teacher. 2 spoon blanks and 1 butter/jam spreader are also included\, as is a pack of 1/4 sheets of sandpaper. Extra wood blanks and power carving sand paper can be purchased from the teacher. \nTo register a $50.00 deposit is required to hold a place for you. Please contact Kerry for details. \n*Please note that due to the COVID-19 Delta variant\, and the at risk population that shares the space at the SCC\, we will be requiring all registrants  to provide proof of vaccination in order to attend* \n*please bring a lunch and water*
URL:https://newtonculture.org/event/scandinavian-cultural-center-presents-spoon-making-workshop/2021-10-09/
LOCATION:Scandinavian Cultural Center\, 206 Waltham St\, Newton\, MA\, 02465\, United States
CATEGORIES:Art,Community Event,Culture and Education
ATTACH;FMTTYPE=image/jpeg:https://newtonculture.org/wp-content/uploads/2021/08/Spoon-Carving-600x266-1.jpg
END:VEVENT
BEGIN:VEVENT
DTSTART;TZID=America/New_York:20211009T123000
DTEND;TZID=America/New_York:20211009T140000
DTSTAMP:20260421T081653
CREATED:20210629T164354Z
LAST-MODIFIED:20210629T164354Z
UID:10019792-1633782600-1633788000@newtonculture.org
SUMMARY:New Art Center presents: Xscape Into Comix
DESCRIPTION:Craft your reality in the world of comics and sequential storytelling with cartoonist LJ-Baptiste! Learn the tools of the trade for making your own cast of characters\, stories\, and gags! In this workshop for grades 3-5\, we focus on the art of crafting original character-driven comics and cartoons\, while also studying the work of pros in graphic novels\, newspaper comics\, and manga!! Click here to register. \nDates: 9/25 – 10/16\nDetails: Saturday\nTimes: 12:30 PM – 2:00 PM
URL:https://newtonculture.org/event/new-art-center-presents-xscape-into-comix/2021-10-09/
LOCATION:ONLINE\, United Kingdom\, E16 2DQ
CATEGORIES:Art,Culture and Education
ATTACH;FMTTYPE=image/jpeg:https://newtonculture.org/wp-content/uploads/2021/06/CWF21101-scaled-1.jpg
ORGANIZER;CN="New Art Center":MAILTO:info@newartcenter.org
END:VEVENT
END:VCALENDAR