BEGIN:VCALENDAR
VERSION:2.0
PRODID:-//Newton Cultural Alliance - ECPv6.13.2.1//NONSGML v1.0//EN
CALSCALE:GREGORIAN
METHOD:PUBLISH
X-ORIGINAL-URL:https://newtonculture.org
X-WR-CALDESC:Events for Newton Cultural Alliance
REFRESH-INTERVAL;VALUE=DURATION:PT1H
X-Robots-Tag:noindex
X-PUBLISHED-TTL:PT1H
BEGIN:VTIMEZONE
TZID:America/New_York
BEGIN:DAYLIGHT
TZOFFSETFROM:-0500
TZOFFSETTO:-0400
TZNAME:EDT
DTSTART:20210314T070000
END:DAYLIGHT
BEGIN:STANDARD
TZOFFSETFROM:-0400
TZOFFSETTO:-0500
TZNAME:EST
DTSTART:20211107T060000
END:STANDARD
END:VTIMEZONE
BEGIN:VEVENT
DTSTART;TZID=America/New_York:20211012T153000
DTEND;TZID=America/New_York:20211012T163000
DTSTAMP:20260421T093245
CREATED:20210916T142243Z
LAST-MODIFIED:20210916T142243Z
UID:10019897-1634052600-1634056200@newtonculture.org
SUMMARY:New Art Center presents: Let’s Put On A Play! – GR 3-5
DESCRIPTION:Children will explore theater games\, stories and shorter character pieces\, using imagination and creative skills\, in this exciting class. Have fun as you develop self confidence and showmanship while working with award winning actor and sought-after Boston drama teacher Danny Bolton. Many of you know Danny as New Art Center’s summer performance instructor since 2004. Click here to register.
URL:https://newtonculture.org/event/new-art-center-presents-lets-put-on-a-play-gr-3-5/2021-10-12/
LOCATION:Zoom
CATEGORIES:Community Event,Culture and Education,Family Friendly,Performing Arts
ATTACH;FMTTYPE=image/jpeg:https://newtonculture.org/wp-content/uploads/2021/09/CCF21860-scaled-1.jpg
ORGANIZER;CN="New Art Center":MAILTO:info@newartcenter.org
END:VEVENT
BEGIN:VEVENT
DTSTART;TZID=America/New_York:20211012T180000
DTEND;TZID=America/New_York:20211012T193000
DTSTAMP:20260421T093245
CREATED:20210726T162959Z
LAST-MODIFIED:20210726T163053Z
UID:10019846-1634061600-1634067000@newtonculture.org
SUMMARY:New Art Center presents: Site Specific Dance - For All Movers\, Artists\, and Dancers
DESCRIPTION:Improvise and make dances (all levels are invited) live\, and\, in-person\, inspired by the world around you: your kitchen\, your car\, a skyscraper\, a park bench. You will receive prompts one week in advance of class to inspire you to create a short movement piece. These short dances (~1 min) can provide a jumping-off point for further expansion\, they can be transformed into a 2D work of art\, or they can stand on their own two feet. During class we will share our creations\, and\, we will improvise together based on themes. Brilliance and some silliness will ensue. See website for more details. \nDates: 9/14 – 10/19\nDetails: Tuesdays\, 6 Sessions\nTimes: 6:00 PM – 7:30 PM
URL:https://newtonculture.org/event/new-art-center-presents-site-specific-dance-for-all-movers-artists-and-dancers/2021-10-12/
LOCATION:New Art Center\, 61 Washington Park\, Newton\, MA\, 02460\, United States
CATEGORIES:Art,Culture and Education,Performing Arts
ATTACH;FMTTYPE=image/jpeg:https://newtonculture.org/wp-content/uploads/2021/07/ACF21008-scaled-1.jpg
ORGANIZER;CN="New Art Center":MAILTO:info@newartcenter.org
END:VEVENT
BEGIN:VEVENT
DTSTART;TZID=America/New_York:20211012T190000
DTEND;TZID=America/New_York:20211012T200000
DTSTAMP:20260421T093245
CREATED:20210824T161659Z
LAST-MODIFIED:20210824T161659Z
UID:10018978-1634065200-1634068800@newtonculture.org
SUMMARY:Newton Free Library presents: 13 Moons and 12\,000 Years - Honoring Indigenous Peoples' Day
DESCRIPTION:In recognition of Indigenous Peoples’ Day\, join Tim Turner\, an Indigenous Educator from the Plimoth Pawtuxet Museums\, for a unique conversation that explores 12\,000 years of Wampanoag history and how communities past and present have adapted and sustained their seasonal\, 13-moon lifecycles amid changing natural\, social and political landscapes. He will also touch on tribal history specific to the Newton area. This program is cosponsored by the Newton Human Rights Commission. \nRegistration for this program will end two hours before the start time. The login information will be sent just after registration closes. Please be sure to check your spam folder in case it lands there.
URL:https://newtonculture.org/event/newton-free-library-presents-13-moons-and-12000-years-honoring-indigenous-peoples-day/
LOCATION:ONLINE\, United Kingdom\, E16 2DQ
CATEGORIES:Community Event,Culture and Education
ATTACH;FMTTYPE=image/png:https://newtonculture.org/wp-content/uploads/2021/08/10-12_Program_EPD_small.png
ORGANIZER;CN="Newton Free Library":MAILTO:admin@newtonfreelibrary.net
END:VEVENT
END:VCALENDAR