BEGIN:VCALENDAR
VERSION:2.0
PRODID:-//Newton Cultural Alliance - ECPv6.13.2.1//NONSGML v1.0//EN
CALSCALE:GREGORIAN
METHOD:PUBLISH
X-ORIGINAL-URL:https://newtonculture.org
X-WR-CALDESC:Events for Newton Cultural Alliance
REFRESH-INTERVAL;VALUE=DURATION:PT1H
X-Robots-Tag:noindex
X-PUBLISHED-TTL:PT1H
BEGIN:VTIMEZONE
TZID:America/New_York
BEGIN:DAYLIGHT
TZOFFSETFROM:-0500
TZOFFSETTO:-0400
TZNAME:EDT
DTSTART:20210314T070000
END:DAYLIGHT
BEGIN:STANDARD
TZOFFSETFROM:-0400
TZOFFSETTO:-0500
TZNAME:EST
DTSTART:20211107T060000
END:STANDARD
END:VTIMEZONE
BEGIN:VEVENT
DTSTART;TZID=America/New_York:20211017T110000
DTEND;TZID=America/New_York:20211017T123000
DTSTAMP:20260421T093250
CREATED:20211004T153248Z
LAST-MODIFIED:20211004T153248Z
UID:10019936-1634468400-1634473800@newtonculture.org
SUMMARY:New Art Center presents: Visual Journaling
DESCRIPTION:This 4 week workshop focuses on how to keep a sketchbook as a visual journal to develop ideas and practice drawing by recording the world around you. This fun and supportive class is suitable for emerging artists as well as seasoned sketch-bookers. Students will be introduced to a variety of methods and materials. Experimentation is encouraged! See website for materials list.
URL:https://newtonculture.org/event/new-art-center-presents-visual-journaling/2021-10-17/
LOCATION:ONLINE\, United Kingdom\, E16 2DQ
CATEGORIES:Art,Visual Arts
ATTACH;FMTTYPE=image/jpeg:https://newtonculture.org/wp-content/uploads/2021/10/VIsual-Journaling-scaled-1.jpg
ORGANIZER;CN="New Art Center":MAILTO:info@newartcenter.org
END:VEVENT
BEGIN:VEVENT
DTSTART;TZID=America/New_York:20211017T140000
DTEND;TZID=America/New_York:20211017T150000
DTSTAMP:20260421T093250
CREATED:20211012T153633Z
LAST-MODIFIED:20211012T153633Z
UID:10019133-1634479200-1634482800@newtonculture.org
SUMMARY:Scandinavian Cultural Center Book Talk: "We Share the Same Sky" with Rachael Cerrotti
DESCRIPTION:Join us for a talk with author Rachael Cerrotti about her book We Share the Same Sky: A Memoir of Memory & Migration.  \nIt is the story of a granddaughter’s decade-long journey to retrace her grandmother’s wartime escape and weave together the thin threads of family history. \nIn 2009\, Rachael Cerrotti\, a college student pursuing a career in photojournalism\, asked her grandmother\, Hana\, if she could record her story. Rachael knew that her grandmother was a Holocaust survivor and the only one in her family alive at the end of the war. Rachael also knew that she survived because of the kindness of strangers. It wasn’t a secret. Hana spoke about her history publicly and regularly. But\, Rachael wanted to document it as only a granddaughter could. So\, that’s what they did: Hana talked and Rachael wrote. \nUpon Hana’s passing in 2010\, Rachael discovered an incredible archive of her life. There were preserved albums and hundreds of photographs dating back to the 1920s. There were letters waiting to be translated\, journals\, diaries\, deportation and immigration papers as well as creative writings from various stages of Hana’s life. \nRachael digitized and organized it all\, plucking it from the past and placing it into her present. Then\, she began retracing her grandmother’s story\, following her through Central Europe\, Scandinavia\, and across the United States. She tracked down the descendants of those who helped save her grandmother’s life during the war. Rachael went in pursuit of her grandmother’s memory to explore how the retelling of family stories becomes the history itself. \nWe Share the Same Sky weaves together the stories of these two young women — Hana as a refugee who remains one step ahead of the Nazis at every turn\, and Rachael\, whose insatiable curiosity to touch the past guides her into the lives of countless strangers\, bringing her love and tragic loss. Throughout the course of her twenties\, Hana’s history becomes a guidebook for Rachael in how to live a life empowered by grief. \nSunday\, October 17th | 2pm | register here **advanced registration and proof of vaccination required to attend**
URL:https://newtonculture.org/event/scandinavian-cultural-center-book-talk-we-share-the-same-sky-with-rachael-cerrotti/
LOCATION:Scandinavian Cultural Center\, 206 Waltham St\, Newton\, MA\, 02465\, United States
CATEGORIES:Community Event,Culture and Education,Literary Arts
ATTACH;FMTTYPE=image/jpeg:https://newtonculture.org/wp-content/uploads/2021/10/We-Share-the-Same-Sky.jpg
END:VEVENT
BEGIN:VEVENT
DTSTART;TZID=America/New_York:20211017T150000
DTEND;TZID=America/New_York:20211017T150000
DTSTAMP:20260421T093250
CREATED:20210929T170604Z
LAST-MODIFIED:20211001T165506Z
UID:10019927-1634482800-1634482800@newtonculture.org
SUMMARY:Pro Arte's Ensemble Series - Ensemble I
DESCRIPTION:Pro Arte’s full ensemble takes to the stage to present treasured works and brilliant contemporary compositions celebrating their forty-four year history as one of Boston’s most vibrant orchestras. \nPrincipal Conductor Kevin Rhodes kicks off the season with a dazzling and wide-ranging program of music across centuries and continents. Read more about the program and purchase tickets here.
URL:https://newtonculture.org/event/pro-arte-presents-ensemble-i/
LOCATION:Cary Hall\, 1605 Massachusetts Ave\, Lexington\, MA\, 02420\, United States
CATEGORIES:Community Event,Music,Performing Arts
END:VEVENT
END:VCALENDAR