BEGIN:VCALENDAR
VERSION:2.0
PRODID:-//Newton Cultural Alliance - ECPv6.13.2.1//NONSGML v1.0//EN
CALSCALE:GREGORIAN
METHOD:PUBLISH
X-WR-CALNAME:Newton Cultural Alliance
X-ORIGINAL-URL:https://newtonculture.org
X-WR-CALDESC:Events for Newton Cultural Alliance
REFRESH-INTERVAL;VALUE=DURATION:PT1H
X-Robots-Tag:noindex
X-PUBLISHED-TTL:PT1H
BEGIN:VTIMEZONE
TZID:America/New_York
BEGIN:DAYLIGHT
TZOFFSETFROM:-0500
TZOFFSETTO:-0400
TZNAME:EDT
DTSTART:20210314T070000
END:DAYLIGHT
BEGIN:STANDARD
TZOFFSETFROM:-0400
TZOFFSETTO:-0500
TZNAME:EST
DTSTART:20211107T060000
END:STANDARD
END:VTIMEZONE
BEGIN:VEVENT
DTSTART;TZID=America/New_York:20211031T100000
DTEND;TZID=America/New_York:20211031T160000
DTSTAMP:20260421T064518
CREATED:20210923T155836Z
LAST-MODIFIED:20210923T155836Z
UID:10019913-1635674400-1635696000@newtonculture.org
SUMMARY:New Art Center presents: Altares de Dia de los Muertos
DESCRIPTION:New Art Center proudly introduces Zaira Meneses & Friends as they present: Altares de Dia de los Muertos. This event will include: Altar & Paper Cut Making. \nView all the work October 31\, 10:00 AM  – 4:00 PM with a special Son Jarocho Music & Day of Dead Celebration starting at 3:00 PM. \nNew Art Center in collaboration with Zaira Meneses\, a Mexican musician and recipient of the 2018 Boston Foundation Award\, will be presenting a three day opportunity to create an authentic Day of the Dead experience.  Students of all ages are encouraged to participate in the art of making traditional Mexican altar pieces expressing gratitude to loved ones no longer with us. From paper cutting to piñata making\, everyone is encouraged to take part in this three-day celebration being supervised by Zaira Meneses & Friends. Contact New Art Center if you’re interested in participating. \nThe exhibition date to view the altars will be open to the public on October 31st. Welcoming everyone will be the sounds of Son Jarocho\, an authentic music that originated in Mexico’s coastal Veracruz.  Traditional customary dress is optional\, but we encourage everyone to be creative and participate!
URL:https://newtonculture.org/event/new-art-center-presents-altares-de-dia-de-los-muertos/
LOCATION:New Art Center\, 61 Washington Park\, Newton\, MA\, 02460\, United States
CATEGORIES:Art,Community Event,Culture and Education,Visual Arts
ATTACH;FMTTYPE=image/jpeg:https://newtonculture.org/wp-content/uploads/2021/09/Altares-de-Dia-de-los-Muertos-scaled-1.jpg
ORGANIZER;CN="New Art Center":MAILTO:info@newartcenter.org
END:VEVENT
BEGIN:VEVENT
DTSTART;TZID=America/New_York:20211031T110000
DTEND;TZID=America/New_York:20211031T123000
DTSTAMP:20260421T064518
CREATED:20211004T153248Z
LAST-MODIFIED:20211004T153248Z
UID:10019938-1635678000-1635683400@newtonculture.org
SUMMARY:New Art Center presents: Visual Journaling
DESCRIPTION:This 4 week workshop focuses on how to keep a sketchbook as a visual journal to develop ideas and practice drawing by recording the world around you. This fun and supportive class is suitable for emerging artists as well as seasoned sketch-bookers. Students will be introduced to a variety of methods and materials. Experimentation is encouraged! See website for materials list.
URL:https://newtonculture.org/event/new-art-center-presents-visual-journaling/2021-10-31/
LOCATION:ONLINE\, United Kingdom\, E16 2DQ
CATEGORIES:Art,Visual Arts
ATTACH;FMTTYPE=image/jpeg:https://newtonculture.org/wp-content/uploads/2021/10/VIsual-Journaling-scaled-1.jpg
ORGANIZER;CN="New Art Center":MAILTO:info@newartcenter.org
END:VEVENT
BEGIN:VEVENT
DTSTART;TZID=America/New_York:20211031T150000
DTEND;TZID=America/New_York:20211031T150000
DTSTAMP:20260421T064518
CREATED:20210929T165747Z
LAST-MODIFIED:20211012T164545Z
UID:10019926-1635692400-1635692400@newtonculture.org
SUMMARY:New Philharmonia Orchestra presents: Classics I
DESCRIPTION:The New Philharmonia Orchestra begins its exciting 27th season filled with celebratory spirit\, incredible music\, and exciting guest performances. Join them for their Classics I program featuring guest violinist Keila Wakao. Tickets are $10-$25. For more information visit newphil.org.
URL:https://newtonculture.org/event/new-philharmonia-orchestra-presents-classics-i/2021-10-31/
LOCATION:Newton North High School\, 457 Walnut St\, Newton\, MA\, 02460\, United States
CATEGORIES:Community Event,Music,Performing Arts
ATTACH;FMTTYPE=image/png:https://newtonculture.org/wp-content/uploads/2021/09/sesaongraphic-300x214-1-e1635350520585.png
ORGANIZER;CN="New Philharmonia Orchestra":MAILTO:info@newphil.org
END:VEVENT
BEGIN:VEVENT
DTSTART;TZID=America/New_York:20211031T173000
DTEND;TZID=America/New_York:20211031T190000
DTSTAMP:20260421T064518
CREATED:20210929T162021Z
LAST-MODIFIED:20210929T162021Z
UID:10019921-1635701400-1635706800@newtonculture.org
SUMMARY:Trick or Treat at the Jackson Homestead
DESCRIPTION:On Halloween night\, stop by the Jackson Homestead at 527 Washington Street for a selection of classic candies and a coupon so you and your children can return to visit the museum in the future.
URL:https://newtonculture.org/event/trick-or-treat-at-the-jackson-homestead/
LOCATION:Jackson Homestead and Museum\, 527 Washington St\, Newton\, MA\, 02458\, United States
CATEGORIES:Community Event,Family Friendly
ATTACH;FMTTYPE=image/png:https://newtonculture.org/wp-content/uploads/2019/11/9.png
END:VEVENT
END:VCALENDAR