BEGIN:VCALENDAR
VERSION:2.0
PRODID:-//Newton Cultural Alliance - ECPv6.13.2.1//NONSGML v1.0//EN
CALSCALE:GREGORIAN
METHOD:PUBLISH
X-WR-CALNAME:Newton Cultural Alliance
X-ORIGINAL-URL:https://newtonculture.org
X-WR-CALDESC:Events for Newton Cultural Alliance
REFRESH-INTERVAL;VALUE=DURATION:PT1H
X-Robots-Tag:noindex
X-PUBLISHED-TTL:PT1H
BEGIN:VTIMEZONE
TZID:America/New_York
BEGIN:DAYLIGHT
TZOFFSETFROM:-0500
TZOFFSETTO:-0400
TZNAME:EDT
DTSTART:20210314T070000
END:DAYLIGHT
BEGIN:STANDARD
TZOFFSETFROM:-0400
TZOFFSETTO:-0500
TZNAME:EST
DTSTART:20211107T060000
END:STANDARD
END:VTIMEZONE
BEGIN:VEVENT
DTSTART;TZID=America/New_York:20211101T130000
DTEND;TZID=America/New_York:20211101T160000
DTSTAMP:20260421T051931
CREATED:20210726T161635Z
LAST-MODIFIED:20210726T161635Z
UID:10019836-1635771600-1635782400@newtonculture.org
SUMMARY:New Art Center presents: Pastel Landscapes
DESCRIPTION:Capture the beauty of the seasons with the immediacy of dry pastel in this Zoom class. Working from photos\, explore how to build a landscape using many layers of colors. After taking this class\, you will be ready to draw landscapes from life using a medium that is easy to carry! All levels welcome\, but students must have at least taken one drawing class. See website for materials list. \nDates: 9/13 – 11/29\nDetails: Mondays\, 11 Sessions\nTimes: 1:00 PM – 4:00 PM\nNotes: no class 10/11
URL:https://newtonculture.org/event/new-art-center-presents-pastel-landscapes/2021-11-01/
LOCATION:Zoom
CATEGORIES:Art,Culture and Education,Visual Arts
ATTACH;FMTTYPE=image/jpeg:https://newtonculture.org/wp-content/uploads/2021/07/ACF21182-scaled-1.jpg
ORGANIZER;CN="New Art Center":MAILTO:info@newartcenter.org
END:VEVENT
BEGIN:VEVENT
DTSTART;TZID=America/New_York:20211101T160000
DTEND;TZID=America/New_York:20211101T173000
DTSTAMP:20260421T051931
CREATED:20240205T221934Z
LAST-MODIFIED:20240205T221934Z
UID:10019735-1635782400-1635787800@newtonculture.org
SUMMARY:Newton Theatre Kids presents: Fall Classes - Charlotte's Web
DESCRIPTION:Join lovable pig Wilbur and his best friend\, Charlotte the spider\, in this fun\, heartwarming re-telling of E.B. White’s classic story\, Charlotte’s Web. We’ve got dancing\, acting\, scenery-making\, and parts for everybody! ​Tuition: $385. Open to Students in Grades K-5 \nLocation for all classes: FUUSN – First Unitarian Universalist Society in Newton\n1326 Washington St\, Newton\, MA 02465 \nWe follow closings for all Newton Public school holidays and snow days. \nWe want theatre to be accessible to everyone.\nIf you are interested in learning more about Newton Theatre Kids scholarships\, please email Melissa.
URL:https://newtonculture.org/event/newton-theatre-kids-presents-fall-classes-charlottes-web/2021-11-01/
LOCATION:First Unitarian Universalist Society in Newton\, 1326 Washington St\, Newton\, MA\, 02465\, United States
CATEGORIES:Community Event,Culture and Education,Family Friendly,Performing Arts
ATTACH;FMTTYPE=image/png:https://newtonculture.org/wp-content/uploads/2021/06/1_orig.png
ORGANIZER;CN="Newton Theatre Company":MAILTO:info@newtontheatrecompany.com
END:VEVENT
BEGIN:VEVENT
DTSTART;TZID=America/New_York:20211101T190000
DTEND;TZID=America/New_York:20211101T200000
DTSTAMP:20260421T051931
CREATED:20211022T145507Z
LAST-MODIFIED:20211022T145507Z
UID:10019942-1635793200-1635796800@newtonculture.org
SUMMARY:Newton Free Library presents: Historical Fiction Panel
DESCRIPTION:Join Marjan Kamali\, William Martin and Jane Healey for a panel discussion of their books\, writing historical fiction and their behind-the-scenes research. This program is presented in partnership with the Ashland Public Library. \nMarjan Kamali was born in Turkey to Iranian parents. She is the author of two novels: The Stationery Shop\, a Boston Globe best-seller\, and Together Tea which was a Massachusetts Book Award Finalist and an NPR WBUR Good Read\, among other things. Her work has been broadcast on BBC Radio 4 and published in two anthologies. \nWilliam Martin is the New York Times bestselling author of twelve novels\, among other things. His first Peter Fallon novel\, Back Bay\, established him as “a master storyteller.” He has been following the lives of the great and anonymous in American history ever since. In 2018\, he won the Robert B. Parker from the Mystery Writers of America (New England Chapter). \nJane Healey is the author of three historical fiction novels. The Beantown Girls was a Washington Post and Amazon Charts bestseller. Her latest\, The Secret Stealers\, was an Amazon First Reads Editor’s Pick and one of the New York Post’s Best New Books. She is he host of Historical Happy Hour\, a monthly webinar and podcast featuring premiere historical fiction authors and their latest novels. \nPlease register here. The link zoom will come from ashlandprograms@minlib.net. Be sure to check your spam folder in case it lands there. \nThis program is sponsored by the Friends of the Ashland Public Library.
URL:https://newtonculture.org/event/newton-free-library-presents-historical-fiction-panel/
LOCATION:ONLINE\, United Kingdom\, E16 2DQ
CATEGORIES:Culture and Education,Literary Arts
ATTACH;FMTTYPE=image/png:https://newtonculture.org/wp-content/uploads/2021/10/11-1_Author_Panel_Historic_Fiction__1_.png
ORGANIZER;CN="Newton Free Library":MAILTO:admin@newtonfreelibrary.net
END:VEVENT
END:VCALENDAR