BEGIN:VCALENDAR
VERSION:2.0
PRODID:-//Newton Cultural Alliance - ECPv6.13.2.1//NONSGML v1.0//EN
CALSCALE:GREGORIAN
METHOD:PUBLISH
X-WR-CALNAME:Newton Cultural Alliance
X-ORIGINAL-URL:https://newtonculture.org
X-WR-CALDESC:Events for Newton Cultural Alliance
REFRESH-INTERVAL;VALUE=DURATION:PT1H
X-Robots-Tag:noindex
X-PUBLISHED-TTL:PT1H
BEGIN:VTIMEZONE
TZID:America/New_York
BEGIN:DAYLIGHT
TZOFFSETFROM:-0500
TZOFFSETTO:-0400
TZNAME:EDT
DTSTART:20210314T070000
END:DAYLIGHT
BEGIN:STANDARD
TZOFFSETFROM:-0400
TZOFFSETTO:-0500
TZNAME:EST
DTSTART:20211107T060000
END:STANDARD
END:VTIMEZONE
BEGIN:VEVENT
DTSTART;TZID=America/New_York:20211102T153000
DTEND;TZID=America/New_York:20211102T163000
DTSTAMP:20260421T051932
CREATED:20210916T142243Z
LAST-MODIFIED:20210916T142243Z
UID:10019900-1635867000-1635870600@newtonculture.org
SUMMARY:New Art Center presents: Let’s Put On A Play! – GR 3-5
DESCRIPTION:Children will explore theater games\, stories and shorter character pieces\, using imagination and creative skills\, in this exciting class. Have fun as you develop self confidence and showmanship while working with award winning actor and sought-after Boston drama teacher Danny Bolton. Many of you know Danny as New Art Center’s summer performance instructor since 2004. Click here to register.
URL:https://newtonculture.org/event/new-art-center-presents-lets-put-on-a-play-gr-3-5/2021-11-02/
LOCATION:Zoom
CATEGORIES:Community Event,Culture and Education,Family Friendly,Performing Arts
ATTACH;FMTTYPE=image/jpeg:https://newtonculture.org/wp-content/uploads/2021/09/CCF21860-scaled-1.jpg
ORGANIZER;CN="New Art Center":MAILTO:info@newartcenter.org
END:VEVENT
BEGIN:VEVENT
DTSTART;TZID=America/New_York:20211102T180000
DTEND;TZID=America/New_York:20211102T210000
DTSTAMP:20260421T051932
CREATED:20210719T160746Z
LAST-MODIFIED:20210719T160746Z
UID:10018897-1635876000-1635886800@newtonculture.org
SUMMARY:New Art Center presents: Creativity Lab - Adult Improv and Art-Making Workshop
DESCRIPTION:Energize your artist! Begin with a fresh canvas\, a fresh mind\, a fresh approach. All artists are welcome\, and\, all artistic genres are welcome. During our first hour of class\, we collaborate on works of art\, and\, improvise inspired by a theme. The second hour\, we work individually on our own creations (sculpt\, paint\, collage\, move\, build\, write\, etc.) in the spacious\, beautiful Main Gallery in silence. The third hour we share what we have just created. It is a delightful surprise to see what artists can invent in one hour! This process generates new inspiration in your current favorite medium\, or\, will introduce you to new forms of expression. \nClick here to register.
URL:https://newtonculture.org/event/new-art-center-presents-creativity-lab-adult-improv-and-art-making-workshop/2021-11-02/
LOCATION:New Art Center\, 61 Washington Park\, Newton\, MA\, 02460\, United States
CATEGORIES:Art,Community Event,Culture and Education
ATTACH;FMTTYPE=image/jpeg:https://newtonculture.org/wp-content/uploads/2021/07/AWF21009-scaled-1.jpg
ORGANIZER;CN="New Art Center":MAILTO:info@newartcenter.org
END:VEVENT
END:VCALENDAR