BEGIN:VCALENDAR
VERSION:2.0
PRODID:-//Newton Cultural Alliance - ECPv6.13.2.1//NONSGML v1.0//EN
CALSCALE:GREGORIAN
METHOD:PUBLISH
X-WR-CALNAME:Newton Cultural Alliance
X-ORIGINAL-URL:https://newtonculture.org
X-WR-CALDESC:Events for Newton Cultural Alliance
REFRESH-INTERVAL;VALUE=DURATION:PT1H
X-Robots-Tag:noindex
X-PUBLISHED-TTL:PT1H
BEGIN:VTIMEZONE
TZID:America/New_York
BEGIN:DAYLIGHT
TZOFFSETFROM:-0500
TZOFFSETTO:-0400
TZNAME:EDT
DTSTART:20210314T070000
END:DAYLIGHT
BEGIN:STANDARD
TZOFFSETFROM:-0400
TZOFFSETTO:-0500
TZNAME:EST
DTSTART:20211107T060000
END:STANDARD
END:VTIMEZONE
BEGIN:VEVENT
DTSTART;TZID=America/New_York:20211107T110000
DTEND;TZID=America/New_York:20211107T123000
DTSTAMP:20260421T051930
CREATED:20211004T153248Z
LAST-MODIFIED:20211004T153248Z
UID:10019939-1636282800-1636288200@newtonculture.org
SUMMARY:New Art Center presents: Visual Journaling
DESCRIPTION:This 4 week workshop focuses on how to keep a sketchbook as a visual journal to develop ideas and practice drawing by recording the world around you. This fun and supportive class is suitable for emerging artists as well as seasoned sketch-bookers. Students will be introduced to a variety of methods and materials. Experimentation is encouraged! See website for materials list.
URL:https://newtonculture.org/event/new-art-center-presents-visual-journaling/2021-11-07/
LOCATION:ONLINE\, United Kingdom\, E16 2DQ
CATEGORIES:Art,Visual Arts
ATTACH;FMTTYPE=image/jpeg:https://newtonculture.org/wp-content/uploads/2021/10/VIsual-Journaling-scaled-1.jpg
ORGANIZER;CN="New Art Center":MAILTO:info@newartcenter.org
END:VEVENT
BEGIN:VEVENT
DTSTART;TZID=America/New_York:20211107T130000
DTEND;TZID=America/New_York:20211107T130000
DTSTAMP:20260421T051930
CREATED:20210708T141944Z
LAST-MODIFIED:20210708T141944Z
UID:10018879-1636290000-1636290000@newtonculture.org
SUMMARY:An Scandinavian Cultural Center presents: An Afternoon of Swedish History
DESCRIPTION:Join the Scandinavian Cultural Center for Carolus Rex – An Afternoon of Swedish History Concerning King Charles XII and the Great Northern War. \n“Were Socrates and Charles the Twelfth of Sweden both present in any company\, and Socrates to say\, ‘Follow me and hear a lecture on philosophy’ and Charles\, laying his hand on his sword\, to say\, ‘Follow me and dethrone the Czar’\, a man would be ashamed to follow Socrates.”  -Samuel Johnson \nCharles XII (1682-1718) was the last of Sweden’s warrior kings. He remains the only Swedish monarch born to absolutism and the last European monarch to die on the field of battle. He claimed the throne at age 15\, was called off to war at 18\, and spent the rest of his life in uniform trying to defeat a coalition of states that at one point or another included Denmark\, Poland-Saxony\, Russia\, Prussia\, and Great Britain. Charles’s armies stormed across Europe and under his direct leadership achieved miraculous victories often in the face of overwhelming odds. On a remote Ukrainian field in 1709\, Sweden lost the initiative. Years of desperate rearguard actions yielded further losses of territory and lives before culminating in the mysterious death of Charles himself at a lowly fortress in Norway. \nPublic opinion and literary history are quick to place Charles in one of two extreme categories- a noble warrior fated to defend a doomed empire – or – a tyrant driven by glory and bloodlust who sacrificed his kingdom on the altar of war. As always\, history is a bit more nuanced. \nCarolus Rex will place Charles XII in his appropriate historical context. The talk of the king’s life and times will be accompanied by music and a display of contemporary artifacts including newspapers\, coins\, musketballs\, and prints. A full replica uniform of a Carolean infantryman circa 1706 will be worn for demonstration and guests are welcome to handle various pieces of kit. Copies of By Defeating My Enemies- Charles XII of Sweden and the Great Northern War 1682-1721 will be available for purchase and signing. \nSaturday\, November 6th | 1pm | $7; FREE for SCC Members | register here
URL:https://newtonculture.org/event/an-scandinavian-cultural-center-presents-an-afternoon-of-swedish-history/
LOCATION:Scandinavian Cultural Center\, 206 Waltham St\, Newton\, MA\, 02465\, United States
CATEGORIES:Community Event,Culture and Education
ATTACH;FMTTYPE=image/jpeg:https://newtonculture.org/wp-content/uploads/2021/07/Display-Image-600x266-1.jpeg
END:VEVENT
BEGIN:VEVENT
DTSTART;TZID=America/New_York:20211107T130000
DTEND;TZID=America/New_York:20211107T160000
DTSTAMP:20260421T051930
CREATED:20211004T153634Z
LAST-MODIFIED:20211004T153634Z
UID:10019940-1636290000-1636300800@newtonculture.org
SUMMARY:New Art Center presents: Decoupage Candle Holder Workshop
DESCRIPTION:Make a festive decoupage candle holder to illuminate your fall table. Learn the fundamentals of decoupage and add your own creative twist. This fun 3-hour workshop is the perfect opportunity to socialize with old friends or make new ones. All levels are welcome and all materials will be provided. Visit website for registration and more information.
URL:https://newtonculture.org/event/new-art-center-presents-decoupage-candle-holder-workshop/
LOCATION:New Art Center\, 61 Washington Park\, Newton\, MA\, 02460\, United States
CATEGORIES:Art,Visual Arts
ATTACH;FMTTYPE=image/jpeg:https://newtonculture.org/wp-content/uploads/2021/10/AWF21802-scaled-1.jpg
ORGANIZER;CN="New Art Center":MAILTO:info@newartcenter.org
END:VEVENT
END:VCALENDAR