BEGIN:VCALENDAR
VERSION:2.0
PRODID:-//Newton Cultural Alliance - ECPv6.13.2.1//NONSGML v1.0//EN
CALSCALE:GREGORIAN
METHOD:PUBLISH
X-ORIGINAL-URL:https://newtonculture.org
X-WR-CALDESC:Events for Newton Cultural Alliance
REFRESH-INTERVAL;VALUE=DURATION:PT1H
X-Robots-Tag:noindex
X-PUBLISHED-TTL:PT1H
BEGIN:VTIMEZONE
TZID:America/New_York
BEGIN:DAYLIGHT
TZOFFSETFROM:-0500
TZOFFSETTO:-0400
TZNAME:EDT
DTSTART:20210314T070000
END:DAYLIGHT
BEGIN:STANDARD
TZOFFSETFROM:-0400
TZOFFSETTO:-0500
TZNAME:EST
DTSTART:20211107T060000
END:STANDARD
END:VTIMEZONE
BEGIN:VEVENT
DTSTART;TZID=America/New_York:20211117T160000
DTEND;TZID=America/New_York:20211117T173000
DTSTAMP:20260421T051958
CREATED:20240205T221935Z
LAST-MODIFIED:20240205T221935Z
UID:10019750-1637164800-1637170200@newtonculture.org
SUMMARY:Newton Theatre Kids presents: Fall Classes - Charlotte's Web
DESCRIPTION:Join lovable pig Wilbur and his best friend\, Charlotte the spider\, in this fun\, heartwarming re-telling of E.B. White’s classic story\, Charlotte’s Web. We’ve got dancing\, acting\, scenery-making\, and parts for everybody! ​Tuition: $385. Open to Students in Grades K-5 \nLocation for all classes: FUUSN – First Unitarian Universalist Society in Newton\n1326 Washington St\, Newton\, MA 02465 \nWe follow closings for all Newton Public school holidays and snow days. \nWe want theatre to be accessible to everyone.\nIf you are interested in learning more about Newton Theatre Kids scholarships\, please email Melissa.
URL:https://newtonculture.org/event/newton-theatre-kids-presents-fall-classes-charlottes-web/2021-11-17/
LOCATION:First Unitarian Universalist Society in Newton\, 1326 Washington St\, Newton\, MA\, 02465\, United States
CATEGORIES:Community Event,Culture and Education,Family Friendly,Performing Arts
ATTACH;FMTTYPE=image/png:https://newtonculture.org/wp-content/uploads/2021/06/1_orig.png
ORGANIZER;CN="Newton Theatre Company":MAILTO:info@newtontheatrecompany.com
END:VEVENT
BEGIN:VEVENT
DTSTART;TZID=America/New_York:20211117T170000
DTEND;TZID=America/New_York:20211117T180000
DTSTAMP:20260421T051958
CREATED:20210929T164624Z
LAST-MODIFIED:20210929T164624Z
UID:10019924-1637168400-1637172000@newtonculture.org
SUMMARY:Newton Free Library presents: Cook Along with Chef Bill
DESCRIPTION:Cook along or watch as Chef Bill prepares a different dish live on Zoom each month! Check back for the name of the recipe\, the list of ingredients and instructions. \nFormerly a chef at the original Ritz-Carlton/Boston\, Chef Bill worked at Harbor Sweets\, makers of handmade chocolates in Salem\, MA. Now a personal chef\, he has provided cooking demonstrations and lessons for Whole Foods\, Stonewall Kitchen\, Reader to Reader\, Monitor Group\, and numerous businesses\, schools and non-profit organizations. \nRegistration for this program will end two hours before the start time. The Zoom login information will be sent just after registration closes. Please be sure to check your spam folder in case it lands there.
URL:https://newtonculture.org/event/newton-free-library-presents-cook-along-with-chef-bill-2/
LOCATION:ONLINE\, United Kingdom\, E16 2DQ
CATEGORIES:Community Event,Culture and Education
ATTACH;FMTTYPE=image/jpeg:https://newtonculture.org/wp-content/uploads/2021/01/11-05_Program_ChefBill_headshot.jpg
ORGANIZER;CN="Newton Free Library":MAILTO:admin@newtonfreelibrary.net
END:VEVENT
BEGIN:VEVENT
DTSTART;TZID=America/New_York:20211117T180000
DTEND;TZID=America/New_York:20211117T200000
DTSTAMP:20260421T051958
CREATED:20210916T142929Z
LAST-MODIFIED:20210916T142929Z
UID:10019909-1637172000-1637179200@newtonculture.org
SUMMARY:New Art Center presents: Teen Zine - GR 9-12
DESCRIPTION:In this 6-week course students will  print and produce their own zine – a small circulation of self-published work using a combination of both text and imagery.  Students will develop their own short stories and/or poems and use these pieces to create visual imagery to support their writing. By the end the of the course  students will print a limited-edition zine using a variety of print methods both by hand  and using a press. Click here to register. \nNotes: no class 11/24
URL:https://newtonculture.org/event/new-art-center-presents-teen-zine-gr-9-12/2021-11-17/
LOCATION:New Art Center\, 61 Washington Park\, Newton\, MA\, 02460\, United States
CATEGORIES:Art,Community Event,Literary Arts
ATTACH;FMTTYPE=image/jpeg:https://newtonculture.org/wp-content/uploads/2021/09/ZINES_ZINE-FOR-JO-2595-2-1390x611-1.jpg
ORGANIZER;CN="New Art Center":MAILTO:info@newartcenter.org
END:VEVENT
END:VCALENDAR