BEGIN:VCALENDAR
VERSION:2.0
PRODID:-//Newton Cultural Alliance - ECPv6.13.2.1//NONSGML v1.0//EN
CALSCALE:GREGORIAN
METHOD:PUBLISH
X-ORIGINAL-URL:https://newtonculture.org
X-WR-CALDESC:Events for Newton Cultural Alliance
REFRESH-INTERVAL;VALUE=DURATION:PT1H
X-Robots-Tag:noindex
X-PUBLISHED-TTL:PT1H
BEGIN:VTIMEZONE
TZID:America/New_York
BEGIN:DAYLIGHT
TZOFFSETFROM:-0500
TZOFFSETTO:-0400
TZNAME:EDT
DTSTART:20210314T070000
END:DAYLIGHT
BEGIN:STANDARD
TZOFFSETFROM:-0400
TZOFFSETTO:-0500
TZNAME:EST
DTSTART:20211107T060000
END:STANDARD
END:VTIMEZONE
BEGIN:VEVENT
DTSTART;TZID=America/New_York:20211120T130000
DTEND;TZID=America/New_York:20211120T160000
DTSTAMP:20260421T080542
CREATED:20210824T160239Z
LAST-MODIFIED:20210824T160239Z
UID:10018967-1637413200-1637424000@newtonculture.org
SUMMARY:New Art Center presents: Baubles and Beading Workshop
DESCRIPTION:In this one day workshop you will learn how to design patterns\, choose beads\, string and finish a necklace and make a pair of earrings. All materials will be supplied\, including a large selection of beads (and a select choice of some one-of-a-kind beads available for sale). You are also welcome to bring in beads you have purchased or beads from broken or inherited necklaces that you would like to incorporate in your piece. Perfect for parents and teens\, this workshop is open to all levels of ability. Register here.
URL:https://newtonculture.org/event/new-art-center-presents-baubles-and-beading-workshop/
LOCATION:New Art Center\, 61 Washington Park\, Newton\, MA\, 02460\, United States
CATEGORIES:Art,Visual Arts
ATTACH;FMTTYPE=image/jpeg:https://newtonculture.org/wp-content/uploads/2021/08/TWF21801.jpg
ORGANIZER;CN="New Art Center":MAILTO:info@newartcenter.org
END:VEVENT
BEGIN:VEVENT
DTSTART;TZID=America/New_York:20211120T133000
DTEND;TZID=America/New_York:20211120T153000
DTSTAMP:20260421T080542
CREATED:20211102T154752Z
LAST-MODIFIED:20211102T154752Z
UID:10019978-1637415000-1637422200@newtonculture.org
SUMMARY:Scandinavian Cultural Center presents: Backyard Village (2021)
DESCRIPTION:When Brynja finishes her stay in a health clinic in the village of Hveragerdi\, she’s reluctant to return to her life in the capital\, so she checks into a small guesthouse. There she meets Mark\, a tourist\nwho is also reluctant to leave this nurturing community. \nSaturday\, November 20th | 1:30pm | | $5; tickets can be purchased here **advanced purchase\, masks\, proof of vaccination required**  \n92 minutes | In Icelandic with English subtitles
URL:https://newtonculture.org/event/scandinavian-cultural-center-presents-backyard-village-2021/
LOCATION:Scandinavian Cultural Center\, 206 Waltham St\, Newton\, MA\, 02465\, United States
CATEGORIES:Community Event,Culture and Education,Film and Media
ATTACH;FMTTYPE=image/jpeg:https://newtonculture.org/wp-content/uploads/2021/11/BackYard-600x266-1.jpeg
END:VEVENT
END:VCALENDAR