BEGIN:VCALENDAR
VERSION:2.0
PRODID:-//Newton Cultural Alliance - ECPv6.13.2.1//NONSGML v1.0//EN
CALSCALE:GREGORIAN
METHOD:PUBLISH
X-ORIGINAL-URL:https://newtonculture.org
X-WR-CALDESC:Events for Newton Cultural Alliance
REFRESH-INTERVAL;VALUE=DURATION:PT1H
X-Robots-Tag:noindex
X-PUBLISHED-TTL:PT1H
BEGIN:VTIMEZONE
TZID:America/New_York
BEGIN:DAYLIGHT
TZOFFSETFROM:-0500
TZOFFSETTO:-0400
TZNAME:EDT
DTSTART:20210314T070000
END:DAYLIGHT
BEGIN:STANDARD
TZOFFSETFROM:-0400
TZOFFSETTO:-0500
TZNAME:EST
DTSTART:20211107T060000
END:STANDARD
END:VTIMEZONE
BEGIN:VEVENT
DTSTART;TZID=America/New_York:20211122T130000
DTEND;TZID=America/New_York:20211122T160000
DTSTAMP:20260421T051951
CREATED:20210726T161635Z
LAST-MODIFIED:20210726T161635Z
UID:10019839-1637586000-1637596800@newtonculture.org
SUMMARY:New Art Center presents: Pastel Landscapes
DESCRIPTION:Capture the beauty of the seasons with the immediacy of dry pastel in this Zoom class. Working from photos\, explore how to build a landscape using many layers of colors. After taking this class\, you will be ready to draw landscapes from life using a medium that is easy to carry! All levels welcome\, but students must have at least taken one drawing class. See website for materials list. \nDates: 9/13 – 11/29\nDetails: Mondays\, 11 Sessions\nTimes: 1:00 PM – 4:00 PM\nNotes: no class 10/11
URL:https://newtonculture.org/event/new-art-center-presents-pastel-landscapes/2021-11-22/
LOCATION:Zoom
CATEGORIES:Art,Culture and Education,Visual Arts
ATTACH;FMTTYPE=image/jpeg:https://newtonculture.org/wp-content/uploads/2021/07/ACF21182-scaled-1.jpg
ORGANIZER;CN="New Art Center":MAILTO:info@newartcenter.org
END:VEVENT
BEGIN:VEVENT
DTSTART;TZID=America/New_York:20211122T160000
DTEND;TZID=America/New_York:20211122T173000
DTSTAMP:20260421T051951
CREATED:20240205T221934Z
LAST-MODIFIED:20240205T221934Z
UID:10019738-1637596800-1637602200@newtonculture.org
SUMMARY:Newton Theatre Kids presents: Fall Classes - Charlotte's Web
DESCRIPTION:Join lovable pig Wilbur and his best friend\, Charlotte the spider\, in this fun\, heartwarming re-telling of E.B. White’s classic story\, Charlotte’s Web. We’ve got dancing\, acting\, scenery-making\, and parts for everybody! ​Tuition: $385. Open to Students in Grades K-5 \nLocation for all classes: FUUSN – First Unitarian Universalist Society in Newton\n1326 Washington St\, Newton\, MA 02465 \nWe follow closings for all Newton Public school holidays and snow days. \nWe want theatre to be accessible to everyone.\nIf you are interested in learning more about Newton Theatre Kids scholarships\, please email Melissa.
URL:https://newtonculture.org/event/newton-theatre-kids-presents-fall-classes-charlottes-web/2021-11-22/
LOCATION:First Unitarian Universalist Society in Newton\, 1326 Washington St\, Newton\, MA\, 02465\, United States
CATEGORIES:Community Event,Culture and Education,Family Friendly,Performing Arts
ATTACH;FMTTYPE=image/png:https://newtonculture.org/wp-content/uploads/2021/06/1_orig.png
ORGANIZER;CN="Newton Theatre Company":MAILTO:info@newtontheatrecompany.com
END:VEVENT
BEGIN:VEVENT
DTSTART;TZID=America/New_York:20211122T193000
DTEND;TZID=America/New_York:20211122T193000
DTSTAMP:20260421T051951
CREATED:20211108T170453Z
LAST-MODIFIED:20211108T170453Z
UID:10019991-1637609400-1637609400@newtonculture.org
SUMMARY:Zamir Chorale presents: A Choral Rainbow
DESCRIPTION:This season\, in response to the alarming rise in racism\, antisemitism\, and other forms of prejudice\, we are even more committed to using our resources to expose our audiences (and ourselves) to music representing different cultures\, ethnicities\, and ways of thinking. With that in mind\, we are presenting an online series called “A Choral Rainbow\,” featuring video performances and conversations with the conductors of choruses from diverse and under-represented communities. \nOur first program\, in cooperation with the Consulate General of Israel to New England\, will feature David Hodgkins\, conductor of Coro Allegro—Boston’s LGBTQ+ and allied classical chorus; Micah Hendler\, conductor of The Jerusalem Youth Chorus—a choral and dialogue program for Palestinian and Israeli youth in Jerusalem; and Diana Sáez\, a leading specialist in the field of Latin American choral music. Watch this promo! \nThis is the first of a three-part program. Future programs will be held in February and April 2022. Click here to learn more and register.
URL:https://newtonculture.org/event/zamir-chorale-presents-a-choral-rainbow/
LOCATION:ONLINE\, United Kingdom\, E16 2DQ
CATEGORIES:Community Event,Culture and Education,Music
ATTACH;FMTTYPE=image/jpeg:https://newtonculture.org/wp-content/uploads/2021/10/a-choral-rainbow-cropped.jpg
ORGANIZER;CN="Zamir Chorale of Boston":MAILTO:manager@zamir.org
END:VEVENT
END:VCALENDAR