BEGIN:VCALENDAR
VERSION:2.0
PRODID:-//Newton Cultural Alliance - ECPv6.13.2.1//NONSGML v1.0//EN
CALSCALE:GREGORIAN
METHOD:PUBLISH
X-WR-CALNAME:Newton Cultural Alliance
X-ORIGINAL-URL:https://newtonculture.org
X-WR-CALDESC:Events for Newton Cultural Alliance
REFRESH-INTERVAL;VALUE=DURATION:PT1H
X-Robots-Tag:noindex
X-PUBLISHED-TTL:PT1H
BEGIN:VTIMEZONE
TZID:America/New_York
BEGIN:DAYLIGHT
TZOFFSETFROM:-0500
TZOFFSETTO:-0400
TZNAME:EDT
DTSTART:20210314T070000
END:DAYLIGHT
BEGIN:STANDARD
TZOFFSETFROM:-0400
TZOFFSETTO:-0500
TZNAME:EST
DTSTART:20211107T060000
END:STANDARD
END:VTIMEZONE
BEGIN:VEVENT
DTSTART;VALUE=DATE:20211130
DTEND;VALUE=DATE:20211201
DTSTAMP:20260421T064519
CREATED:20211026T151054Z
LAST-MODIFIED:20211026T151054Z
UID:10019947-1638230400-1638316799@newtonculture.org
SUMMARY:Boston Ballet presents: The Nutcracker
DESCRIPTION:Let your dreams come to life\nTake time for joy with your family and friends at New England’s most beloved holiday tradition. With brave toy soldiers\, dancing snowflakes\, and a tree that grows to the sky\, The Nutcracker conjures the childlike wonder in us all. \nSlip away into the warm drawing room of the Silberhaus family and watch as Clara’s surroundings transform before your eyes. From the dance of the Sugar Plum Fairy to the iconic snow scene\, this classical ballet set to the beloved music of Tchaikovsky continues to enthrall audiences of all ages. \nThe Nutcracker marks Boston Ballet’s return to the Citizens Bank Opera House\, and the shared magic and excitement of this heartwarming production feels more meaningful than ever as the curtain rises again. Join us in dreaming of sugarplums\, candy canes\, and the bright season ahead. \nAll patrons must present proof of vaccination or proof of a recent negative COVID test before entering the venue and must wear a mask inside the theater at all times\, regardless of vaccination status. \nTo purchase tickets and read the full COVID policy\, click here.
URL:https://newtonculture.org/event/boston-ballet-presents-the-nutcracker/2021-11-30/
LOCATION:Citizens Bank Opera House\, 539 Washington St\, Boston\, MA\, 02111\, United States
CATEGORIES:Culture and Education,Performing Arts
ATTACH;FMTTYPE=image/jpeg:https://newtonculture.org/wp-content/uploads/2021/10/perf-large_FY22_Nutcracker.jpg
ORGANIZER;CN="Boston Ballet School":MAILTO:school@bostonballet.org
END:VEVENT
BEGIN:VEVENT
DTSTART;TZID=America/New_York:20211130T153000
DTEND;TZID=America/New_York:20211130T163000
DTSTAMP:20260421T064519
CREATED:20210916T142243Z
LAST-MODIFIED:20210916T142243Z
UID:10019904-1638286200-1638289800@newtonculture.org
SUMMARY:New Art Center presents: Let’s Put On A Play! – GR 3-5
DESCRIPTION:Children will explore theater games\, stories and shorter character pieces\, using imagination and creative skills\, in this exciting class. Have fun as you develop self confidence and showmanship while working with award winning actor and sought-after Boston drama teacher Danny Bolton. Many of you know Danny as New Art Center’s summer performance instructor since 2004. Click here to register.
URL:https://newtonculture.org/event/new-art-center-presents-lets-put-on-a-play-gr-3-5/2021-11-30/
LOCATION:Zoom
CATEGORIES:Community Event,Culture and Education,Family Friendly,Performing Arts
ATTACH;FMTTYPE=image/jpeg:https://newtonculture.org/wp-content/uploads/2021/09/CCF21860-scaled-1.jpg
ORGANIZER;CN="New Art Center":MAILTO:info@newartcenter.org
END:VEVENT
BEGIN:VEVENT
DTSTART;TZID=America/New_York:20211130T190000
DTEND;TZID=America/New_York:20211130T200000
DTSTAMP:20260421T064519
CREATED:20210929T150026Z
LAST-MODIFIED:20210929T150026Z
UID:10019918-1638298800-1638302400@newtonculture.org
SUMMARY:Newton Free Library presents: The Breaking of Baseball's Color Barrier with Ted Reinstein
DESCRIPTION:This program is presented in partnership with Tewksbury Public Library\, the program sponsor. Please register here. \nJoin author and longtime Chronicle reporter Ted Reinstein for a presentation on his latest book\, Before Brooklyn: The Unsung Heroes Who Helped Break Baseball’s Color Barrier. The book tells the story of the little-known heroes who fought segregation in baseball\, from communist newspaper reporters to the Pullman car porters who saw to it that black newspapers espousing integration in professional sports reached the homes of blacks throughout the country. Readers will learn that in 1884 Moses Fleetwood Walker was actually the first black player in professional baseball and\, for a time\, integrated teams were not that unusual. Then\, as segregation In the U.S. hardened and exclusion of blacks in baseball quietly became the norm\, the battle for integration began anew. \nTed Reinstein has been a reporter for Chronicle\, WCVB-TV/Boston’s award-winning nightly news magazine since 1997. His other books include New England Notebook and Wicked Pissed. \nSponsored by the Corning Foundation and pesented in collaboration with Libraries Working Towards Social Justice. \nLogin information will be sent upon registration and again on the day of the event. Please be sure to check your spam folder in case it lands there.
URL:https://newtonculture.org/event/newton-free-library-presents-the-breaking-of-baseballs-color-barrier-with-ted-reinstein/
LOCATION:ONLINE\, United Kingdom\, E16 2DQ
CATEGORIES:Community Event,Culture and Education,Literary Arts
ATTACH;FMTTYPE=image/jpeg:https://newtonculture.org/wp-content/uploads/2021/09/11-30_Reinstein_bookcover_51qvIDwSwDS._SX331_BO1_204_203_200_.jpg
ORGANIZER;CN="Newton Free Library":MAILTO:admin@newtonfreelibrary.net
END:VEVENT
BEGIN:VEVENT
DTSTART;TZID=America/New_York:20211130T200000
DTEND;TZID=America/New_York:20211130T200000
DTSTAMP:20260421T064519
CREATED:20211001T163328Z
LAST-MODIFIED:20211001T163328Z
UID:10019929-1638302400-1638302400@newtonculture.org
SUMMARY:Pro Arte's Salon Series - Salon 2
DESCRIPTION:Pro Arte’s unique cooperative is comprised of musicians equally at home as soloists and chamber musicians as they are within the chamber orchestra. The Salon Series presents an opportunity for members of the cooperative to showcase their craft in various chamber groups performing a variety of exciting works. \nSalon 2 will include a selection of holiday favorites featuring Pro Arte’s brass section. Venue announcement coming soon. Purchase tickets here.
URL:https://newtonculture.org/event/pro-artes-salon-series-salon-2/
LOCATION:MA
CATEGORIES:Culture and Education,Music
END:VEVENT
END:VCALENDAR