BEGIN:VCALENDAR
VERSION:2.0
PRODID:-//Newton Cultural Alliance - ECPv6.13.2.1//NONSGML v1.0//EN
CALSCALE:GREGORIAN
METHOD:PUBLISH
X-WR-CALNAME:Newton Cultural Alliance
X-ORIGINAL-URL:https://newtonculture.org
X-WR-CALDESC:Events for Newton Cultural Alliance
REFRESH-INTERVAL;VALUE=DURATION:PT1H
X-Robots-Tag:noindex
X-PUBLISHED-TTL:PT1H
BEGIN:VTIMEZONE
TZID:America/New_York
BEGIN:DAYLIGHT
TZOFFSETFROM:-0500
TZOFFSETTO:-0400
TZNAME:EDT
DTSTART:20210314T070000
END:DAYLIGHT
BEGIN:STANDARD
TZOFFSETFROM:-0400
TZOFFSETTO:-0500
TZNAME:EST
DTSTART:20211107T060000
END:STANDARD
END:VTIMEZONE
BEGIN:VEVENT
DTSTART;VALUE=DATE:20211201
DTEND;VALUE=DATE:20211202
DTSTAMP:20260421T051931
CREATED:20211026T151054Z
LAST-MODIFIED:20211026T151054Z
UID:10019948-1638316800-1638403199@newtonculture.org
SUMMARY:Boston Ballet presents: The Nutcracker
DESCRIPTION:Let your dreams come to life\nTake time for joy with your family and friends at New England’s most beloved holiday tradition. With brave toy soldiers\, dancing snowflakes\, and a tree that grows to the sky\, The Nutcracker conjures the childlike wonder in us all. \nSlip away into the warm drawing room of the Silberhaus family and watch as Clara’s surroundings transform before your eyes. From the dance of the Sugar Plum Fairy to the iconic snow scene\, this classical ballet set to the beloved music of Tchaikovsky continues to enthrall audiences of all ages. \nThe Nutcracker marks Boston Ballet’s return to the Citizens Bank Opera House\, and the shared magic and excitement of this heartwarming production feels more meaningful than ever as the curtain rises again. Join us in dreaming of sugarplums\, candy canes\, and the bright season ahead. \nAll patrons must present proof of vaccination or proof of a recent negative COVID test before entering the venue and must wear a mask inside the theater at all times\, regardless of vaccination status. \nTo purchase tickets and read the full COVID policy\, click here.
URL:https://newtonculture.org/event/boston-ballet-presents-the-nutcracker/2021-12-01/
LOCATION:Citizens Bank Opera House\, 539 Washington St\, Boston\, MA\, 02111\, United States
CATEGORIES:Culture and Education,Performing Arts
ATTACH;FMTTYPE=image/jpeg:https://newtonculture.org/wp-content/uploads/2021/10/perf-large_FY22_Nutcracker.jpg
ORGANIZER;CN="Boston Ballet School":MAILTO:school@bostonballet.org
END:VEVENT
BEGIN:VEVENT
DTSTART;TZID=America/New_York:20211201T160000
DTEND;TZID=America/New_York:20211201T173000
DTSTAMP:20260421T051931
CREATED:20240205T221935Z
LAST-MODIFIED:20240205T221935Z
UID:10019752-1638374400-1638379800@newtonculture.org
SUMMARY:Newton Theatre Kids presents: Fall Classes - Charlotte's Web
DESCRIPTION:Join lovable pig Wilbur and his best friend\, Charlotte the spider\, in this fun\, heartwarming re-telling of E.B. White’s classic story\, Charlotte’s Web. We’ve got dancing\, acting\, scenery-making\, and parts for everybody! ​Tuition: $385. Open to Students in Grades K-5 \nLocation for all classes: FUUSN – First Unitarian Universalist Society in Newton\n1326 Washington St\, Newton\, MA 02465 \nWe follow closings for all Newton Public school holidays and snow days. \nWe want theatre to be accessible to everyone.\nIf you are interested in learning more about Newton Theatre Kids scholarships\, please email Melissa.
URL:https://newtonculture.org/event/newton-theatre-kids-presents-fall-classes-charlottes-web/2021-12-01/
LOCATION:First Unitarian Universalist Society in Newton\, 1326 Washington St\, Newton\, MA\, 02465\, United States
CATEGORIES:Community Event,Culture and Education,Family Friendly,Performing Arts
ATTACH;FMTTYPE=image/png:https://newtonculture.org/wp-content/uploads/2021/06/1_orig.png
ORGANIZER;CN="Newton Theatre Company":MAILTO:info@newtontheatrecompany.com
END:VEVENT
BEGIN:VEVENT
DTSTART;TZID=America/New_York:20211201T180000
DTEND;TZID=America/New_York:20211201T200000
DTSTAMP:20260421T051931
CREATED:20210916T142929Z
LAST-MODIFIED:20210916T142929Z
UID:10019911-1638381600-1638388800@newtonculture.org
SUMMARY:New Art Center presents: Teen Zine - GR 9-12
DESCRIPTION:In this 6-week course students will  print and produce their own zine – a small circulation of self-published work using a combination of both text and imagery.  Students will develop their own short stories and/or poems and use these pieces to create visual imagery to support their writing. By the end the of the course  students will print a limited-edition zine using a variety of print methods both by hand  and using a press. Click here to register. \nNotes: no class 11/24
URL:https://newtonculture.org/event/new-art-center-presents-teen-zine-gr-9-12/2021-12-01/
LOCATION:New Art Center\, 61 Washington Park\, Newton\, MA\, 02460\, United States
CATEGORIES:Art,Community Event,Literary Arts
ATTACH;FMTTYPE=image/jpeg:https://newtonculture.org/wp-content/uploads/2021/09/ZINES_ZINE-FOR-JO-2595-2-1390x611-1.jpg
ORGANIZER;CN="New Art Center":MAILTO:info@newartcenter.org
END:VEVENT
BEGIN:VEVENT
DTSTART;TZID=America/New_York:20211201T190000
DTEND;TZID=America/New_York:20211201T203000
DTSTAMP:20260421T051931
CREATED:20211103T161517Z
LAST-MODIFIED:20220217T135502Z
UID:10019980-1638385200-1638390600@newtonculture.org
SUMMARY:Newton Art Association presents: Legal Issues for Artists
DESCRIPTION:What are your rights and legal obligations as an artist? What do you need to know about copyrights\, contracts\, commissions\, and consignments with galleries? What are your precise legal liabilities?\nThese and other artists’ rights issues will be discussed by Nicholas M. O’Donnell at our second professional workshop. \nZoom link for the event is found here.
URL:https://newtonculture.org/event/newton-art-association-presents-legal-issues-for-artists/2021-12-01/
LOCATION:Zoom
CATEGORIES:Art,Culture and Education,Visual Arts
ATTACH;FMTTYPE=image/jpeg:https://newtonculture.org/wp-content/uploads/2021/11/paint-brush.jpg
END:VEVENT
END:VCALENDAR