BEGIN:VCALENDAR
VERSION:2.0
PRODID:-//Newton Cultural Alliance - ECPv6.13.2.1//NONSGML v1.0//EN
CALSCALE:GREGORIAN
METHOD:PUBLISH
X-WR-CALNAME:Newton Cultural Alliance
X-ORIGINAL-URL:https://newtonculture.org
X-WR-CALDESC:Events for Newton Cultural Alliance
REFRESH-INTERVAL;VALUE=DURATION:PT1H
X-Robots-Tag:noindex
X-PUBLISHED-TTL:PT1H
BEGIN:VTIMEZONE
TZID:America/New_York
BEGIN:DAYLIGHT
TZOFFSETFROM:-0500
TZOFFSETTO:-0400
TZNAME:EDT
DTSTART:20210314T070000
END:DAYLIGHT
BEGIN:STANDARD
TZOFFSETFROM:-0400
TZOFFSETTO:-0500
TZNAME:EST
DTSTART:20211107T060000
END:STANDARD
END:VTIMEZONE
BEGIN:VEVENT
DTSTART;VALUE=DATE:20211209
DTEND;VALUE=DATE:20211210
DTSTAMP:20260421T115721
CREATED:20211026T151054Z
LAST-MODIFIED:20211026T151054Z
UID:10019956-1639008000-1639094399@newtonculture.org
SUMMARY:Boston Ballet presents: The Nutcracker
DESCRIPTION:Let your dreams come to life\nTake time for joy with your family and friends at New England’s most beloved holiday tradition. With brave toy soldiers\, dancing snowflakes\, and a tree that grows to the sky\, The Nutcracker conjures the childlike wonder in us all. \nSlip away into the warm drawing room of the Silberhaus family and watch as Clara’s surroundings transform before your eyes. From the dance of the Sugar Plum Fairy to the iconic snow scene\, this classical ballet set to the beloved music of Tchaikovsky continues to enthrall audiences of all ages. \nThe Nutcracker marks Boston Ballet’s return to the Citizens Bank Opera House\, and the shared magic and excitement of this heartwarming production feels more meaningful than ever as the curtain rises again. Join us in dreaming of sugarplums\, candy canes\, and the bright season ahead. \nAll patrons must present proof of vaccination or proof of a recent negative COVID test before entering the venue and must wear a mask inside the theater at all times\, regardless of vaccination status. \nTo purchase tickets and read the full COVID policy\, click here.
URL:https://newtonculture.org/event/boston-ballet-presents-the-nutcracker/2021-12-09/
LOCATION:Citizens Bank Opera House\, 539 Washington St\, Boston\, MA\, 02111\, United States
CATEGORIES:Culture and Education,Performing Arts
ATTACH;FMTTYPE=image/jpeg:https://newtonculture.org/wp-content/uploads/2021/10/perf-large_FY22_Nutcracker.jpg
ORGANIZER;CN="Boston Ballet School":MAILTO:school@bostonballet.org
END:VEVENT
BEGIN:VEVENT
DTSTART;TZID=America/New_York:20211209T160000
DTEND;TZID=America/New_York:20211209T173000
DTSTAMP:20260421T115721
CREATED:20210614T163233Z
LAST-MODIFIED:20210614T163427Z
UID:10019727-1639065600-1639071000@newtonculture.org
SUMMARY:Newton Theatre Kids presents: Fall Classes - Charlotte's Web
DESCRIPTION:Join lovable pig Wilbur and his best friend\, Charlotte the spider\, in this fun\, heartwarming re-telling of E.B. White’s classic story\, Charlotte’s Web. We’ve got dancing\, acting\, scenery-making\, and parts for everybody! ​Tuition: $385. Open to Students in Grades K-5 \nLocation for all classes: FUUSN – First Unitarian Universalist Society in Newton\n1326 Washington St\, Newton\, MA 02465 \nWe follow closings for all Newton Public school holidays and snow days. \nWe want theatre to be accessible to everyone.\nIf you are interested in learning more about Newton Theatre Kids scholarships\, please email Melissa.
URL:https://newtonculture.org/event/newton-theatre-kids-presents-fall-classes-charlottes-web/2021-12-09/
LOCATION:First Unitarian Universalist Society in Newton\, 1326 Washington St\, Newton\, MA\, 02465\, United States
CATEGORIES:Community Event,Culture and Education,Family Friendly,Performing Arts
ATTACH;FMTTYPE=image/png:https://newtonculture.org/wp-content/uploads/2021/06/1_orig.png
ORGANIZER;CN="Newton Theatre Company":MAILTO:info@newtontheatrecompany.com
END:VEVENT
BEGIN:VEVENT
DTSTART;TZID=America/New_York:20211209T183000
DTEND;TZID=America/New_York:20211209T200000
DTSTAMP:20260421T115721
CREATED:20210614T163818Z
LAST-MODIFIED:20210614T163818Z
UID:10019771-1639074600-1639080000@newtonculture.org
SUMMARY:Newton Theatre Kids presents: Fall Classes - Devising Ensemble
DESCRIPTION:Join NTK’s all new Devising Ensemble! Our first program for middle schoolers gives participants the opportunity to explore new forms of performance and hone their artistic skills\, all while creating an original piece of theatre as an ensemble. Specifically tailored to the interests of the students\, this class is an excellent opportunity for young performers to expand their artistic horizons and learn more about their craft. ​Open to Students in Grades 6-8. ​Tuition: $385 \nThursdays from 6:30-8 pm\nSeptember 9th through December 16th\n​Taught by Abby Lass \nLocation for all classes: FUUSN – First Unitarian Universalist Society in Newton\n1326 Washington St\, Newton\, MA 02465 \nWe follow closings for all Newton Public school holidays and snow days. \nWe want theatre to be accessible to everyone.\nIf you are interested in learning more about Newton Theatre Kids scholarships\, please email Melissa.
URL:https://newtonculture.org/event/newton-theatre-kids-presents-fall-classes-devising-ensemble/2021-12-09/
LOCATION:First Unitarian Universalist Society in Newton\, 1326 Washington St\, Newton\, MA\, 02465\, United States
CATEGORIES:Community Event,Culture and Education,Performing Arts
ATTACH;FMTTYPE=image/png:https://newtonculture.org/wp-content/uploads/2021/06/2_orig.png
ORGANIZER;CN="Newton Theatre Company":MAILTO:info@newtontheatrecompany.com
END:VEVENT
BEGIN:VEVENT
DTSTART;TZID=America/New_York:20211209T190000
DTEND;TZID=America/New_York:20211209T200000
DTSTAMP:20260421T115721
CREATED:20210929T163239Z
LAST-MODIFIED:20210929T163239Z
UID:10019922-1639076400-1639080000@newtonculture.org
SUMMARY:Newton Free Library presents: You Came Through The Ruins - Tagore's Songs and Poems of Life and Renewal
DESCRIPTION:Join Maitreyee Chakraborty and friends for a special concert that will focus on the works of the Bengali poet\, Rabindranath Tagore. He was a writer\, playwright\, composer\, philosopher\, social reformer and painter who won the Nobel Prize for Literature in 1913. Maitreyee is trained in the classical Indian vocal tradtion. \nWhen the world crumbles around us\, death tolls rise and intolerance grows\, Rabindranath Tagore’s words and music offers solace and perspective. \nJoining Maitreyee will be Monami Roy\, Raka Dutta\, Swadhina Guhathakurta and Swati Biswas. Swati and Swadhina will be dancing. Raka will be reciting some poems and Mona will be discussing the relevance of the songs. \nThis program is supported in part by a grant from the Newton and Wellesley Cultural Councils\, local agencies which are supported by the Mass Cultural Council\, a state agency. \nRegistration for this program will end two hours before the start time. The login information will be sent just after registration closes. Please be sure to check your spam folder in case it lands there.
URL:https://newtonculture.org/event/newton-free-library-presents-you-came-through-the-ruins-tagores-songs-and-poems-of-life-and-renewal-2/
LOCATION:ONLINE\, United Kingdom\, E16 2DQ
CATEGORIES:Art,Culture and Education,Literary Arts
ATTACH;FMTTYPE=image/jpeg:https://newtonculture.org/wp-content/uploads/2021/07/06-11_Concert_Tagore_use_this_one-scaled.jpg
ORGANIZER;CN="Newton Free Library":MAILTO:admin@newtonfreelibrary.net
END:VEVENT
BEGIN:VEVENT
DTSTART;TZID=America/New_York:20211209T193000
DTEND;TZID=America/New_York:20211209T193000
DTSTAMP:20260421T115721
CREATED:20211108T163318Z
LAST-MODIFIED:20211108T163511Z
UID:10019987-1639078200-1639078200@newtonculture.org
SUMMARY:Theatre Ink presents: The 25th Annual Putnam County Spelling Bee
DESCRIPTION:An eclectic group of six mid-pubescents vie for the spelling championship of a lifetime. While candidly disclosing hilarious and touching stories from their home lives\, the tweens spell their way through a series of (potentially made-up) words\, hoping never to hear the soul-crushing\, pout-inducing\, life un-affirming “ding” of the bell that signals a spelling mistake. Six spellers enter; one speller leaves! At least the losers get a juice box. \nPurchase in-person tickets  HERE. For virtual tickets\, click HERE.
URL:https://newtonculture.org/event/theatre-ink-presents-the-25th-annual-putnam-county-spelling-bee/2021-12-09/
LOCATION:Newton North High School\, 457 Walnut St\, Newton\, MA\, 02460\, United States
CATEGORIES:Community Event,Performing Arts
ATTACH;FMTTYPE=image/jpeg:https://newtonculture.org/wp-content/uploads/2021/11/SB_compact.jpg
END:VEVENT
END:VCALENDAR