BEGIN:VCALENDAR
VERSION:2.0
PRODID:-//Newton Cultural Alliance - ECPv6.13.2.1//NONSGML v1.0//EN
CALSCALE:GREGORIAN
METHOD:PUBLISH
X-ORIGINAL-URL:https://newtonculture.org
X-WR-CALDESC:Events for Newton Cultural Alliance
REFRESH-INTERVAL;VALUE=DURATION:PT1H
X-Robots-Tag:noindex
X-PUBLISHED-TTL:PT1H
BEGIN:VTIMEZONE
TZID:America/New_York
BEGIN:DAYLIGHT
TZOFFSETFROM:-0500
TZOFFSETTO:-0400
TZNAME:EDT
DTSTART:20210314T070000
END:DAYLIGHT
BEGIN:STANDARD
TZOFFSETFROM:-0400
TZOFFSETTO:-0500
TZNAME:EST
DTSTART:20211107T060000
END:STANDARD
END:VTIMEZONE
BEGIN:VEVENT
DTSTART;VALUE=DATE:20211211
DTEND;VALUE=DATE:20211212
DTSTAMP:20260421T115352
CREATED:20211026T151054Z
LAST-MODIFIED:20211026T151054Z
UID:10019958-1639180800-1639267199@newtonculture.org
SUMMARY:Boston Ballet presents: The Nutcracker
DESCRIPTION:Let your dreams come to life\nTake time for joy with your family and friends at New England’s most beloved holiday tradition. With brave toy soldiers\, dancing snowflakes\, and a tree that grows to the sky\, The Nutcracker conjures the childlike wonder in us all. \nSlip away into the warm drawing room of the Silberhaus family and watch as Clara’s surroundings transform before your eyes. From the dance of the Sugar Plum Fairy to the iconic snow scene\, this classical ballet set to the beloved music of Tchaikovsky continues to enthrall audiences of all ages. \nThe Nutcracker marks Boston Ballet’s return to the Citizens Bank Opera House\, and the shared magic and excitement of this heartwarming production feels more meaningful than ever as the curtain rises again. Join us in dreaming of sugarplums\, candy canes\, and the bright season ahead. \nAll patrons must present proof of vaccination or proof of a recent negative COVID test before entering the venue and must wear a mask inside the theater at all times\, regardless of vaccination status. \nTo purchase tickets and read the full COVID policy\, click here.
URL:https://newtonculture.org/event/boston-ballet-presents-the-nutcracker/2021-12-11/
LOCATION:Citizens Bank Opera House\, 539 Washington St\, Boston\, MA\, 02111\, United States
CATEGORIES:Culture and Education,Performing Arts
ATTACH;FMTTYPE=image/jpeg:https://newtonculture.org/wp-content/uploads/2021/10/perf-large_FY22_Nutcracker.jpg
ORGANIZER;CN="Boston Ballet School":MAILTO:school@bostonballet.org
END:VEVENT
BEGIN:VEVENT
DTSTART;TZID=America/New_York:20211211T130000
DTEND;TZID=America/New_York:20211211T143000
DTSTAMP:20260421T115352
CREATED:20211119T143506Z
LAST-MODIFIED:20211119T143506Z
UID:10019993-1639227600-1639233000@newtonculture.org
SUMMARY:Scandinavian Cultural Center presents: "The Men's Room" Screening
DESCRIPTION:A wonderful Norwegian male choir is getting ready to warm up for Black Sabbath and to sing the last verse for their conductor. \n\nEvery Tuesday\, 25 men in their prime get together in a bar in Oslo to sing in a choir and drink beers. They have joked that they have promised to sing at each other’s funerals  and now it looks like the choir’s conductor will be the first to be sung out. The doctor has given him just a few months to live. Which is roughly the time that the male choir has to prepare for its biggest gig to date: a warm-up job for Black Sabbath. The countdown has started\, while both the cancer-stricken conductor and the wonderful lads in the choir try to keep their spirits high with songs about the hardships of middle-aged men\, while they also prepare to say farewell to each other. The joy of singing and community help them to open up to each other and their feelings. Rarely has a film been so funny and touching\, and you are both warmed on the inside and reduced to tears at the same time. ‘The Men’s Room’ is a film that goes straight to the heart and stays there. \nin Norwegian with English subtitles | 75 minutes \nSaturday\, December 11th | 1pm | $5; free for SCC members | Tickets here
URL:https://newtonculture.org/event/scandinavian-cultural-center-presents-the-mens-room-screening/
LOCATION:Scandinavian Cultural Center\, 206 Waltham St\, Newton\, MA\, 02465\, United States
CATEGORIES:Culture and Education,Film and Media
ATTACH;FMTTYPE=image/jpeg:https://newtonculture.org/wp-content/uploads/2021/11/the-mens-room-600x266-1.jpg
END:VEVENT
BEGIN:VEVENT
DTSTART;TZID=America/New_York:20211211T193000
DTEND;TZID=America/New_York:20211211T193000
DTSTAMP:20260421T115352
CREATED:20211108T163318Z
LAST-MODIFIED:20211108T163511Z
UID:10019989-1639251000-1639251000@newtonculture.org
SUMMARY:Theatre Ink presents: The 25th Annual Putnam County Spelling Bee
DESCRIPTION:An eclectic group of six mid-pubescents vie for the spelling championship of a lifetime. While candidly disclosing hilarious and touching stories from their home lives\, the tweens spell their way through a series of (potentially made-up) words\, hoping never to hear the soul-crushing\, pout-inducing\, life un-affirming “ding” of the bell that signals a spelling mistake. Six spellers enter; one speller leaves! At least the losers get a juice box. \nPurchase in-person tickets  HERE. For virtual tickets\, click HERE.
URL:https://newtonculture.org/event/theatre-ink-presents-the-25th-annual-putnam-county-spelling-bee/2021-12-11/
LOCATION:Newton North High School\, 457 Walnut St\, Newton\, MA\, 02460\, United States
CATEGORIES:Community Event,Performing Arts
ATTACH;FMTTYPE=image/jpeg:https://newtonculture.org/wp-content/uploads/2021/11/SB_compact.jpg
END:VEVENT
END:VCALENDAR