BEGIN:VCALENDAR
VERSION:2.0
PRODID:-//Newton Cultural Alliance - ECPv6.13.2.1//NONSGML v1.0//EN
CALSCALE:GREGORIAN
METHOD:PUBLISH
X-ORIGINAL-URL:https://newtonculture.org
X-WR-CALDESC:Events for Newton Cultural Alliance
REFRESH-INTERVAL;VALUE=DURATION:PT1H
X-Robots-Tag:noindex
X-PUBLISHED-TTL:PT1H
BEGIN:VTIMEZONE
TZID:America/New_York
BEGIN:DAYLIGHT
TZOFFSETFROM:-0500
TZOFFSETTO:-0400
TZNAME:EDT
DTSTART:20210314T070000
END:DAYLIGHT
BEGIN:STANDARD
TZOFFSETFROM:-0400
TZOFFSETTO:-0500
TZNAME:EST
DTSTART:20211107T060000
END:STANDARD
END:VTIMEZONE
BEGIN:VEVENT
DTSTART;VALUE=DATE:20211215
DTEND;VALUE=DATE:20211216
DTSTAMP:20260421T115838
CREATED:20211026T151054Z
LAST-MODIFIED:20211026T151054Z
UID:10019962-1639526400-1639612799@newtonculture.org
SUMMARY:Boston Ballet presents: The Nutcracker
DESCRIPTION:Let your dreams come to life\nTake time for joy with your family and friends at New England’s most beloved holiday tradition. With brave toy soldiers\, dancing snowflakes\, and a tree that grows to the sky\, The Nutcracker conjures the childlike wonder in us all. \nSlip away into the warm drawing room of the Silberhaus family and watch as Clara’s surroundings transform before your eyes. From the dance of the Sugar Plum Fairy to the iconic snow scene\, this classical ballet set to the beloved music of Tchaikovsky continues to enthrall audiences of all ages. \nThe Nutcracker marks Boston Ballet’s return to the Citizens Bank Opera House\, and the shared magic and excitement of this heartwarming production feels more meaningful than ever as the curtain rises again. Join us in dreaming of sugarplums\, candy canes\, and the bright season ahead. \nAll patrons must present proof of vaccination or proof of a recent negative COVID test before entering the venue and must wear a mask inside the theater at all times\, regardless of vaccination status. \nTo purchase tickets and read the full COVID policy\, click here.
URL:https://newtonculture.org/event/boston-ballet-presents-the-nutcracker/2021-12-15/
LOCATION:Citizens Bank Opera House\, 539 Washington St\, Boston\, MA\, 02111\, United States
CATEGORIES:Culture and Education,Performing Arts
ATTACH;FMTTYPE=image/jpeg:https://newtonculture.org/wp-content/uploads/2021/10/perf-large_FY22_Nutcracker.jpg
ORGANIZER;CN="Boston Ballet School":MAILTO:school@bostonballet.org
END:VEVENT
BEGIN:VEVENT
DTSTART;TZID=America/New_York:20211215T150000
DTEND;TZID=America/New_York:20211215T160000
DTSTAMP:20260421T115838
CREATED:20210517T165232Z
LAST-MODIFIED:20210614T165516Z
UID:10018818-1639580400-1639584000@newtonculture.org
SUMMARY:Newton Free Library presents: Paul-André Bempéchat Performs Beethoven Sonatas
DESCRIPTION:Paul-André Bempéchat will return to the Facebook Live stage to perform a selection of Beethoven’s sonatas! \n(You do not need to have a Facebook account to attend.) \nPaul-André Bempéchat is Music Fellow at Harvard’s Cabot House. A Juilliard and Sorbonne graduate\, he has enjoyed a forty-year performing and teaching career on both sides of the Atlantic\, having performed at venues as prestigious as Berlin’s Konzerthaus\, the Vienna Festival\, Jordan Hall and Alice Tully Hall. \nRegistration for this program will end two hours before the start time. The login information will be sent just after registration closes. Please be sure to check your spam folder in case it lands there. \n 
URL:https://newtonculture.org/event/newton-free-library-presents-paul-andre-bempechat-performs-beethoven-sonatas/
LOCATION:Facebook Live\, United States
CATEGORIES:Community Event,Culture and Education,Music
ATTACH;FMTTYPE=image/png:https://newtonculture.org/wp-content/uploads/2021/05/Copy_of_06-23_Beethoven-2-e1621270278333.png
ORGANIZER;CN="Newton Free Library":MAILTO:admin@newtonfreelibrary.net
END:VEVENT
END:VCALENDAR