BEGIN:VCALENDAR
VERSION:2.0
PRODID:-//Newton Cultural Alliance - ECPv6.13.2.1//NONSGML v1.0//EN
CALSCALE:GREGORIAN
METHOD:PUBLISH
X-ORIGINAL-URL:https://newtonculture.org
X-WR-CALDESC:Events for Newton Cultural Alliance
REFRESH-INTERVAL;VALUE=DURATION:PT1H
X-Robots-Tag:noindex
X-PUBLISHED-TTL:PT1H
BEGIN:VTIMEZONE
TZID:America/New_York
BEGIN:DAYLIGHT
TZOFFSETFROM:-0500
TZOFFSETTO:-0400
TZNAME:EDT
DTSTART:20220313T070000
END:DAYLIGHT
BEGIN:STANDARD
TZOFFSETFROM:-0400
TZOFFSETTO:-0500
TZNAME:EST
DTSTART:20221106T060000
END:STANDARD
END:VTIMEZONE
BEGIN:VEVENT
DTSTART;TZID=America/New_York:20220122T130000
DTEND;TZID=America/New_York:20220122T130000
DTSTAMP:20260421T044359
CREATED:20211022T145015Z
LAST-MODIFIED:20211022T145015Z
UID:10019941-1642856400-1642856400@newtonculture.org
SUMMARY:Scandinavian Cultural Center presents: "Men of Terror" Book Talk
DESCRIPTION:BOOK TALK: MEN OF TERROR – A COMPREHENSIVE ANALYSIS OF VIKING COMBAT\n\nA lecture by Dr. William R. Short \nViking society revolved around violence\, as seen in their myths\, poetry\, law codes\, pictures\, and even in their house architecture. One Viking\, a man named Fraði\, was memorialized on a runestone raised 1000 years ago and praised for being a “man of terror”. Who were these people who praised this violence\, and what made violence such an integral part of their society? \nJoin author Dr. William R. Short for an afternoon of surprising research results and fascinating insights into the lives and society of these people we call Vikings: these men of terror. This material\, based on a 20+ year-long scientific study of the combative methods of the Vikings\, is taken from the book\, Men of Terror: A Comprehensive Analysis of Viking Combat\, co-authored with Reynir A. Óskarson. The book presents\, for the first time\, a holistic picture of Viking combat\, created by combining and overlaying many different sources. \nSaturday\, January 22nd | 1pm | register here **advanced registration\, and proof of vaccination required**
URL:https://newtonculture.org/event/scandinavian-cultural-center-presents-men-of-terror-book-talk/
LOCATION:Scandinavian Cultural Center\, 206 Waltham St\, Newton\, MA\, 02465\, United States
CATEGORIES:Culture and Education,Literary Arts
ATTACH;FMTTYPE=image/jpeg:https://newtonculture.org/wp-content/uploads/2021/10/Men-of-Terror-211x300-1.jpg
END:VEVENT
BEGIN:VEVENT
DTSTART;TZID=America/New_York:20220122T140000
DTEND;TZID=America/New_York:20220122T160000
DTSTAMP:20260421T044359
CREATED:20211122T160813Z
LAST-MODIFIED:20211122T160856Z
UID:10019995-1642860000-1642867200@newtonculture.org
SUMMARY:Newton Theatre Company presents Macbeth
DESCRIPTION:This winter\, Newton Theatre Company will bring you one of Shakespeare’s most famous tragedies– with a twist! \nMacbeth\nBy William Shakespeare \nJanuary 21-23\nThe Woman’s Club of Newton Highlands\n72 Columbus St\, Newton\, MA 02461\n\nAn all-woman ensemble takes on Shakespeare’s tragedy about the infamous Scottish king and queen and the dark consequences of their murderous ambition. \nClick here to purchase your tickets!
URL:https://newtonculture.org/event/newton-theatre-company-presents-macbeth/2022-01-22/1/
LOCATION:The Woman’s Club of Newton Highlands\, 72 Columbus St\, Newton\, MA\, 02461\, United States
CATEGORIES:Culture and Education,Performing Arts
ATTACH;FMTTYPE=image/png:https://newtonculture.org/wp-content/uploads/2021/11/2_orig-e1642606315407.png
ORGANIZER;CN="Newton Theatre Company":MAILTO:info@newtontheatrecompany.com
END:VEVENT
BEGIN:VEVENT
DTSTART;TZID=America/New_York:20220122T200000
DTEND;TZID=America/New_York:20220122T220000
DTSTAMP:20260421T044359
CREATED:20211122T160813Z
LAST-MODIFIED:20211122T160856Z
UID:10019996-1642881600-1642888800@newtonculture.org
SUMMARY:Newton Theatre Company presents Macbeth
DESCRIPTION:This winter\, Newton Theatre Company will bring you one of Shakespeare’s most famous tragedies– with a twist! \nMacbeth\nBy William Shakespeare \nJanuary 21-23\nThe Woman’s Club of Newton Highlands\n72 Columbus St\, Newton\, MA 02461\n\nAn all-woman ensemble takes on Shakespeare’s tragedy about the infamous Scottish king and queen and the dark consequences of their murderous ambition. \nClick here to purchase your tickets!
URL:https://newtonculture.org/event/newton-theatre-company-presents-macbeth/2022-01-22/2/
LOCATION:The Woman’s Club of Newton Highlands\, 72 Columbus St\, Newton\, MA\, 02461\, United States
CATEGORIES:Culture and Education,Performing Arts
ATTACH;FMTTYPE=image/png:https://newtonculture.org/wp-content/uploads/2021/11/2_orig-e1642606315407.png
ORGANIZER;CN="Newton Theatre Company":MAILTO:info@newtontheatrecompany.com
END:VEVENT
END:VCALENDAR