BEGIN:VCALENDAR
VERSION:2.0
PRODID:-//Newton Cultural Alliance - ECPv6.13.2.1//NONSGML v1.0//EN
CALSCALE:GREGORIAN
METHOD:PUBLISH
X-WR-CALNAME:Newton Cultural Alliance
X-ORIGINAL-URL:https://newtonculture.org
X-WR-CALDESC:Events for Newton Cultural Alliance
REFRESH-INTERVAL;VALUE=DURATION:PT1H
X-Robots-Tag:noindex
X-PUBLISHED-TTL:PT1H
BEGIN:VTIMEZONE
TZID:America/New_York
BEGIN:DAYLIGHT
TZOFFSETFROM:-0500
TZOFFSETTO:-0400
TZNAME:EDT
DTSTART:20220313T070000
END:DAYLIGHT
BEGIN:STANDARD
TZOFFSETFROM:-0400
TZOFFSETTO:-0500
TZNAME:EST
DTSTART:20221106T060000
END:STANDARD
END:VTIMEZONE
BEGIN:VEVENT
DTSTART;TZID=America/New_York:20220211T190000
DTEND;TZID=America/New_York:20220211T220000
DTSTAMP:20260421T061547
CREATED:20220105T143949Z
LAST-MODIFIED:20220105T144253Z
UID:10019174-1644606000-1644616800@newtonculture.org
SUMMARY:New Art Center Presents: Friday Figure Draw
DESCRIPTION:Details: Friday\, 1 Session\nTimes: 7:00 PM – 10:00 PM \nEnjoy a life drawing open studio with a live model\, beginning with quick poses\, and ending with an hour pose. The evening will be relaxed but professional\, with music\, a great model\, and the opportunity to purchase wine or beer. No photography allowed. No instruction. For artists 21+\, ID required. Bring your own art supplies (no oils); easels/chairs provided.
URL:https://newtonculture.org/event/friday-figure-draw/2022-02-11/
LOCATION:New Art Center\, 61 Washington Park\, Newton\, MA\, 02460\, United States
ATTACH;FMTTYPE=image/jpeg:https://newtonculture.org/wp-content/uploads/2022/01/AWF21821-scaled-1-e1641393760674.jpg
ORGANIZER;CN="New Art Center":MAILTO:info@newartcenter.org
END:VEVENT
END:VCALENDAR