BEGIN:VCALENDAR
VERSION:2.0
PRODID:-//Newton Cultural Alliance - ECPv6.13.2.1//NONSGML v1.0//EN
CALSCALE:GREGORIAN
METHOD:PUBLISH
X-ORIGINAL-URL:https://newtonculture.org
X-WR-CALDESC:Events for Newton Cultural Alliance
REFRESH-INTERVAL;VALUE=DURATION:PT1H
X-Robots-Tag:noindex
X-PUBLISHED-TTL:PT1H
BEGIN:VTIMEZONE
TZID:America/New_York
BEGIN:DAYLIGHT
TZOFFSETFROM:-0500
TZOFFSETTO:-0400
TZNAME:EDT
DTSTART:20220313T070000
END:DAYLIGHT
BEGIN:STANDARD
TZOFFSETFROM:-0400
TZOFFSETTO:-0500
TZNAME:EST
DTSTART:20221106T060000
END:STANDARD
END:VTIMEZONE
BEGIN:VEVENT
DTSTART;TZID=America/New_York:20220217T190000
DTEND;TZID=America/New_York:20220217T203000
DTSTAMP:20260421T061545
CREATED:20211103T161517Z
LAST-MODIFIED:20220217T135502Z
UID:10019981-1645124400-1645129800@newtonculture.org
SUMMARY:Newton Art Association presents: Legal Issues for Artists
DESCRIPTION:What are your rights and legal obligations as an artist? What do you need to know about copyrights\, contracts\, commissions\, and consignments with galleries? What are your precise legal liabilities?\nThese and other artists’ rights issues will be discussed by Nicholas M. O’Donnell at our second professional workshop. \nZoom link for the event is found here.
URL:https://newtonculture.org/event/newton-art-association-presents-legal-issues-for-artists/2022-02-17/
LOCATION:Zoom
CATEGORIES:Art,Culture and Education,Visual Arts
ATTACH;FMTTYPE=image/jpeg:https://newtonculture.org/wp-content/uploads/2021/11/paint-brush.jpg
END:VEVENT
END:VCALENDAR