BEGIN:VCALENDAR
VERSION:2.0
PRODID:-//Newton Cultural Alliance - ECPv6.13.2.1//NONSGML v1.0//EN
CALSCALE:GREGORIAN
METHOD:PUBLISH
X-ORIGINAL-URL:https://newtonculture.org
X-WR-CALDESC:Events for Newton Cultural Alliance
REFRESH-INTERVAL;VALUE=DURATION:PT1H
X-Robots-Tag:noindex
X-PUBLISHED-TTL:PT1H
BEGIN:VTIMEZONE
TZID:America/New_York
BEGIN:DAYLIGHT
TZOFFSETFROM:-0500
TZOFFSETTO:-0400
TZNAME:EDT
DTSTART:20220313T070000
END:DAYLIGHT
BEGIN:STANDARD
TZOFFSETFROM:-0400
TZOFFSETTO:-0500
TZNAME:EST
DTSTART:20221106T060000
END:STANDARD
END:VTIMEZONE
BEGIN:VEVENT
DTSTART;TZID=America/New_York:20220304T180000
DTEND;TZID=America/New_York:20220304T190000
DTSTAMP:20260421T045819
CREATED:20220105T145347Z
LAST-MODIFIED:20220105T145347Z
UID:10019178-1646416800-1646420400@newtonculture.org
SUMMARY:New Art Center presents: Artist Talk with Stephanie Osser
DESCRIPTION:Dates: 3/4\nDetails: Friday\, 1 Session\nTimes: 6:00 PM – 7:00 PM\nStephanie Osser\nIllustrator- Boston\, Massachusetts.\nAt a time when the world’s news is filled with hardships\, fearful concerns\, negativity\, and divisiveness\, I have committed my art to the uplifting of the human spirit and as an emanation of optimism. It is my hope that each work of art I create will take its beholders away from the darkness of our times and bring them into a world of light— whether it is through my lithophanes\, the use of bright and colorful glazes against luminescent backgrounds\, or explorations of the properties of light and shadow.
URL:https://newtonculture.org/event/new-art-center-presents-artist-talk-with-stephanie-osser/
LOCATION:New Art Center\, 61 Washington Park\, Newton\, MA\, 02460\, United States
CATEGORIES:Art,Visual Arts
ATTACH;FMTTYPE=image/jpeg:https://newtonculture.org/wp-content/uploads/2022/01/AEW22803-scaled-1.jpg
ORGANIZER;CN="New Art Center":MAILTO:info@newartcenter.org
END:VEVENT
END:VCALENDAR