BEGIN:VCALENDAR
VERSION:2.0
PRODID:-//Newton Cultural Alliance - ECPv6.13.2.1//NONSGML v1.0//EN
CALSCALE:GREGORIAN
METHOD:PUBLISH
X-ORIGINAL-URL:https://newtonculture.org
X-WR-CALDESC:Events for Newton Cultural Alliance
REFRESH-INTERVAL;VALUE=DURATION:PT1H
X-Robots-Tag:noindex
X-PUBLISHED-TTL:PT1H
BEGIN:VTIMEZONE
TZID:America/New_York
BEGIN:DAYLIGHT
TZOFFSETFROM:-0500
TZOFFSETTO:-0400
TZNAME:EDT
DTSTART:20220313T070000
END:DAYLIGHT
BEGIN:STANDARD
TZOFFSETFROM:-0400
TZOFFSETTO:-0500
TZNAME:EST
DTSTART:20221106T060000
END:STANDARD
END:VTIMEZONE
BEGIN:VEVENT
DTSTART;TZID=America/New_York:20220306T160000
DTEND;TZID=America/New_York:20220306T170000
DTSTAMP:20260421T045819
CREATED:20220222T165306Z
LAST-MODIFIED:20220222T165406Z
UID:10020024-1646582400-1646586000@newtonculture.org
SUMMARY:Suzuki School presents: Scholarship Benefit Concert
DESCRIPTION:Our 2022 Scholarship Benefit Concert will feature Suzuki School of Newton students\, faculty\, and guest performers featuring works by Florence Price\, Nat Penn\, Ben Peterson\, and more. This concert will be held on March 6\, 2022\, at 4:00 pm at Newton Presbyterian Church. Tickets benefit our need-based scholarship fund that ensures students are able to learn music regardless of their financial situation. You can purchase tickets from the link below or at the door of our box office for a higher price. If you would like to make a larger donation\, please call or email us for more information. Buy tickets now! 
URL:https://newtonculture.org/event/suzuki-school-presents-scholarship-benefit-concert/
LOCATION:Newton Presbyterian Church\, 75 Vernon St.\, Newton\, MA\, United States
ATTACH;FMTTYPE=image/png:https://newtonculture.org/wp-content/uploads/2022/02/3-e1646232457298.png
ORGANIZER;CN="Suzuki School of Newton":MAILTO:email@suzukinewton.org
END:VEVENT
END:VCALENDAR