BEGIN:VCALENDAR
VERSION:2.0
PRODID:-//Newton Cultural Alliance - ECPv6.13.2.1//NONSGML v1.0//EN
CALSCALE:GREGORIAN
METHOD:PUBLISH
X-WR-CALNAME:Newton Cultural Alliance
X-ORIGINAL-URL:https://newtonculture.org
X-WR-CALDESC:Events for Newton Cultural Alliance
REFRESH-INTERVAL;VALUE=DURATION:PT1H
X-Robots-Tag:noindex
X-PUBLISHED-TTL:PT1H
BEGIN:VTIMEZONE
TZID:America/New_York
BEGIN:DAYLIGHT
TZOFFSETFROM:-0500
TZOFFSETTO:-0400
TZNAME:EDT
DTSTART:20220313T070000
END:DAYLIGHT
BEGIN:STANDARD
TZOFFSETFROM:-0400
TZOFFSETTO:-0500
TZNAME:EST
DTSTART:20221106T060000
END:STANDARD
END:VTIMEZONE
BEGIN:VEVENT
DTSTART;TZID=America/New_York:20220308T190000
DTEND;TZID=America/New_York:20220308T200000
DTSTAMP:20260421T045821
CREATED:20220106T175011Z
LAST-MODIFIED:20220106T175011Z
UID:10019180-1646766000-1646769600@newtonculture.org
SUMMARY:Newton Free Library presents: Blues and the Poetry of the Harlem Renaissance
DESCRIPTION:Robin O’Herin will perform Blues and the Poetry of the Harlem Renaissance. Robin specializes in historically rich\, often interactive concerts that include original and traditional American music\, for schools\, libraries and small listening rooms. Her concerts are warm\, affirming experiences she shares with the audience. Robin has appeared with Paul Geremia\, Andy Cohen and Roy Bookbinder and performed in Europe and across the US. \nRegistration for this program begins Feb 8th and will end two hours before the start time. The login information will be sent just after registration closes.
URL:https://newtonculture.org/event/newton-free-library-presents-blues-and-the-poetry-of-the-harlem-renaissance/
LOCATION:Newton Free Library\, 330 Homer St\, Newton\, MA\, 02459\, United States
ATTACH;FMTTYPE=image/jpeg:https://newtonculture.org/wp-content/uploads/2022/01/3-8_Concert_Robin_O_Herin_wailingsm.jpg
ORGANIZER;CN="Newton Free Library":MAILTO:admin@newtonfreelibrary.net
END:VEVENT
END:VCALENDAR