BEGIN:VCALENDAR
VERSION:2.0
PRODID:-//Newton Cultural Alliance - ECPv6.13.2.1//NONSGML v1.0//EN
CALSCALE:GREGORIAN
METHOD:PUBLISH
X-ORIGINAL-URL:https://newtonculture.org
X-WR-CALDESC:Events for Newton Cultural Alliance
REFRESH-INTERVAL;VALUE=DURATION:PT1H
X-Robots-Tag:noindex
X-PUBLISHED-TTL:PT1H
BEGIN:VTIMEZONE
TZID:America/New_York
BEGIN:DAYLIGHT
TZOFFSETFROM:-0500
TZOFFSETTO:-0400
TZNAME:EDT
DTSTART:20220313T070000
END:DAYLIGHT
BEGIN:STANDARD
TZOFFSETFROM:-0400
TZOFFSETTO:-0500
TZNAME:EST
DTSTART:20221106T060000
END:STANDARD
END:VTIMEZONE
BEGIN:VEVENT
DTSTART;TZID=America/New_York:20220309T190000
DTEND;TZID=America/New_York:20220309T200000
DTSTAMP:20260421T045846
CREATED:20220112T140214Z
LAST-MODIFIED:20220309T142736Z
UID:10020001-1646852400-1646856000@newtonculture.org
SUMMARY:Newton Free Library and Historic Newton present: Walk with Me: A Biography of Fannie Lou Hamer
DESCRIPTION:In honor of Women’s History Month\, bestselling author\, Dr. Kate Clifford Larson\, will speak about her book\, Walk with Me: A Biography of Fannie Lou Hamer. Born into the poverty and racism of the Mississippi Delta\, Fannie Lou Hamer went on to become a civil rights leader\, women’s rights activist\, and the voice of the unheard. She became the conscience of our nation as she led the fight for freedom and equality during the ‘60s and ‘70s. This program is part of the ongoing Overdue: Confronting Race and Racism in Newton series. This program is co-sponsored by Historic Newton. \nDr. Kate Clifford Larson is the author of Bound for the Promised Land: Harriet Tubman\, Portrait of an American Hero; Rosemary: The Hidden Kennedy Daughter and The Assassin’s Accomplice: Mary Surratt and the Plot to Kill Abraham Lincoln. She has consulted on feature film scripts\, documentaries\, museum exhibits\, public history initiatives\, and numerous publications. She has appeared on CBS Sunday Morning\, the BBC\, PBS\, C-Span\, and NPR. \nIf you wish to purchase a copy of Walk with Me\, please visit Newtonville Books here.
URL:https://newtonculture.org/event/newton-free-library-and-historic-newton-present-walk-with-me-a-biography-of-fannie-lou-hamer/
LOCATION:Newton Free Library\, 330 Homer St\, Newton\, MA\, 02459\, United States
ATTACH;FMTTYPE=image/png:https://newtonculture.org/wp-content/uploads/2022/01/3-22_Kate_Clifford_Larson_book_cover2-e1646836043526.png
ORGANIZER;CN="Newton Free Library":MAILTO:admin@newtonfreelibrary.net
END:VEVENT
END:VCALENDAR