BEGIN:VCALENDAR
VERSION:2.0
PRODID:-//Newton Cultural Alliance - ECPv6.13.2.1//NONSGML v1.0//EN
CALSCALE:GREGORIAN
METHOD:PUBLISH
X-WR-CALNAME:Newton Cultural Alliance
X-ORIGINAL-URL:https://newtonculture.org
X-WR-CALDESC:Events for Newton Cultural Alliance
REFRESH-INTERVAL;VALUE=DURATION:PT1H
X-Robots-Tag:noindex
X-PUBLISHED-TTL:PT1H
BEGIN:VTIMEZONE
TZID:America/New_York
BEGIN:DAYLIGHT
TZOFFSETFROM:-0500
TZOFFSETTO:-0400
TZNAME:EDT
DTSTART:20220313T070000
END:DAYLIGHT
BEGIN:STANDARD
TZOFFSETFROM:-0400
TZOFFSETTO:-0500
TZNAME:EST
DTSTART:20221106T060000
END:STANDARD
END:VTIMEZONE
BEGIN:VEVENT
DTSTART;TZID=America/New_York:20220311T193000
DTEND;TZID=America/New_York:20220311T210000
DTSTAMP:20260421T045821
CREATED:20220302T160337Z
LAST-MODIFIED:20220308T141127Z
UID:10020030-1647027000-1647032400@newtonculture.org
SUMMARY:Theater Ink Presents: Musical Theater Cabaret Troupe "Light The Way"
DESCRIPTION:Theatre Ink Proudly Presents… \nMusical Theatre Cabaret Troupe\nLIGHT THE WAY \nPerformed in Lasker Auditorium at Newton North High School\nor Live Streamed at home! \nDue to Covid protocols\, Performances may have\nlimited in-person seating so please buy your tickets as soon as possible.\nAny questions\, please email Mr. Brown at browna@newton.k12.ma.us\nhttp://www.theatreink.net/tickets.html
URL:https://newtonculture.org/event/theater-ink-presents-musical-theater-cabaret-troupe-light-the-way/2022-03-11/
LOCATION:Newton North High School\, 457 Walnut St\, Newton\, MA\, 02460\, United States
END:VEVENT
END:VCALENDAR