BEGIN:VCALENDAR
VERSION:2.0
PRODID:-//Newton Cultural Alliance - ECPv6.13.2.1//NONSGML v1.0//EN
CALSCALE:GREGORIAN
METHOD:PUBLISH
X-ORIGINAL-URL:https://newtonculture.org
X-WR-CALDESC:Events for Newton Cultural Alliance
REFRESH-INTERVAL;VALUE=DURATION:PT1H
X-Robots-Tag:noindex
X-PUBLISHED-TTL:PT1H
BEGIN:VTIMEZONE
TZID:America/New_York
BEGIN:DAYLIGHT
TZOFFSETFROM:-0500
TZOFFSETTO:-0400
TZNAME:EDT
DTSTART:20220313T070000
END:DAYLIGHT
BEGIN:STANDARD
TZOFFSETFROM:-0400
TZOFFSETTO:-0500
TZNAME:EST
DTSTART:20221106T060000
END:STANDARD
END:VTIMEZONE
BEGIN:VEVENT
DTSTART;TZID=America/New_York:20220317T193000
DTEND;TZID=America/New_York:20220317T213000
DTSTAMP:20260421T063226
CREATED:20220308T141402Z
LAST-MODIFIED:20220308T141402Z
UID:10020033-1647545400-1647552600@newtonculture.org
SUMMARY:Theater Ink presents Much Ado About Nothing
DESCRIPTION:Theater Ink proudly presents \nMuch Ado About Nothing\nby William Shakespeare \nMarch 17\,18\,19\, at 7:30PM\nNewton South High School\nLab Theatre
URL:https://newtonculture.org/event/theater-ink-presents-much-ado-about-nothing/2022-03-17/
LOCATION:Newton North High School\, 457 Walnut St\, Newton\, MA\, 02460\, United States
END:VEVENT
END:VCALENDAR