BEGIN:VCALENDAR
VERSION:2.0
PRODID:-//Newton Cultural Alliance - ECPv6.13.2.1//NONSGML v1.0//EN
CALSCALE:GREGORIAN
METHOD:PUBLISH
X-ORIGINAL-URL:https://newtonculture.org
X-WR-CALDESC:Events for Newton Cultural Alliance
REFRESH-INTERVAL;VALUE=DURATION:PT1H
X-Robots-Tag:noindex
X-PUBLISHED-TTL:PT1H
BEGIN:VTIMEZONE
TZID:America/New_York
BEGIN:DAYLIGHT
TZOFFSETFROM:-0500
TZOFFSETTO:-0400
TZNAME:EDT
DTSTART:20220313T070000
END:DAYLIGHT
BEGIN:STANDARD
TZOFFSETFROM:-0400
TZOFFSETTO:-0500
TZNAME:EST
DTSTART:20221106T060000
END:STANDARD
END:VTIMEZONE
BEGIN:VEVENT
DTSTART;TZID=America/New_York:20220321T080000
DTEND;TZID=America/New_York:20220321T170000
DTSTAMP:20260421T045819
CREATED:20220321T143909Z
LAST-MODIFIED:20220321T143909Z
UID:10019267-1647849600-1647882000@newtonculture.org
SUMMARY:Newton Free Library presents Souvenirs of Italy: 19th Century Sculpture in the Library's Permanent Collection of Art
DESCRIPTION:The 19th-century grand tour of Italy is present at the library in three marbles by Zocchi\, Adams\, and Benzoni – unfamiliar names that will come to life with a discussion of sculptures of Michelangelo as a boy\, a south Italian shepherd boy\, and Diana\, presented by Amy Golahny. \nThis is the final session of this two-part series about the library’s permanent collection of art. All are welcome\, including those who did not attend Part I. \nAmy Golahny\, Ph.D. Columbia University\, is Richmond Professor Emerita of Lycoming College\, Williamsport PA. She has lectured internationally\, authored and edited books and articles on Rembrandt and other topics\, and served as president of the Historians of Netherlandish Art.
URL:https://newtonculture.org/event/newton-free-library-presents-souvenirs-of-italy-19th-century-sculpture-in-the-librarys-permanent-collection-of-art/
LOCATION:Newton Free Library\, 330 Homer St\, Newton\, MA\, 02459\, United States
ATTACH;FMTTYPE=image/jpeg:https://newtonculture.org/wp-content/uploads/2022/03/xMichelangelo_in_his_Youth_resized-scaled-e1647873524592.jpg
ORGANIZER;CN="Newton Free Library":MAILTO:admin@newtonfreelibrary.net
END:VEVENT
END:VCALENDAR