BEGIN:VCALENDAR
VERSION:2.0
PRODID:-//Newton Cultural Alliance - ECPv6.13.2.1//NONSGML v1.0//EN
CALSCALE:GREGORIAN
METHOD:PUBLISH
X-WR-CALNAME:Newton Cultural Alliance
X-ORIGINAL-URL:https://newtonculture.org
X-WR-CALDESC:Events for Newton Cultural Alliance
REFRESH-INTERVAL;VALUE=DURATION:PT1H
X-Robots-Tag:noindex
X-PUBLISHED-TTL:PT1H
BEGIN:VTIMEZONE
TZID:America/New_York
BEGIN:DAYLIGHT
TZOFFSETFROM:-0500
TZOFFSETTO:-0400
TZNAME:EDT
DTSTART:20220313T070000
END:DAYLIGHT
BEGIN:STANDARD
TZOFFSETFROM:-0400
TZOFFSETTO:-0500
TZNAME:EST
DTSTART:20221106T060000
END:STANDARD
END:VTIMEZONE
BEGIN:VEVENT
DTSTART;TZID=America/New_York:20220324T193000
DTEND;TZID=America/New_York:20220324T210000
DTSTAMP:20260421T063226
CREATED:20220217T140206Z
LAST-MODIFIED:20220217T140343Z
UID:10020019-1648150200-1648155600@newtonculture.org
SUMMARY:Newton Art Association presents: Learning to Look / Looking to Learn – Critique and the Creative Process
DESCRIPTION:Based on years of teaching college art students\, Ellen Schön’s passion for teaching critique as an essential part of the creative process has only grown. Join Schön as she guides us through her philosophy and essential practices of looking\, describing\, and responding to what a piece evokes. Schön characterizes the goal of critique as “learning to look and looking to learn.” \nEllen Schön is Adjunct Faculty in Fine Arts and former Ceramics Studio Supervisor Lesley University College of Art and Design in Cambridge\, MA since 2002. She received a BA from Marlboro College (Ceramics and Perceptual Psychology) and MFA in Ceramics from Boston University’s Program in Artisanry. \nSchön has organized and co-curated interdisciplinary group exhibitions in non-profit venues in Boston and internationally. She has fostered international artist collaboration and exchange through participation in artist symposia and residencies in eight countries. \nSchön was a recipient of The Artist Foundation Fellowship from MA Council on Art and Humanities and past Artist Fellow at the St. Botolph Club in Boston. She is a member of the Boston Sculptors Gallery. Schön has exhibited widely in the US. Her work is in the permanent collections of the Museum of Fine Arts\, Boston and the Fuller Craft Museum\, Brockton\, MA. \nThe zoom link will be found here.
URL:https://newtonculture.org/event/newton-art-association-presents-learning-to-look-looking-to-learn-critique-and-the-creative-process/
LOCATION:MA
CATEGORIES:Art,Community Event,Free Event,Visual Arts
ATTACH;FMTTYPE=image/jpeg:https://newtonculture.org/wp-content/uploads/2022/02/Ellen-Schon-with-Seeker-from-ReGeneration.jpg
ORGANIZER;CN="Newton Art Association":MAILTO:info@newtonartassociation.com
END:VEVENT
END:VCALENDAR