BEGIN:VCALENDAR
VERSION:2.0
PRODID:-//Newton Cultural Alliance - ECPv6.13.2.1//NONSGML v1.0//EN
CALSCALE:GREGORIAN
METHOD:PUBLISH
X-ORIGINAL-URL:https://newtonculture.org
X-WR-CALDESC:Events for Newton Cultural Alliance
REFRESH-INTERVAL;VALUE=DURATION:PT1H
X-Robots-Tag:noindex
X-PUBLISHED-TTL:PT1H
BEGIN:VTIMEZONE
TZID:America/New_York
BEGIN:DAYLIGHT
TZOFFSETFROM:-0500
TZOFFSETTO:-0400
TZNAME:EDT
DTSTART:20220313T070000
END:DAYLIGHT
BEGIN:STANDARD
TZOFFSETFROM:-0400
TZOFFSETTO:-0500
TZNAME:EST
DTSTART:20221106T060000
END:STANDARD
END:VTIMEZONE
BEGIN:VEVENT
DTSTART;TZID=America/New_York:20220327T150000
DTEND;TZID=America/New_York:20220327T150000
DTSTAMP:20260421T063253
CREATED:20211004T145125Z
LAST-MODIFIED:20220323T133239Z
UID:10019934-1648393200-1648393200@newtonculture.org
SUMMARY:New Philharmonia Orchestra presents: Classics III
DESCRIPTION:The New Philharmonia Orchestra continues its exciting 27th season filled with celebratory spirit\, incredible music\, and exciting guest performances. Join them for their Classics III program featuring works by Mozart and Brahms. Tickets are $10-$50. For more information visit newphil.org.
URL:https://newtonculture.org/event/new-philharmonia-orchestra-presents-classics-iii/2022-03-27/
LOCATION:MA
CATEGORIES:Community Event,Music
ATTACH;FMTTYPE=image/png:https://newtonculture.org/wp-content/uploads/2022/03/Copy-of-Untitled.png
ORGANIZER;CN="New Philharmonia Orchestra":MAILTO:info@newphil.org
END:VEVENT
BEGIN:VEVENT
DTSTART;TZID=America/New_York:20220327T160000
DTEND;TZID=America/New_York:20220327T173000
DTSTAMP:20260421T063254
CREATED:20240205T222123Z
LAST-MODIFIED:20240205T222123Z
UID:10020007-1648396800-1648402200@newtonculture.org
SUMMARY:Newton Theatre Company presents: Our Tears Are the Same Color: Parallel Narratives of Palestinian and Israeli Women
DESCRIPTION:Our newest production came about because of a unique partnership between Newton Theatre Company and the Parents Circle-Families Forum. \nOur Tears Are the Same Color:\nParallel Narratives of Bereaved\nPalestinian and Israeli Women \nMarch 25 – April 3\, 2022 \nClick here to purchase your tickets. \nPresented in partnership with the Parents Circle-Families Forum \nFour women\, two Palestinian and two Israeli\, share stories from their childhoods\, memories of their families\, and the moments they learned of their loved ones’ deaths. Their stories\, woven together\, call for deeper understanding of shared pain and suffering as a way forward. Two Newton Theatre Company performers act as storytellers\, sharing these deeply personal accounts of the precariousness of life during the ongoing conflict.
URL:https://newtonculture.org/event/newton-theatre-company-presents-our-tears-are-the-same-color-parallel-narratives-of-palestinian-and-israeli-women/2022-03-27/
LOCATION:St John’s Episcopal Church\, Newton\, MA\, 297 Lowell Avenue\, Newtonville\, MA\, 02460
CATEGORIES:Performing Arts,Theater
ATTACH;FMTTYPE=image/png:https://newtonculture.org/wp-content/uploads/2022/02/1_orig.png
ORGANIZER;CN="Newton Theatre Company":MAILTO:info@newtontheatrecompany.com
END:VEVENT
END:VCALENDAR