BEGIN:VCALENDAR
VERSION:2.0
PRODID:-//Newton Cultural Alliance - ECPv6.13.2.1//NONSGML v1.0//EN
CALSCALE:GREGORIAN
METHOD:PUBLISH
X-WR-CALNAME:Newton Cultural Alliance
X-ORIGINAL-URL:https://newtonculture.org
X-WR-CALDESC:Events for Newton Cultural Alliance
REFRESH-INTERVAL;VALUE=DURATION:PT1H
X-Robots-Tag:noindex
X-PUBLISHED-TTL:PT1H
BEGIN:VTIMEZONE
TZID:America/New_York
BEGIN:DAYLIGHT
TZOFFSETFROM:-0500
TZOFFSETTO:-0400
TZNAME:EDT
DTSTART:20220313T070000
END:DAYLIGHT
BEGIN:STANDARD
TZOFFSETFROM:-0400
TZOFFSETTO:-0500
TZNAME:EST
DTSTART:20221106T060000
END:STANDARD
END:VTIMEZONE
BEGIN:VEVENT
DTSTART;TZID=America/New_York:20220328T080000
DTEND;TZID=America/New_York:20220328T170000
DTSTAMP:20260421T045821
CREATED:20220302T182401Z
LAST-MODIFIED:20220302T182807Z
UID:10020032-1648454400-1648486800@newtonculture.org
SUMMARY:Newton Art Association presents The Art of Healing at the Allen Center
DESCRIPTION:A Collaborative Exhibit with Newton Cultural Alliance at The Allen Center beginning March 28\, 2022.\nOpening reception: April 3\, 2022\, from 2 to 4 p.m.\nMasks and proof of vaccination are required for admission.\nShow closes: May 1\, 2022 – A Closing Reception will be held from 2 to 4 p.m.
URL:https://newtonculture.org/event/newton-art-association-presents-the-art-of-healing/
LOCATION:The Allen Center\, 35 Webster St\, WEST NEWTON\, MA\, 02465\, United States
ATTACH;FMTTYPE=image/png:https://newtonculture.org/wp-content/uploads/2022/03/03.21NAA_ArtOfHealing-e1646245664186.png
END:VEVENT
END:VCALENDAR