BEGIN:VCALENDAR
VERSION:2.0
PRODID:-//Newton Cultural Alliance - ECPv6.13.2.1//NONSGML v1.0//EN
CALSCALE:GREGORIAN
METHOD:PUBLISH
X-ORIGINAL-URL:https://newtonculture.org
X-WR-CALDESC:Events for Newton Cultural Alliance
REFRESH-INTERVAL;VALUE=DURATION:PT1H
X-Robots-Tag:noindex
X-PUBLISHED-TTL:PT1H
BEGIN:VTIMEZONE
TZID:America/New_York
BEGIN:DAYLIGHT
TZOFFSETFROM:-0500
TZOFFSETTO:-0400
TZNAME:EDT
DTSTART:20220313T070000
END:DAYLIGHT
BEGIN:STANDARD
TZOFFSETFROM:-0400
TZOFFSETTO:-0500
TZNAME:EST
DTSTART:20221106T060000
END:STANDARD
END:VTIMEZONE
BEGIN:VEVENT
DTSTART;TZID=America/New_York:20220329T190000
DTEND;TZID=America/New_York:20220329T200000
DTSTAMP:20260421T045820
CREATED:20220112T140701Z
LAST-MODIFIED:20220112T140701Z
UID:10020002-1648580400-1648584000@newtonculture.org
SUMMARY:The Newton Free Library presents: Mario Lanza at 101: A Tribute to the great American Tenor
DESCRIPTION:Join Erika Reitshamer for a lecture that examines the extraordinary rise\, fall – and posthumous rehabilitation – of the most controversial tenor of the 20th century – Mario Lanza. The name Mario Lanza did not belong in the hallowed halls of great opera singers. He owed his popularity to second-rate Hollywood movies and sang classical arias and pop songs to the masses that adored him. He also inspired the biggest names in opera to turn to the craft with his film The Great Caruso. It is time to reassess Mario Lanza at the centennial of his birth! \nRegistration for this program will end two hours before the start time. The login information will be sent just after registration closes. Please be sure to check your spam folder in case it lands there.
URL:https://newtonculture.org/event/the-newton-free-library-presents-mario-lanza-at-101-a-tribute-to-the-great-american-tenor/
LOCATION:MA
ATTACH;FMTTYPE=image/png:https://newtonculture.org/wp-content/uploads/2022/01/3-15_Erika_Reitshamer-e1641996405267.png
ORGANIZER;CN="Newton Free Library":MAILTO:admin@newtonfreelibrary.net
END:VEVENT
END:VCALENDAR