BEGIN:VCALENDAR
VERSION:2.0
PRODID:-//Newton Cultural Alliance - ECPv6.13.2.1//NONSGML v1.0//EN
CALSCALE:GREGORIAN
METHOD:PUBLISH
X-WR-CALNAME:Newton Cultural Alliance
X-ORIGINAL-URL:https://newtonculture.org
X-WR-CALDESC:Events for Newton Cultural Alliance
REFRESH-INTERVAL;VALUE=DURATION:PT1H
X-Robots-Tag:noindex
X-PUBLISHED-TTL:PT1H
BEGIN:VTIMEZONE
TZID:America/New_York
BEGIN:DAYLIGHT
TZOFFSETFROM:-0500
TZOFFSETTO:-0400
TZNAME:EDT
DTSTART:20220313T070000
END:DAYLIGHT
BEGIN:STANDARD
TZOFFSETFROM:-0400
TZOFFSETTO:-0500
TZNAME:EST
DTSTART:20221106T060000
END:STANDARD
END:VTIMEZONE
BEGIN:VEVENT
DTSTART;TZID=America/New_York:20220410T080000
DTEND;TZID=America/New_York:20220410T170000
DTSTAMP:20260421T074316
CREATED:20220328T145725Z
LAST-MODIFIED:20220406T002922Z
UID:10019274-1649577600-1649610000@newtonculture.org
SUMMARY:Amherst Early Music Classes
DESCRIPTION:Join us for new AEM ONLINE CLASSES in April!\nApril 9\, 10\, 30\, and May 1st! Class times here are Eastern Time \nSaturday\, April 9\n3:00 – 4:30 p.m. Lully: Chaconnes and Dances with Frances Blaker\, recorder \nSunday\, April 10\n3:00 – 4:30 p.m. Tips and Tricks: Solutions for the Traverso Player with Immanuel Davis\, flute \nSaturday\, April 30\n1:00 – 2:30 p.m. De-Mystifying the Prelude with Alissa Duryee\, keyboard\n3:00 – 4:30 p.m. Locke Unlocked! with Martha Bishop\, viol \nSunday\, May 1\n1:00 – 2:30 p.m. 4×4 Bach with Rachel Begley\, recorder\n3:00 – 4:30 p.m. The Singer’s Toolbox: Sing We Enchanted: A Vocal Technique Session\, with Historical Inspirations for the 21st-Century Singer with Emily Eagen\, voice \nFull class descriptions coming soon! \nAEM Online
URL:https://newtonculture.org/event/amherst-early-music-classes/2022-04-10/
LOCATION:MA
CATEGORIES:Culture and Education,Music
ATTACH;FMTTYPE=image/jpeg:https://newtonculture.org/wp-content/uploads/2022/03/MARCH_22_POSTER_0.jpg
ORGANIZER;CN="Amherst Early Music":MAILTO:info@amherstearlymusic.org
END:VEVENT
BEGIN:VEVENT
DTSTART;TZID=America/New_York:20220410T150000
DTEND;TZID=America/New_York:20220410T150000
DTSTAMP:20260421T074316
CREATED:20211001T164816Z
LAST-MODIFIED:20220406T011815Z
UID:10019932-1649602800-1649602800@newtonculture.org
SUMMARY:Pro Arte's Salon Series - Salon 5
DESCRIPTION:Pro Arte’s unique cooperative is comprised of musicians equally at home as soloists and chamber musicians as they are within the chamber orchestra. The Salon Series presents an opportunity for members of the cooperative to showcase their craft in various chamber groups performing a variety of exciting works. \nPro Arte’s principal winds and principal horn come together for Salon 5 to present a colorful concert for wind quintet. Purchase tickets here.
URL:https://newtonculture.org/event/pro-artes-salon-series-salon-5/
LOCATION:The Allen Center\, 35 Webster St\, WEST NEWTON\, MA\, 02465\, United States
CATEGORIES:Community Event,Culture and Education,Music
ATTACH;FMTTYPE=image/jpeg:https://newtonculture.org/wp-content/uploads/2021/10/proarte.jpg
END:VEVENT
END:VCALENDAR