BEGIN:VCALENDAR
VERSION:2.0
PRODID:-//Newton Cultural Alliance - ECPv6.13.2.1//NONSGML v1.0//EN
CALSCALE:GREGORIAN
METHOD:PUBLISH
X-ORIGINAL-URL:https://newtonculture.org
X-WR-CALDESC:Events for Newton Cultural Alliance
REFRESH-INTERVAL;VALUE=DURATION:PT1H
X-Robots-Tag:noindex
X-PUBLISHED-TTL:PT1H
BEGIN:VTIMEZONE
TZID:America/New_York
BEGIN:DAYLIGHT
TZOFFSETFROM:-0500
TZOFFSETTO:-0400
TZNAME:EDT
DTSTART:20220313T070000
END:DAYLIGHT
BEGIN:STANDARD
TZOFFSETFROM:-0400
TZOFFSETTO:-0500
TZNAME:EST
DTSTART:20221106T060000
END:STANDARD
END:VTIMEZONE
BEGIN:VEVENT
DTSTART;TZID=America/New_York:20220412T190000
DTEND;TZID=America/New_York:20220412T210000
DTSTAMP:20260421T074426
CREATED:20220406T011715Z
LAST-MODIFIED:20220406T011715Z
UID:10020043-1649790000-1649797200@newtonculture.org
SUMMARY:Historic Newton presents Exploring 'Defective Delinquency' Laws
DESCRIPTION:Between 1911 and 1971 the Commonwealth of Massachusetts – and dozens of states like it – passed a series of laws that empowered officials to indefinitely imprison people with intellectual disabilities who the state believed were “likely to commit crimes.” These people were designated as “defective delinquents\,” and\, in Massachusetts\, most were sent to the Bridgewater State Prison. At our Zoom program\, students from Gann Academy share what they learned about the law and the personal stories of many of those imprisoned under this law. They will also discuss a museum exhibit and website that they designed to teach about this little-known but vitally important chapter of American history. Register here.
URL:https://newtonculture.org/event/historic-newton-presents-exploring-defective-delinquency-laws/
LOCATION:MA
CATEGORIES:Community Event
ATTACH;FMTTYPE=image/jpeg:https://newtonculture.org/wp-content/uploads/2022/04/637822490480300000.jpg
END:VEVENT
END:VCALENDAR