BEGIN:VCALENDAR
VERSION:2.0
PRODID:-//Newton Cultural Alliance - ECPv6.13.2.1//NONSGML v1.0//EN
CALSCALE:GREGORIAN
METHOD:PUBLISH
X-ORIGINAL-URL:https://newtonculture.org
X-WR-CALDESC:Events for Newton Cultural Alliance
REFRESH-INTERVAL;VALUE=DURATION:PT1H
X-Robots-Tag:noindex
X-PUBLISHED-TTL:PT1H
BEGIN:VTIMEZONE
TZID:America/New_York
BEGIN:DAYLIGHT
TZOFFSETFROM:-0500
TZOFFSETTO:-0400
TZNAME:EDT
DTSTART:20220313T070000
END:DAYLIGHT
BEGIN:STANDARD
TZOFFSETFROM:-0400
TZOFFSETTO:-0500
TZNAME:EST
DTSTART:20221106T060000
END:STANDARD
END:VTIMEZONE
BEGIN:VEVENT
DTSTART;TZID=America/New_York:20220428T190000
DTEND;TZID=America/New_York:20220428T200000
DTSTAMP:20260421T074428
CREATED:20220321T142940Z
LAST-MODIFIED:20220321T142940Z
UID:10019261-1651172400-1651176000@newtonculture.org
SUMMARY:Newton Free Library presents Women in World Jazz: Women Activists for Peace and Social Justice
DESCRIPTION:Join Women in World Jazz (WIWJ) for a virtual concert that will feature composers who use their music to promote social justice and peace. Learn about women who left their impact on history including Joan Baez and Nina Simone\, as well as contemporary composers and activists such as Beyoncé\, Annie Lenox\, and Angélique Kidjo. The event will feature live presentations and pre-recorded performances/virtual collaborations. \n  \nWIWJ’s international ensemble of all-female performers presents a variety of educational programs for the whole family that showcase music from around the world. \n  \nThis program is supported in part by a grant from the Newton local cultural council\, a local agency that is supported by the Mass Cultural Council\, a state agency.
URL:https://newtonculture.org/event/newton-free-library-presents-women-in-world-jazz-women-activists-for-peace-and-social-justice/
LOCATION:Newton Free Library\, 330 Homer St\, Newton\, MA\, 02459\, United States
ATTACH;FMTTYPE=image/png:https://newtonculture.org/wp-content/uploads/2022/03/4-28_Women_in_World_Jazz-e1647872960544.png
END:VEVENT
END:VCALENDAR