BEGIN:VCALENDAR
VERSION:2.0
PRODID:-//Newton Cultural Alliance - ECPv6.13.2.1//NONSGML v1.0//EN
CALSCALE:GREGORIAN
METHOD:PUBLISH
X-ORIGINAL-URL:https://newtonculture.org
X-WR-CALDESC:Events for Newton Cultural Alliance
REFRESH-INTERVAL;VALUE=DURATION:PT1H
X-Robots-Tag:noindex
X-PUBLISHED-TTL:PT1H
BEGIN:VTIMEZONE
TZID:America/New_York
BEGIN:DAYLIGHT
TZOFFSETFROM:-0500
TZOFFSETTO:-0400
TZNAME:EDT
DTSTART:20220313T070000
END:DAYLIGHT
BEGIN:STANDARD
TZOFFSETFROM:-0400
TZOFFSETTO:-0500
TZNAME:EST
DTSTART:20221106T060000
END:STANDARD
END:VTIMEZONE
BEGIN:VEVENT
DTSTART;TZID=America/New_York:20220501T130000
DTEND;TZID=America/New_York:20220501T163000
DTSTAMP:20260421T061543
CREATED:20220411T150210Z
LAST-MODIFIED:20220411T150210Z
UID:10020045-1651410000-1651422600@newtonculture.org
SUMMARY:Amherst Early Music Classes
DESCRIPTION:Saturday\, April 30\n1:00 – 2:30 p.m. De-Mystifying the Prelude with Alissa Duryee\, keyboard\n3:00 – 4:30 p.m. Locke Unlocked! with Martha Bishop\, viol \nSunday\, May 1\n1:00 – 2:30 p.m. 4×4 Bach with Rachel Begley\, recorder\n3:00 – 4:30 p.m. The Singer’s Toolbox: Sing We Enchanted: A Vocal Technique Session\, with Historical Inspirations for the 21st-Century Singer with Emily Eagen\, voice \n  \nhttps://www.amherstearlymusic.org/news/april-class-schedule-one-may
URL:https://newtonculture.org/event/amherst-early-music-classes-2/2022-05-01/
LOCATION:MA
ATTACH;FMTTYPE=image/jpeg:https://newtonculture.org/wp-content/uploads/2022/04/AEM-ONLINE.jpg
ORGANIZER;CN="Amherst Early Music":MAILTO:info@amherstearlymusic.org
END:VEVENT
BEGIN:VEVENT
DTSTART;TZID=America/New_York:20220501T150000
DTEND;TZID=America/New_York:20220501T150000
DTSTAMP:20260421T061543
CREATED:20211001T165720Z
LAST-MODIFIED:20220429T132252Z
UID:10019933-1651417200-1651417200@newtonculture.org
SUMMARY:Pro Arte's Ensemble Series - Ensemble 3
DESCRIPTION:Pro Arte’s full ensemble takes to the stage to present treasured works and brilliant contemporary compositions celebrating their forty-four year history as one of Boston’s most vibrant orchestras. \nPaul Polivnik makes a return appearance in the spring to conduct Pro Arte in a powerful program of Ravel\, Bernstein\, and Mendelssohn. Read more about the program and purchase tickets here.
URL:https://newtonculture.org/event/pro-artes-ensemble-series-ensemble-3/
LOCATION:MA
CATEGORIES:Community Event,Culture and Education,Music
ATTACH;FMTTYPE=image/jpeg:https://newtonculture.org/wp-content/uploads/2021/10/proarte-1.jpg
END:VEVENT
END:VCALENDAR