BEGIN:VCALENDAR
VERSION:2.0
PRODID:-//Newton Cultural Alliance - ECPv6.13.2.1//NONSGML v1.0//EN
CALSCALE:GREGORIAN
METHOD:PUBLISH
X-WR-CALNAME:Newton Cultural Alliance
X-ORIGINAL-URL:https://newtonculture.org
X-WR-CALDESC:Events for Newton Cultural Alliance
REFRESH-INTERVAL;VALUE=DURATION:PT1H
X-Robots-Tag:noindex
X-PUBLISHED-TTL:PT1H
BEGIN:VTIMEZONE
TZID:America/New_York
BEGIN:DAYLIGHT
TZOFFSETFROM:-0500
TZOFFSETTO:-0400
TZNAME:EDT
DTSTART:20220313T070000
END:DAYLIGHT
BEGIN:STANDARD
TZOFFSETFROM:-0400
TZOFFSETTO:-0500
TZNAME:EST
DTSTART:20221106T060000
END:STANDARD
END:VTIMEZONE
BEGIN:VEVENT
DTSTART;TZID=America/New_York:20220504T190000
DTEND;TZID=America/New_York:20220504T200000
DTSTAMP:20260421T074314
CREATED:20220321T143430Z
LAST-MODIFIED:20220321T143430Z
UID:10019263-1651690800-1651694400@newtonculture.org
SUMMARY:Newton Free Library presents Journey to Greenland with Erica Ferencik
DESCRIPTION:Join author\, Erica Ferencik\, for a program that will focus on her journey to Greenland to do the research for her latest book\, Girl in Ice.  Details will follow.
URL:https://newtonculture.org/event/newton-free-library-presents-journey-to-greenland-with-erica-ferencik/
LOCATION:Newton Free Library\, 330 Homer St\, Newton\, MA\, 02459\, United States
ATTACH;FMTTYPE=image/jpeg:https://newtonculture.org/wp-content/uploads/2022/03/5-4_Erica_Ferencik_girl-in-ice-9781982143022_lg.jpg
END:VEVENT
END:VCALENDAR