BEGIN:VCALENDAR
VERSION:2.0
PRODID:-//Newton Cultural Alliance - ECPv6.13.2.1//NONSGML v1.0//EN
CALSCALE:GREGORIAN
METHOD:PUBLISH
X-WR-CALNAME:Newton Cultural Alliance
X-ORIGINAL-URL:https://newtonculture.org
X-WR-CALDESC:Events for Newton Cultural Alliance
REFRESH-INTERVAL;VALUE=DURATION:PT1H
X-Robots-Tag:noindex
X-PUBLISHED-TTL:PT1H
BEGIN:VTIMEZONE
TZID:America/New_York
BEGIN:DAYLIGHT
TZOFFSETFROM:-0500
TZOFFSETTO:-0400
TZNAME:EDT
DTSTART:20220313T070000
END:DAYLIGHT
BEGIN:STANDARD
TZOFFSETFROM:-0400
TZOFFSETTO:-0500
TZNAME:EST
DTSTART:20221106T060000
END:STANDARD
END:VTIMEZONE
BEGIN:VEVENT
DTSTART;TZID=America/New_York:20220507T130000
DTEND;TZID=America/New_York:20220507T160000
DTSTAMP:20260421T074431
CREATED:20220504T130557Z
LAST-MODIFIED:20220504T130739Z
UID:10020057-1651928400-1651939200@newtonculture.org
SUMMARY:Newton Piano Summit 2022
DESCRIPTION:The Newton Piano Summit 2022 season will feature Classical\, Latin\, and Jazz. A vaccination card is required to attend. \nMay 7th\, 1 pm. Andrus Madsen and April Sun performing the Goldberg Variations.\n“The Goldberg Variations are among the most meaningful works J. S. Bach wrote for keyboard.” Josef Rheinberger\, 1883 \nNewton’s own Andrus Madsen is well-known internationally in early music circles and performs on the organ\, harpsichord clavichord and fortepiano. He is the founding director of Newton Baroque. Originally from Provo\, Utah\, Andrus received a Bachelor’s degree in organ performance from Brigham Young University and went on to the Eastman School of Music\, where he completed a Master’s degree in Musicology\, and a Masters and Doctorate in harpsichord performance. Madsen is known for his eloquent Baroque style improvisations. His recording of keyboard music by Pachelbel has received critical acclaim. “Superb recordings of superb instruments by a musician who deserves to be better known.” (Michael Barone of pipedreams). \n​Boston-based pianist ​​​​April Sun co-founded the Meadowlark Piano Trio\, frequently collaborates with the Phoenix and the Cape Cod Chamber Orchestras\, and has performed at Calderwood Hall (Boston)\, Bing Concert Hall (Stanford)\, Spectrum (NYC)\, Pepsico Hall (Fort Worth)\, and the American Exchange Center at Jiaotong University (China). She holds a Doctorate of Musical Arts and teaches at the Brookline Music School. She serves as a collaborative pianist at New England Conservatory and Boston University.
URL:https://newtonculture.org/event/newton-piano-summit-2022/
LOCATION:Second Church in Newton\, 60 Highland St.\, West Newton\, MA\, 02465\, United States
CATEGORIES:Festival,Music
ATTACH;FMTTYPE=image/jpeg:https://newtonculture.org/wp-content/uploads/2022/05/NewtonPianoSummit2022sm.jpg
ORGANIZER;CN="Newton Piano Summit":MAILTO:cpitts@wabanimprovement.org
END:VEVENT
BEGIN:VEVENT
DTSTART;TZID=America/New_York:20220507T140000
DTEND;TZID=America/New_York:20220507T180000
DTSTAMP:20260421T074431
CREATED:20220404T171046Z
LAST-MODIFIED:20220429T131739Z
UID:10019280-1651932000-1651946400@newtonculture.org
SUMMARY:Suzuki School of Newton presents Young People's Multicultural Festival
DESCRIPTION:Please join us on Saturday\, May 7th from 2-6 pm in a celebration of music\, dance\, and visual arts in a truly Multicultural Festival for the whole family. \nFeaturing: \n2 pm-Brazilian drumming from Grooversity \n3 pm- Africano Waltham Dance troupe \n4 pm- Pumawari Tusuy Peruvian Dance \n5 pm- Suzuki School Of Newton faculty in non-classical styles! \nThis free event will be held in Waban at the historic home of the Suzuki School of Newton. 1615 Beacon Street\, Waban MA 02468.
URL:https://newtonculture.org/event/suzuki-school-of-newton-presents-young-peoples-multicultural-festival/
LOCATION:Suzuki School of Newton\, 1615 Beacon St\, Waban\, MA\, 02468\, United States
CATEGORIES:Music,Visual Arts
ATTACH;FMTTYPE=image/jpeg:https://newtonculture.org/wp-content/uploads/2022/04/mcfflyer.jpg
ORGANIZER;CN="Suzuki School of Newton":MAILTO:email@suzukinewton.org
END:VEVENT
BEGIN:VEVENT
DTSTART;TZID=America/New_York:20220507T150000
DTEND;TZID=America/New_York:20220507T170000
DTSTAMP:20260421T074431
CREATED:20220405T125537Z
LAST-MODIFIED:20220405T125537Z
UID:10020041-1651935600-1651942800@newtonculture.org
SUMMARY:Concert by Duo Amie to benefit Shelter Music Boston
DESCRIPTION:Please join us Saturday May 7th\, 2022 at 3 pm\, at the beautiful Allen House in Newton\, MA for a benefit concert in support of Shelter Music Boston! The musical program\, Shall We Dance?\, is a celebration of dance music and will be performed by the popular Boston-based piano-cello ensemble\, Duo Amie (Julie Reimann\, cello\, Ellyses Kuan\, piano)\, with guest appearance by Shelter Music Boston Artistic Director and renowned violinist\, Adrian Anantawan. Incorporating folk dances\, waltzes\, and Latin American dances\, the program will include Piazzolla’s Le Grand Tango\, Elizondo’s Danzas Latinoamericanas\, Saint-Saen’s Danse Macabre\, Kapustin’s Nearly Waltz\, Bartok’s Romanian Folk Dances\, and more! An ice cream reception sponsored by Rancatore’s Ice Cream will follow the performance. 100% of concert proceeds will benefit Shelter Music Boston\, a nonprofit organization promoting community\, creative interaction\, respect\, and the therapeutic benefit of music by performing chamber music concerts of the highest quality in homeless shelters and other sheltering environments.
URL:https://newtonculture.org/event/concert-by-duo-amie-to-benefit-shelter-music-boston/
LOCATION:The Allen Center\, 35 Webster St\, WEST NEWTON\, MA\, 02465\, United States
CATEGORIES:At the Allen Center,Music,Performing Arts
ATTACH;FMTTYPE=image/jpeg:https://newtonculture.org/wp-content/uploads/2022/04/duoamielogo-final-white.jpg
END:VEVENT
END:VCALENDAR