BEGIN:VCALENDAR
VERSION:2.0
PRODID:-//Newton Cultural Alliance - ECPv6.13.2.1//NONSGML v1.0//EN
CALSCALE:GREGORIAN
METHOD:PUBLISH
X-ORIGINAL-URL:https://newtonculture.org
X-WR-CALDESC:Events for Newton Cultural Alliance
REFRESH-INTERVAL;VALUE=DURATION:PT1H
X-Robots-Tag:noindex
X-PUBLISHED-TTL:PT1H
BEGIN:VTIMEZONE
TZID:America/New_York
BEGIN:DAYLIGHT
TZOFFSETFROM:-0500
TZOFFSETTO:-0400
TZNAME:EDT
DTSTART:20220313T070000
END:DAYLIGHT
BEGIN:STANDARD
TZOFFSETFROM:-0400
TZOFFSETTO:-0500
TZNAME:EST
DTSTART:20221106T060000
END:STANDARD
END:VTIMEZONE
BEGIN:VEVENT
DTSTART;VALUE=DATE:20220514
DTEND;VALUE=DATE:20220515
DTSTAMP:20260421T091334
CREATED:20220411T151131Z
LAST-MODIFIED:20220411T151131Z
UID:10020047-1652486400-1652572799@newtonculture.org
SUMMARY:Historic Newton presents 2022 Newton House Tours
DESCRIPTION:See how design professionals have brought their singular vision into their own Newton homes in this exclusive video tour.\n\n\n\n\n\nAbout this event\n\n\nOur 2022 House Tour showcases four Newton homes owned by design professionals. In our exclusive videos\, the owners show and explain highlights of their architecture\, renovations\, furnishings\, and decor. Take an inside look at creative\, original ways to make the most of Newton’s architectural treasures\, including Greek Revival\, Colonial\, and modern homes. Tickets include tour videos and access to a Zoom panel discussion with the designers at 3 p.m. on Sunday\, May 15. All ticket proceeds benefit Historic Newton. Tickets are not refundable. Special thanks to the tour’s lead sponsor\, The Village Bank.
URL:https://newtonculture.org/event/historic-newton-presents-2022-newton-house-tours/2022-05-14/
LOCATION:MA
ATTACH;FMTTYPE=image/jpeg:https://newtonculture.org/wp-content/uploads/2022/04/637819853614000000.jpg
END:VEVENT
BEGIN:VEVENT
DTSTART;TZID=America/New_York:20220514T080000
DTEND;TZID=America/New_York:20220514T170000
DTSTAMP:20260421T091334
CREATED:20220504T142413Z
LAST-MODIFIED:20220504T142413Z
UID:10020060-1652515200-1652547600@newtonculture.org
SUMMARY:The Scandinavian Center presents Syttende Mai Celebration
DESCRIPTION:SYTTENDE MAI CELEBRATION\n\nNorumbega Lodge #3-506\, Sons of Norway presents a family picnic on the front lawn of the SCC in honor of Norway’s national independence day\, Syttende Mai (officially observed on May 17). Sons of Norway invites you to join them for a parade and picnic to commemorate this festive occasion. \nJoin in the procession with flags and singing\, feast on Scandinavian foods\, have kids’ games and competitions\, and a “tale for dagen” (speech of the day). Bring your family and friends – all ages are welcome! Gratulerer med dagen! \nmore details to follow
URL:https://newtonculture.org/event/the-scandinavian-center-presents-syttende-mai-celebration/
LOCATION:Scandinavian Cultural Center\, 206 Waltham St\, Newton\, MA\, 02465\, United States
ATTACH;FMTTYPE=image/jpeg:https://newtonculture.org/wp-content/uploads/2022/05/17-mai-600x266-1.jpg
END:VEVENT
BEGIN:VEVENT
DTSTART;TZID=America/New_York:20220514T130000
DTEND;TZID=America/New_York:20220514T160000
DTSTAMP:20260421T091334
CREATED:20220504T130930Z
LAST-MODIFIED:20220504T131237Z
UID:10020058-1652533200-1652544000@newtonculture.org
SUMMARY:Newton Piano Summit 2022
DESCRIPTION:May 14th\, 1 pm. Harold Charon\, Explorations in Latin Music.\nOne of the things we try to do with the Summit is feature talent before they get Grammys\, world attention\, and command fees well above our current budgets\, and yes this has happened! We poll past summit artists regularly to see who’s the new hot talent on the scene and this time Harold Charon’s name kept coming up. \nHarold Charon is the youngest headliner we have featured on the Summit\, only slightly younger than Jimin Park a few years ago. Originally from Havana\, he began piano lessons at 5 years old. Exuding musicianship decades beyond his years\, he went on a Canadian tour which included the Halifax Jazz Festival and received training from Fred Hersh\, Taylor Eigsty\, Billy Childs and the late great jazz master Chick Corea. \nCrossing genres\, Harold has worked with a variety of artists including Leo Vera\, La Cruzada\, and Los Clasicos. In 2016 he joined Janio Abreu and Aire D’ Concierto\, where he worked as a pianist and composer for Ruy Lopez-Nussa y La Academia. Currently\, he is finishing his studies at Berklee\, majoring in jazz composition and performance. His music features influences from Latin\, Salsa\, Jazz and Timba. Timba is a Cuban genre of music based on Cuban son with salsa\, American funk/R&B\, and the strong influence of Afro-Cuban folkloric music. Chucho Valdez\, bandleader of Irakere is considered one of the founders of the style. He’s bringing some amazing talent with him including Trumpeter Richard Stanmeyer who also studies at Berklee on a grant from the college’s Presidential Scholarship Committee. His teachers include Tia Fuller\, Marquis Hill\, Jason Palmer\, Charlie Lewis\, and Jeff Stout among others. He performs regularly around town at Wally’s Jazz Café\, the House of Blues\, the Middle East\, PAX East\, and The Lilypad. Cristián Tamblay is a Chilean drummer who performs and records with a wide variety of global artists. Ernan D. Ramos Ortiz “Ed Rox” – Congas and Cajon – is a multi-instrumentalist\, rapper\, composer\, and producer who is strongly influenced by the rich musical culture of Puerto Rico and his upbringing in a family of musicians. “For me\, music is the only way that your soul can speak itself.” Michael Doughty is a bassist from North Andover\, MA. and recently was the bassist for Berklee’s Signature Series concert featuring Afro-Cuban artist\, Daymé Arocena.
URL:https://newtonculture.org/event/newton-piano-summit-2022-2/
LOCATION:Second Church in Newton\, 60 Highland St.\, West Newton\, MA\, 02465\, United States
CATEGORIES:Festival,Music
ATTACH;FMTTYPE=image/jpeg:https://newtonculture.org/wp-content/uploads/2022/05/NewtonPianoSummit2022sm.jpg
ORGANIZER;CN="Newton Piano Summit":MAILTO:cpitts@wabanimprovement.org
END:VEVENT
BEGIN:VEVENT
DTSTART;TZID=America/New_York:20220514T190000
DTEND;TZID=America/New_York:20220514T210000
DTSTAMP:20260421T091334
CREATED:20220217T141407Z
LAST-MODIFIED:20220217T141407Z
UID:10020021-1652554800-1652562000@newtonculture.org
SUMMARY:Newton Art Association presents: Demo with Stephanie Stigliano | Artists Books
DESCRIPTION:Stephanie Stigliano has experience leading online art groups in book arts\, drawing\, and printmaking to students of all ages. This method develops community and creativity in a new and exciting way. Her artwork is in the collections of the Fogg Museum and the Houghton Library of Harvard University\, the Boston Museum of Fine Arts\, the National Museum for Women in the Arts\, and the Book Art Museum of Łodz\, Poland. She has taught Printmaking and Books as Art at Walnut Hill School for the Arts\, Natick\, MA since 2007. She taught Between the Covers\, Books as Art at Art New England for several years. She curated Legacy: Passing the Torch\, an exhibition of mentors and their students\, at the Hess Gallery of Chestnut Hill\, MA. Locally\, Stigliano’s artist’s books were included in On Books: Sculpture at the Portland Public Library\, Portland\, ME. Her print from The Charles River Alphabet Prints portfolio was included in New England on Paper: Contemporary Art in the Boston Athenaeum’s Prints and Photographs Collections. Internationally\, Stigliano initiated a print project between students of Walnut Hill School for the Arts and The Technical College of Reykjavik\, and exhibited her prints at Íslensk Grafík\, Reykjavik\, Iceland. She taught a workshop to the women’s artist collective of Hurumzi Henna Art Gallery in Stonetown\, Zanzibar. In Krakow\, Poland\, she contributed to a print portfolio at The Jan Matejko Academy of Fine Arts. Her artist’s books were included in Correspondence: The 9th International Book Art Festival\, which traveled throughout Poland. \nhttps://newtonartassociation.com/event/demo-with-stephanie-stigliano-artists-books/
URL:https://newtonculture.org/event/newton-art-association-presents-demo-with-stephanie-stigliano-artists-books/
LOCATION:MA
CATEGORIES:Art,Culture and Education,Free Event,Visual Arts
ATTACH;FMTTYPE=image/jpeg:https://newtonculture.org/wp-content/uploads/2022/02/stephaniestigliano.jpg
ORGANIZER;CN="Newton Art Association":MAILTO:info@newtonartassociation.com
END:VEVENT
BEGIN:VEVENT
DTSTART;TZID=America/New_York:20220514T190000
DTEND;TZID=America/New_York:20220514T210000
DTSTAMP:20260421T091334
CREATED:20220427T150751Z
LAST-MODIFIED:20220509T202412Z
UID:10020055-1652554800-1652562000@newtonculture.org
SUMMARY:New Rep presents Valerie Stephens
DESCRIPTION:Valerie Stephens NINA SIMONE & Hip Hop\nSATURDAY\, MAY 14TH AT 7PM\nTHE MAIN STAGE THEATER AT THE MOSESIAN CENTER FOR THE ARTS \nValerie Stephens is a performing artist/ arts educator with a passion for history. For one night only\, Valerie is bringing her newest NINA Tribute production “NINA SIMONE & Hip Hop” to New Repertory Theatre audiences! \n\nValerie Stephens is a multi-talented performing artist known for work in music\, theater\, storytelling and production. Valerie is also known for her commitment to Nina Simone’s Legacy having created a series celebratory concerts. The most recent is Nina Simone & Hip Hop. For her artistic work and community commitment Valerie has received a Brother Thomas Fellowship with an unrestricted award of $15\,000. She has also received a Bridge Award in Arts\, a Boston City Council Resolution for her community arts programming and performances\, and a Get Konnected! Boston Legends & Pioneers Award\, a NAACP Image Award\, an Urban Music Award in Blues and Citations of Appreciation from Boston\, New Bedford and Springfield.
URL:https://newtonculture.org/event/new-rep-presents-valerie-stephens/
LOCATION:The Dorothy and Charles Mosesian Center for the Arts\, Mosesian The Dorothy and Charles Mosesian Center for the Arts info@mosesianarts.org 617-923-0100 321 Arsenal Street\, Watertown\, MA\, 02472
ATTACH;FMTTYPE=image/png:https://newtonculture.org/wp-content/uploads/2022/04/Untitled-design-90.png
END:VEVENT
BEGIN:VEVENT
DTSTART;TZID=America/New_York:20220514T200000
DTEND;TZID=America/New_York:20220514T200000
DTSTAMP:20260421T091334
CREATED:20211012T161136Z
LAST-MODIFIED:20211012T161136Z
UID:10019141-1652558400-1652558400@newtonculture.org
SUMMARY:Cappella Clausura presents: Psalms and Requiems
DESCRIPTION:This year\, we are proud to crack open the classical canon with a variety of new works by women. With vibrant performances of music spanning continents and centuries\, Artistic Director Amelia LeClair will lead our ensemble in a celebration of live\, in-person performances. Learn more about the four programs we have planned for this season. \nTickets for each concert will become available one month ahead of the opening performance. \nPsalms and Requiems:\nLili Boulanger’s outstanding Psalm 130 with string orchestra and harp\, plus works by Florence Price\, Elena Ruehr\, and Amelia LeClair. \nMay 14th @ 8 PM: Eliot Church in Newton \nMay 15th @ 4 PM: Emmanuel Church in Boston
URL:https://newtonculture.org/event/cappella-clausura-presents-psalms-and-requiems/2022-05-14/
LOCATION:MA
CATEGORIES:Community Event,Music,Performing Arts
ATTACH;FMTTYPE=image/png:https://newtonculture.org/wp-content/uploads/2019/11/4-1-e1634054668755.png
ORGANIZER;CN="Cappella Clausura":MAILTO:manager@clausura.org
END:VEVENT
BEGIN:VEVENT
DTSTART;TZID=America/New_York:20220514T200000
DTEND;TZID=America/New_York:20220514T200000
DTSTAMP:20260421T091334
CREATED:20211026T154511Z
LAST-MODIFIED:20211026T154511Z
UID:10019976-1652558400-1652558400@newtonculture.org
SUMMARY:Commonwealth Chorale presents: Majestic Sounds
DESCRIPTION:This\, our final concert of the season\, is one not to be missed. It showcases our classical roots and celebrates the one who developed and fine-tuned them over the last 43 years. Artistic Director David Carrier is retiring and this\, his final concert\, is his magnificent finish: Joseph Haydn’s Missa in Angustiis (Lord Nelson Mass) and J.S. Bach’s Cantata 140 ( Wachet auf\, ruft uns die Stimme ) also known as Awake\, a voice is calling. Carrier will conduct orchestra\, chorus\, and soloists: soprano Dana Varga\, mezzo-soprano Vera Savage\, tenor Matthew Anderson\, and baritone David McFerrin. \nMajestic Sounds: sure to inspire joy and hope to the listener\, a concert to lift the spirits. \nTo purchase tickets\, click here.
URL:https://newtonculture.org/event/commonwealth-chorale-presents-majestic-sounds/
LOCATION:Church of the Holy Name\, 1689 Centre Street\, West Roxbury\, MA\, 02132\, United States
CATEGORIES:Culture and Education,Music,Performing Arts
ATTACH;FMTTYPE=image/jpeg:https://newtonculture.org/wp-content/uploads/2021/10/Slideshow-Majestic.jpg
ORGANIZER;CN="Commonwealth Chorale":MAILTO:info@commonwealthchorale.com
END:VEVENT
END:VCALENDAR