BEGIN:VCALENDAR
VERSION:2.0
PRODID:-//Newton Cultural Alliance - ECPv6.13.2.1//NONSGML v1.0//EN
CALSCALE:GREGORIAN
METHOD:PUBLISH
X-ORIGINAL-URL:https://newtonculture.org
X-WR-CALDESC:Events for Newton Cultural Alliance
REFRESH-INTERVAL;VALUE=DURATION:PT1H
X-Robots-Tag:noindex
X-PUBLISHED-TTL:PT1H
BEGIN:VTIMEZONE
TZID:America/New_York
BEGIN:DAYLIGHT
TZOFFSETFROM:-0500
TZOFFSETTO:-0400
TZNAME:EDT
DTSTART:20220313T070000
END:DAYLIGHT
BEGIN:STANDARD
TZOFFSETFROM:-0400
TZOFFSETTO:-0500
TZNAME:EST
DTSTART:20221106T060000
END:STANDARD
END:VTIMEZONE
BEGIN:VEVENT
DTSTART;VALUE=DATE:20220515
DTEND;VALUE=DATE:20220516
DTSTAMP:20260421T074422
CREATED:20220411T151131Z
LAST-MODIFIED:20220411T151131Z
UID:10020048-1652572800-1652659199@newtonculture.org
SUMMARY:Historic Newton presents 2022 Newton House Tours
DESCRIPTION:See how design professionals have brought their singular vision into their own Newton homes in this exclusive video tour.\n\n\n\n\n\nAbout this event\n\n\nOur 2022 House Tour showcases four Newton homes owned by design professionals. In our exclusive videos\, the owners show and explain highlights of their architecture\, renovations\, furnishings\, and decor. Take an inside look at creative\, original ways to make the most of Newton’s architectural treasures\, including Greek Revival\, Colonial\, and modern homes. Tickets include tour videos and access to a Zoom panel discussion with the designers at 3 p.m. on Sunday\, May 15. All ticket proceeds benefit Historic Newton. Tickets are not refundable. Special thanks to the tour’s lead sponsor\, The Village Bank.
URL:https://newtonculture.org/event/historic-newton-presents-2022-newton-house-tours/2022-05-15/
LOCATION:MA
ATTACH;FMTTYPE=image/jpeg:https://newtonculture.org/wp-content/uploads/2022/04/637819853614000000.jpg
END:VEVENT
BEGIN:VEVENT
DTSTART;TZID=America/New_York:20220515T160000
DTEND;TZID=America/New_York:20220515T160000
DTSTAMP:20260421T074422
CREATED:20220509T202722Z
LAST-MODIFIED:20220509T202722Z
UID:10020063-1652630400-1652630400@newtonculture.org
SUMMARY:New Rep presents Sunday Celebration
DESCRIPTION:New Repertory Theatre presents its first Sunday Celebration featuring Valerie Stephens and Alexandria Danielle King on Sunday\, May 15th at 4pm at the Mosesian Center for the Arts in Watertown. \nThis spicy\, rhythmic celebration will feature the words of Nikki Giovanni\, Maya Angelou\, Toni Morrison and a little Peggy Lee thrown in! \nTickets are $25 each and can be purchased through this link: Sunday Celebration One | New Rep
URL:https://newtonculture.org/event/new-rep-presents-sunday-celebration/
LOCATION:The Dorothy and Charles Mosesian Center for the Arts\, Mosesian The Dorothy and Charles Mosesian Center for the Arts info@mosesianarts.org 617-923-0100 321 Arsenal Street\, Watertown\, MA\, 02472
ATTACH;FMTTYPE=image/png:https://newtonculture.org/wp-content/uploads/2022/05/SUNDAY-CELEBRATION-Featuring-Valerie-Stephens-Alexandria-Danielle-King-The-Word-Boston.png
END:VEVENT
BEGIN:VEVENT
DTSTART;TZID=America/New_York:20220515T160000
DTEND;TZID=America/New_York:20220515T170000
DTSTAMP:20260421T074422
CREATED:20211012T161136Z
LAST-MODIFIED:20211012T161136Z
UID:10019142-1652630400-1652634000@newtonculture.org
SUMMARY:Cappella Clausura presents: Psalms and Requiems
DESCRIPTION:This year\, we are proud to crack open the classical canon with a variety of new works by women. With vibrant performances of music spanning continents and centuries\, Artistic Director Amelia LeClair will lead our ensemble in a celebration of live\, in-person performances. Learn more about the four programs we have planned for this season. \nTickets for each concert will become available one month ahead of the opening performance. \nPsalms and Requiems:\nLili Boulanger’s outstanding Psalm 130 with string orchestra and harp\, plus works by Florence Price\, Elena Ruehr\, and Amelia LeClair. \nMay 14th @ 8 PM: Eliot Church in Newton \nMay 15th @ 4 PM: Emmanuel Church in Boston
URL:https://newtonculture.org/event/cappella-clausura-presents-psalms-and-requiems/2022-05-15/
LOCATION:MA
CATEGORIES:Community Event,Music,Performing Arts
ATTACH;FMTTYPE=image/png:https://newtonculture.org/wp-content/uploads/2019/11/4-1-e1634054668755.png
ORGANIZER;CN="Cappella Clausura":MAILTO:manager@clausura.org
END:VEVENT
END:VCALENDAR